Workbook
Name a1208.: TOC!$A$1
Name a1208.: #REF!
Name K2K62: #REF!

Sheet TOC
G12: RESOURCE
G14: MASTER PRICE LIST
G16: NEW PRODUCTS!
E20: FORD | I20: CHEVROLET
D22: 2020-24 FORD PI UTILITY | I22: 2021-24 CHEVY TAHOE
D24: 2020-24 FORD EXPLORER CIVILIAN | I24: 2021-24 CHEVY SUBURBAN SSV
D26: 2018-24 FORD EXPEDITION | I26: 2019-24 CHEVY SILVERADO 1500
D28: 2020-24 FORD F150 | I28: 2020-22 CHEVY SILVERADO 2500
D30: 2020-24 FORD F250
E32: DODGE | I32: PRODUCTS
E34: 2021-23 DODGE CHARGER | I34: Push Bumpers
I35: Prisoner Transport Systems
E36: 2018-24 DODGE DURANGO | I36: Cargo Products
I37: ECO Line Drawers
E38: 2020-24 DODGE RAM | I38: Console Accessories

Sheet RESOURCE
A1: TOC
C9: Limited Warranty
C10: TROY limited warranty covers materials of construction and workmanship. Normal wear and tear and product finishes are not included. Product finishes that bubble and/or flake off in areas not subject to friction are included for one year. Warranty is limited to replacing defective goods and does not include claims of damage to parts not manufactured by TROY PRODUCTS. No claims for labor or damages will be allowed by Seller or Manufacturer nor will Seller or Manufacturer be subject to any further liability. If parts appear to be defective, their use should be immediately discontinued and the Seller notified promptly so the matter can be investigated without delay. If upon investigation by TROY PRODUCTS it is discovered that the causes of failure were due to conditions beyond the control of TROY or misuse or abuse, all guarantees are void.
D11: Warranty Periods:
D12: Consoles | G12: 5 Years
D13: Console Accessories | G13: 2 Years
D14: Equipment Trays | G14: 5 Years
D15: Computer Mounts | G15: 2 Years
D16: Partitions | G16: 5 Years
D17: Partition Accessories | G17: 5 Years
D18: Trunk Organizers | G18: 5 Years
D19: PTS by TROY Plastic Seats | G19: 1 Year
D20: Weapon/Storage Boxes | G20: 2 Years
D21: Command Post | G21: 2 Years
D22: Custom Products | G22: 1 Year
D23: Product Finishes | G23: 1 Year
C28: Returns
C29: In the event you receive an incorrect part or mistakenly order the wrong part and you wish to return it, please follow these steps:
C31: *Call our Product Support team for a return authorization number: 800-700-8769 / email: PRODUCTSUPPORT@TROYPRODUCTS.COM
C33: * Purchase order number and your TROY invoice number available to expedite the process.
C35: * Reason for your return; this will be reviewed by management for approval.
C37: * Customer is responsible for the shipping cost if the return is not a TROY error.
C39: * Approved returns; R.A. number will be issued. It is REQUIRED to mark the package with this number, otherwise the shipment will be rejected/returned to sender.
C41: * 20% RESTOCK FEE will apply for items returned by choice of the customer; does not apply if the return was due to a TROY error.
C43: * All returned item(s) MUST be securely packaged to avoid damage. If the returned item(s) arrive damaged due to improper packaging; credit will not be issued.
C45: * Email a photo of the securely packaged box(es) prior to shipping along with tracking information.
C47: If replacement of a part is required, TROY will send out the part as quickly as possible. A new invoice for product and shipping will accompany the replacement part(s) and remain valid as a receivable until the original items are received and deemed to be in good condition. At that time, a credit memo will be issued to void this second invoice, less any applicable charges (shipping costs, re-stocking fees, etc.).
C54: Credit Memos
... C106: TROY PRODUCTS values your business and are committed in providing you with high quality products and service.

Sheet NEW PRODUCTS
A1: TOC | B1: NEW PRODUCTS | D1: 0.05
A2: TROY PART # | B2: ITEM DESCRIPTION | C2: MSRP | D2: DISCOUNT %
A4: VEHICLE-SPECIFIC CONSOLES
B5: Chevy Silverado 1500 Vehicle-Specific (Cannot be transferred to other vehicles)
A6: ='MASTER PRICE LIST'!A92 -> CC-22S1-0713-OS-L | B6: ='MASTER PRICE LIST'!B92 -> 2021-24 Chevy Silverado 1500 20" Wide body console w/ lockable storage area, 7" slope, 13" level (no floor plate needed, mounts directly to floor) | C6: ='MASTER PRICE LIST'!C92 -> 1050 | D6: =C6-(C6*$D$1) -> 997.5
A7: ='MASTER PRICE LIST'!A95 -> CC-22S1-0713-PRTR | B7: ='MASTER PRICE LIST'!B95 -> 2021-24 Chevy Silverado 1500 20" Printer console 7" slope, 13" level. Open storage on the slope section of pass. side - Special cover plate and rails sold separately; AC-RAIL-7-LA and SP-F-TH-7N (recommended with computer side mount) | C7: ='MASTER PRICE LIST'!C95 -> 1150 | D7: =C7-(C7*$D$1) -> 1092.5
B8: Dodge Durango Vehicle-Specific (Cannot be transferred to other vehicles)
A9: ='MASTER PRICE LIST'!A111 -> CC-21DUR-PRTR-14 | B9: ='MASTER PRICE LIST'!B111 -> 2021-24 Durango 14" Printer console features 4" slope, 10" level of face plate space | C9: ='MASTER PRICE LIST'!C111 -> 868 | D9: =C9-(C9*$D$1) -> 824.6
A11: CONSOLE ACCESSORIES / VEHICLE ACCESSORIES
A12: ='MASTER PRICE LIST'!A235 -> AC-CCHY-BH | B12: ='MASTER PRICE LIST'!B235 -> 4" Durable high-impact polymer internal dual beverage holder; includes a larger size cup holder, for size water bottles or tumblers 18-32oz along with a standard size holder. | C12: ='MASTER PRICE LIST'!C235 -> 45 | D12: =C12-(C12*$D$1) -> 42.75
A13: ='MASTER PRICE LIST'!A320 -> AC-PHMAG | B13: ='MASTER PRICE LIST'!B320 -> Magnetic phone mount; includes (2) mounting disc and (2) device plates | C13: ='MASTER PRICE LIST'!C320 -> 85 | D13: ='MASTER PRICE LIST'!D320 -> 80.75
A14: ='MASTER PRICE LIST'!A321 -> AC-PHMNT-MAG | B14: ='MASTER PRICE LIST'!B321 -> Cradle magnetic phone mount; includes (2) mounting disc | C14: ='MASTER PRICE LIST'!C321 -> 109 | D14: ='MASTER PRICE LIST'!D321 -> 103.55
A15: ='MASTER PRICE LIST'!A322 -> FP-PHNMNT | B15: ='MASTER PRICE LIST'!B322 -> 2" face plate w/phone cradle and mount; (1) USB-C 4 amp and USB 3 amp port | C15: ='MASTER PRICE LIST'!C322 -> 200 | D15: ='MASTER PRICE LIST'!D322 -> 190
A16: ='MASTER PRICE LIST'!A486 -> FP-W-CANX | B16: ='MASTER PRICE LIST'!B486 -> 3" Whelen Core WeCanX 6 Button/Knob Ctrl Head CCTL9 | C16: ='MASTER PRICE LIST'!C486 -> 50 | D16: =C16-(C16*$D$1) -> 47.5
A17: ='MASTER PRICE LIST'!A495 -> FP-WCORE-S | B17: ='MASTER PRICE LIST'!B495 -> 4" Whelen Cencom Core-S Remote Siren | C17: ='MASTER PRICE LIST'!C495 -> 50 | D17: =C17-(C17*$D$1) -> 47.5
A19: VEHICLE SPECIFIC COMPUTER MOUNT
A20: ='MASTER PRICE LIST'!A637 -> CM-CHV19-SA-LT17 | B20: ='MASTER PRICE LIST'!B637 -> 20219-24 Silverado passenger seat mnt w/swing arm and laptop tray up to 17" wide | C20: ='MASTER PRICE LIST'!C637 -> 863 | D20: =C20-(C20*$D$1) -> 819.85
A21: ='MASTER PRICE LIST'!A638 -> CM-CHV19-SA-LT16 | B21: ='MASTER PRICE LIST'!B638 -> 2019-24 Silverado passenger seat mnt w/swing arm and laptop tray up to 15" wide. Includes CM-LT1600. | C21: ='MASTER PRICE LIST'!C638 -> 913 | D21: =C21-(C21*$D$1) -> 867.35
A22: ='MASTER PRICE LIST'!A639 -> CM-CHV19-SL-LT17 | B22: ='MASTER PRICE LIST'!B639 -> 2019-24 Silverado Ht. adjustable seat mnt w/slide arm and laptop tray up to 17" wide | C22: ='MASTER PRICE LIST'!C639 -> 1067 | D22: =C22-(C22*$D$1) -> 1013.65
A23: ='MASTER PRICE LIST'!A640 -> CM-CHV19-SL-LT16 | B23: ='MASTER PRICE LIST'!B640 -> 2019-24 Silverado - Ht. adjustable seat mnt w/slide arm and laptop tray up to 15" wide. Includes CM-LT1600. | C23: ='MASTER PRICE LIST'!C640 -> 1117 | D23: =C23-(C23*$D$1) -> 1061.15
A25: WEAPON MOUNT
A26: ='MASTER PRICE LIST'!A720 -> GM-21TH-SGL | B26: ='MASTER PRICE LIST'!B720 -> 2021-24 Tahoe | 2021-24 Suburban free standing single weapon mount. Weapon locks sold separately. | C26: ='MASTER PRICE LIST'!C720 -> 400 | D26: =C26-(C26*$D$1) -> 380
A28: FRONT PARTITION FULL KITS: CHEVY SILVERADO 1500
B29: Chevy Silverado 1500 Partition Kits; Include FS Partition, Partition Mounting Kit and 3 pc. Kick Panel
A30: ='MASTER PRICE LIST'!A884 -> KIT-TP-SL6-21S1-SS | B30: ='MASTER PRICE LIST'!B884 -> 2022-24 Silverado Partition Kit (TP-E-SL6-FS-SS, PM-21TH, KP-CHV19-SS) | C30: ='MASTER PRICE LIST'!C884 -> 1258 | D30: =C30-(C30*$D$1) -> 1195.1
A31: ='MASTER PRICE LIST'!A885 -> KIT-TP-SL1-21S1-SS | B31: ='MASTER PRICE LIST'!B885 -> 2022-24 Silverado Partition Kit (TP-E-SL1-FS-SS, PM-21TH, KP-CHV19-SS) | C31: ='MASTER PRICE LIST'!C885 -> 1271 | D31: =C31-(C31*$D$1) -> 1207.45
A32: ='MASTER PRICE LIST'!A886 -> KIT-TP-SL12-21S1-SS | B32: ='MASTER PRICE LIST'!B886 -> 2022-24 Silverado Partition Kit (TP-E-SL12-FS-SS, PM-21TH, KP-CHV19-SS) | C32: ='MASTER PRICE LIST'!C886 -> 1258 | D32: =C32-(C32*$D$1) -> 1195.1
A34: REAR PARTITION WITH HINGED EQUIPMENT TRAY
A35: ='MASTER PRICE LIST'!A1096 -> TP-20-FDUV-H-R | B35: ='MASTER PRICE LIST'!B1096 -> 2020-24 PI Utility | 2020-24 Explorer Civilian rear partition with hinged equipment tray, square-hole window and square-hole side panels. | C35: ='MASTER PRICE LIST'!C1096 -> 1110 | D35: =C35-(C35*$D$1) -> 1054.5
A36: ='MASTER PRICE LIST'!A1097 -> TP-20-FDUV-H-FX2 | B36: ='MASTER PRICE LIST'!B1097 -> 2020-24 PI Utility | 2020-24 Explorer Civilian rear partition with hinged equipment tray, square-hole window, driver and pass. side fire ext. compartment | C36: ='MASTER PRICE LIST'!C1097 -> 1456 | D36: =C36-(C36*$D$1) -> 1383.2
A38: REAR PARTITION ACCESSORIES
A39: ='MASTER PRICE LIST'!A1143 -> AC-21DUR-RGP2 | B39: ='MASTER PRICE LIST'!B1143 -> 2021-24 Dodge Durango rear cage airbag corridor gap panels, set of driver and passenger sides | C39: ='MASTER PRICE LIST'!C1143 -> 140 | D39: =C39-(C39*$D$1) -> 133
A41: VEHICLES SPECIFIC REAR PARTITIONS WITH PRISONER TRANSPORT SEAT / SINGLE CELL KIT
B42: FORD PI Utility Full Bench Plastic Seat System
A43: ='MASTER PRICE LIST'!A1157 -> PS-20-FDUV-OS-R-H | B43: ='MASTER PRICE LIST'!B1157 -> 2020-24 PI Utility plastic seat with OS belts, rear partition (square-hole) with hinged equipment tray, square-hole side walls | C43: ='MASTER PRICE LIST'!C1157 -> 3093 | D43: =C43-(C43*$D$1) -> 2938.35
A44: ='MASTER PRICE LIST'!A1160 -> PS-20-UVFX-OS-R-H | B44: ='MASTER PRICE LIST'!B1160 -> 2020-24 PI Utility Plastic seat with OS belts, rear partition (square-hole) with hinged equipment tray, with DS fire compartment | C44: ='MASTER PRICE LIST'!C1160 -> 3193 | D44: =C44-(C44*$D$1) -> 3033.35
B45: Chevy Silverado 1500 Full Bench Plastic Seat System
A46: ='MASTER PRICE LIST'!A1186 -> PS-21S1-OSPST-CWS | B46: ='MASTER PRICE LIST'!B1186 -> 2021-24 Silverado 1500 Bench plastic seat with OS belt system and cab window screen. | C46: ='MASTER PRICE LIST'!C1186 -> 3725 | D46: =C46-(C46*$D$1) -> 3538.75
A47: ='MASTER PRICE LIST'!A1187 -> PS-21S1-OSPST-DBX-CWS | B47: ='MASTER PRICE LIST'!B1187 -> 2021-24 Silverado 1500 Bench plastic seat with OS belt system, dual storage seat box and cab window screen. | C47: ='MASTER PRICE LIST'!C1187 -> 4825 | D47: =C47-(C47*$D$1) -> 4583.75
B48: Chevy Silverado 1500 Single Cell Kit
...

Sheet MASTER PRICE LIST
A1: TOC | B1: TROY PRODUCTS MASTER PRICE LIST | D1: 0.05 | E1: Updates
B2: PRODUCT DESCRIPTION | C2: MSRP | D2: DISCOUNT %
A4: VEHICLE SPECIFIC CONSOLES
A5: FORD
B6: PI Utility Consoles - Vehicle-Specific; OEM mounting points must be used (Cannot be transferred to different vehicles)
A7: CC-UV20-L-18 | B7: 2020-24 PI Utility 18" L-Shape Console, 7" Slope, 11" Level (no floor plate needed, mounts directly to floor) | C7: 601 | D7: =C7-(C7*$D$1) -> 570.95
A8: CC-UV20-L-20 | B8: 2020-24 PI Utility 20" L-Shape Console, 7" Slope, 13" Level (no floor plate needed, mounts directly to floor) | C8: 626 | D8: =C8-(C8*$D$1) -> 594.7
A9: CC-20-UV10-L8 | B9: 2020-24 PI Utility 18" Sloped console, 10" slope, 8" level (no floor plate needed, mounts directly to floor) | C9: 601 | D9: =C9-(C9*$D$1) -> 570.95
A10: CC-20-UVLP-14 | B10: 2020-24 PI Utility 14" Low-profile Console, 8" Slope, 6" Level (no floor plate needed, mounts directly to floor) | C10: 527 | D10: =C10-(C10*$D$1) -> 500.65
A11: CC-20-UVLP-17 | B11: 2020-24 PI Utility 17" Low-profile Console, 8" Slope, 9" Level (no floor plate needed, mounts directly to floor) | C11: 547 | D11: =C11-(C11*$D$1) -> 519.65
A12: CC-20FDUV-22 | B12: 2020-24 PI Utility 22" Level Console Pre-punched holes for U-mount (no floor plate needed, mounts directly to floor) | C12: 539 | D12: =C12-(C12*$D$1) -> 512.05
A13: CC-20UV-V10 | B13: 2020-24 PI Utility 10" vertical console with dual cupholders and open storage pocket L-Shape arm rest with 5x8 foam pad | C13: 578 | D13: =C13-(C13*$D$1) -> 549.1
B14: *If needed, we will include AC-UV20-HC harness cover for the vehicle-specific consoles*
B16: Ford PI Utility Console Custom Parts
A17: AC-UV20-HC | B17: 2020-24 PI Utility adjustable harness cover made for vehicle-specific consoles. Only for vehicle that include the OEM wire harness cover. | C17: 216 | D17: =C17-(C17*$D$1) -> 205.2
B19: Ford PI Utility Printer Console(Cannot be transferred to different vehicles)
A20: CC-20UV-PRTR | B20: 2020-24 PI Utility Printer Console, 4" slope, 8" level faceplate area | C20: 838 | D20: =C20-(C20*$D$1) -> 796.1
A21: CC-20UV-0414-PRTR | B21: 2020-24 PI Utility 18" Printer Console, 4" slope, 14" level faceplate area | C21: 893 | D21: =C21-(C21*$D$1) -> 848.35
B23: Ford PI Utility ECO Consoles - Vehicle-Specific; OEM mounting points must be used (Cannot be transferred to different vehicles)
A24: CC-ECO-UV20-18 | B24: 2020-24 PI Utility lightweight aluminum console 18" sloped console, 10" slope, 8" level | C24: 641 | D24: =C24-(C24*$D$1) -> 608.95
B26: Ford PI Utility | Explorer Civilian Overhead Consoles - Vehicle-Specific (Cannot be transferred to other vehicles)
A27: CC-UV20-OH | B27: 2020-24 PI Utility | 2020-24 Explorer Civilian Overhead 4"Console - mounts siren control and radio remote head | C27: 392 | D27: =C27-(C27*$D$1) -> 372.4
A28: CC-UV20-OH-WG | B28: 2020-24 PI Utility Custom WatchGuard DV-1 Overhead Console mount | C28: 575 | D28: =C28-(C28*$D$1) -> 546.25
B30: Ford Explorer Civilian Vehicle-Specific Console Insert
A31: SP-UV20-4 | B31: 2020-24 Ford Civilian Explorer 4" insert mount for dashboard | C31: 343 | D31: =C31-(C31*$D$1) -> 325.85
B33: Ford Expedition Over-head Console, Vehicle-Specific (Cannot be transferred to other vehicles)
A34: CC-OH-EXP18-7 | B34: 2018-24 Expedition 7” overhead console; face plates included with console. *Important Disclaimer: Civilian Expedition model will require removal of the bluetooth microphone. | C34: 354 | D34: =C34-(C34*$D$1) -> 336.3
B37: F150 Standard Consoles, Vehicle-Specific (Cannot be transferred to other vehicles)
A38: CC-21F1-0713 | B38: 2021-24 F150 20" standard console; 7" slope, 13" level (no floor plate needed, mounts directly to floor) | C38: 708 | D38: =C38-(C38*$D$1) -> 672.6
B41: F150 | F250 | F350 Wide-Body Consoles, Vehicle-Specific (Cannot be transferred to other vehicles)
A42: CC-21F1-0713-OS | B42: 2021-24 F150 | 2023 F250/350 20" wide-body console; open storage along passenger side; 7" slope, 13" level (no floor plate needed, mounts directly to floor) | C42: 920 | D42: =C42-(C42*$D$1) -> 874
A43: CC-21F1-0709-OS | B43: 2021-24 F150 | 2023 F250/350 16" wide-body console; open storage along passenger side; 7" slope, 9" level (no floor plate needed, mounts directly to floor) | C43: 869 | D43: =C43-(C43*$D$1) -> 825.55
B45: F150 Printer Consoles, Vehicle-Specific (Cannot be transferred to other vehicles)
A46: CC-21F1-0709OS-PRTR | B46: 2021-24 F150 16" Printer console 7" slope, 9" level ; open storage on the slope section - Special cover plate and rails sold separately | C46: 1060 | D46: =C46-(C46*D$1) -> 1007
A47: CC-21F1-0713OS-PRTR | B47: 2021-24 F150 20" Printer console 7" slope, 13" level ; open storage on the slope section - Special cover plate and rails sold separately | C47: 1100 | D47: =C47-(C47*D$1) -> 1045
B49: F150 Over-head Console, Vehicle-Specific (Cannot be transferred to other vehicles)
A50: CC-21F1-OH | B50: 2021-24 F150 7” overhead console. Face plates* included in console price | C50: 418 | D50: =C50-(C50*D$1) -> 397.1
B52: F250 Wide-Body Consoles, Vehicle-Specific (Cannot be transferred to other vehicles) Will not work with model year 2023; refer to CC-21F1-0709-OS.
A53: CC-21F2-0709-OS | B53: 2021-22 F250 16" wide-body console; open storage along passenger side; 7" slope, 9" level (no floor plate needed, mounts directly to floor) | C53: 869 | D53: =C53-(C53*$D$1) -> 825.55
B55: F250 Over-head Console, Vehicle-Specific (Cannot be transferred to other vehicles)
...

Sheet 2020-24 FORD PI UTILITY
A1: TOC | B1: 2020 - 2024 FORD PI UTILITY HYBRID AND NON-HYBRID PRICE LIST | D1: 0.05
A2: TROY PART # | B2: ITEM DESCRIPTION | C2: MSRP | D2: DISCOUNT %
A4: Push Bumper Kit with Solid Top Channel Cover
A5: ='MASTER PRICE LIST'!A1586 -> PB-20UV-UPRS | B5: ='MASTER PRICE LIST'!B1586 -> 2020-24 Ford PIU Upright with mounting kit and solid top channel cover | C5: ='MASTER PRICE LIST'!C1586 -> 820 | D5: =C5-(C5*$D$1) -> 779
A7: Push Bumper Kit with Option of 2 or 4 Top Light Channel Bracket
A8: ='MASTER PRICE LIST'!A1599 -> PB-20UV-UPRSML-LT2 | B8: ='MASTER PRICE LIST'!B1599 -> 2020-24 Ford PIU Upright with mounting kit, wire covers and two (2) light channel brackets; provide brand and model of lights | C8: ='MASTER PRICE LIST'!C1599 -> 850 | D8: =C8-(C8*$D$1) -> 807.5
A9: ='MASTER PRICE LIST'!A1600 -> PB-20UV-UPRSML-LT4 | B9: ='MASTER PRICE LIST'!B1600 -> 2020-24 Ford PIU Upright with mounting kit, wire covers and four (4) light channel bracket; provide brand and model of lights | C9: ='MASTER PRICE LIST'!C1600 -> 850 | D9: =C9-(C9*$D$1) -> 807.5
B10: * For emergency lighting brackets; please specify lighting brand, model and the number of lights to be mounted.*
A12: Console Floor Plates | B12: Always indicate year, make and model on your console purchase orders
A13: ='MASTER PRICE LIST'!A185 -> AC-20-FDUV-MNT | B13: ='MASTER PRICE LIST'!B185 -> 2020-24 PI Utility console floor mount used with universal consoles ONLY. | C13: ='MASTER PRICE LIST'!C185 -> 172 | D13: =C13-(C13*$D$1) -> 163.4
A15: ='MASTER PRICE LIST'!$B$6 -> PI Utility Consoles - Vehicle-Specific; OEM mounting points must be used (Cannot be transferred to different vehicles)
A16: ='MASTER PRICE LIST'!A7 -> CC-UV20-L-18 | B16: ='MASTER PRICE LIST'!B7 -> 2020-24 PI Utility 18" L-Shape Console, 7" Slope, 11" Level (no floor plate needed, mounts directly to floor) | C16: ='MASTER PRICE LIST'!C7 -> 601 | D16: =C16-(C16*$D$1) -> 570.95
A17: ='MASTER PRICE LIST'!A8 -> CC-UV20-L-20 | B17: ='MASTER PRICE LIST'!B8 -> 2020-24 PI Utility 20" L-Shape Console, 7" Slope, 13" Level (no floor plate needed, mounts directly to floor) | C17: ='MASTER PRICE LIST'!C8 -> 626 | D17: =C17-(C17*$D$1) -> 594.7
A18: ='MASTER PRICE LIST'!A9 -> CC-20-UV10-L8 | B18: ='MASTER PRICE LIST'!B9 -> 2020-24 PI Utility 18" Sloped console, 10" slope, 8" level (no floor plate needed, mounts directly to floor) | C18: ='MASTER PRICE LIST'!C9 -> 601 | D18: =C18-(C18*$D$1) -> 570.95
A19: ='MASTER PRICE LIST'!A10 -> CC-20-UVLP-14 | B19: ='MASTER PRICE LIST'!B10 -> 2020-24 PI Utility 14" Low-profile Console, 8" Slope, 6" Level (no floor plate needed, mounts directly to floor) | C19: ='MASTER PRICE LIST'!C10 -> 527 | D19: =C19-(C19*$D$1) -> 500.65
A20: ='MASTER PRICE LIST'!A11 -> CC-20-UVLP-17 | B20: ='MASTER PRICE LIST'!B11 -> 2020-24 PI Utility 17" Low-profile Console, 8" Slope, 9" Level (no floor plate needed, mounts directly to floor) | C20: ='MASTER PRICE LIST'!C11 -> 547 | D20: =C20-(C20*$D$1) -> 519.65
A21: ='MASTER PRICE LIST'!A12 -> CC-20FDUV-22 | B21: ='MASTER PRICE LIST'!B12 -> 2020-24 PI Utility 22" Level Console Pre-punched holes for U-mount (no floor plate needed, mounts directly to floor) | C21: ='MASTER PRICE LIST'!C12 -> 539 | D21: =C21-(C21*$D$1) -> 512.05
A22: ='MASTER PRICE LIST'!A13 -> CC-20UV-V10 | B22: ='MASTER PRICE LIST'!B13 -> 2020-24 PI Utility 10" vertical console with dual cupholders and open storage pocket L-Shape arm rest with 5x8 foam pad | C22: ='MASTER PRICE LIST'!C13 -> 578 | D22: =C22-(C22*$D$1) -> 549.1
B23: *If needed, we will include AC-UV20-HC harness cover for the vehicle-specific consoles*
A25: ='MASTER PRICE LIST'!B16 -> Ford PI Utility Console Custom Parts
A26: ='MASTER PRICE LIST'!A17 -> AC-UV20-HC | B26: ='MASTER PRICE LIST'!B17 -> 2020-24 PI Utility adjustable harness cover made for vehicle-specific consoles. Only for vehicle that include the OEM wire harness cover. | C26: ='MASTER PRICE LIST'!C17 -> 216 | D26: =C26-(C26*$D$1) -> 205.2
A28: ='MASTER PRICE LIST'!B19 -> Ford PI Utility Printer Console(Cannot be transferred to different vehicles)
A29: ='MASTER PRICE LIST'!A20 -> CC-20UV-PRTR | B29: ='MASTER PRICE LIST'!B20 -> 2020-24 PI Utility Printer Console, 4" slope, 8" level faceplate area | C29: ='MASTER PRICE LIST'!C20 -> 838 | D29: =C29-(C29*$D$1) -> 796.1
A30: ='MASTER PRICE LIST'!A21 -> CC-20UV-0414-PRTR | B30: ='MASTER PRICE LIST'!B21 -> 2020-24 PI Utility 18" Printer Console, 4" slope, 14" level faceplate area | C30: ='MASTER PRICE LIST'!C21 -> 893 | D30: =C30-(C30*$D$1) -> 848.35
A32: ='MASTER PRICE LIST'!B23 -> Ford PI Utility ECO Consoles - Vehicle-Specific; OEM mounting points must be used (Cannot be transferred to different vehicles)
A33: ='MASTER PRICE LIST'!A24 -> CC-ECO-UV20-18 | B33: ='MASTER PRICE LIST'!B24 -> 2020-24 PI Utility lightweight aluminum console 18" sloped console, 10" slope, 8" level | C33: ='MASTER PRICE LIST'!C24 -> 641 | D33: =C33-(C33*$D$1) -> 608.95
A35: PI Utility Consoles - Vehicle Compatible (Can be transferred to different vehicles)
A36: ='MASTER PRICE LIST'!A138 -> CC-A-S12 | B36: ='MASTER PRICE LIST'!B138 -> Universal 12" 2-pc. ht. adj. sloped console; Flat deck (Top piece can be raised up to 3" higher) | C36: ='MASTER PRICE LIST'!C138 -> 543 | D36: =C36-(C36*$D$1) -> 515.85
A37: ='MASTER PRICE LIST'!A119 -> CC-BPD-15 | B37: ='MASTER PRICE LIST'!B119 -> Universal 15" low-profile L shaped console; 9" slope, 6" level area. Computer deck. | C37: ='MASTER PRICE LIST'!C119 -> 575 | D37: =C37-(C37*$D$1) -> 546.25
A38: ='MASTER PRICE LIST'!A124 -> CC-LASD-15 | B38: ='MASTER PRICE LIST'!B124 -> Universal 15" L-shaped console w/computer deck: 7" slope, 8" level. Rocker switch hole pre-punched on deck. | C38: ='MASTER PRICE LIST'!C124 -> 549 | D38: =C38-(C38*$D$1) -> 521.55
A40: Vehicle-Specific Overhead Consoles
A41: ='MASTER PRICE LIST'!A27 -> CC-UV20-OH | B41: ='MASTER PRICE LIST'!B27 -> 2020-24 PI Utility | 2020-24 Explorer Civilian Overhead 4"Console - mounts siren control and radio remote head | C41: ='MASTER PRICE LIST'!C27 -> 392 | D41: =C41-(C41*$D$1) -> 372.4
A42: ='MASTER PRICE LIST'!A28 -> CC-UV20-OH-WG | B42: ='MASTER PRICE LIST'!B28 -> 2020-24 PI Utility Custom WatchGuard DV-1 Overhead Console mount | C42: ='MASTER PRICE LIST'!C28 -> 575 | D42: =C42-(C42*$D$1) -> 546.25
A44: Popular Internal Console Accessories
A45: ='MASTER PRICE LIST'!A235 -> AC-CCHY-BH | B45: ='MASTER PRICE LIST'!B235 -> 4" Durable high-impact polymer internal dual beverage holder; includes a larger size cup holder, for size water bottles or tumblers 18-32oz along with a standard size holder. | C45: ='MASTER PRICE LIST'!C235 -> 45 | D45: =C45-(C45*$D$1) -> 42.75
A46: ='MASTER PRICE LIST'!A238 -> AC-INBHG | B46: ='MASTER PRICE LIST'!B238 -> 4" internal dual beverage holder. Includes rubber fingers to keep cup stabilized. | C46: ='MASTER PRICE LIST'!C238 -> 64 | D46: =C46-(C46*$D$1) -> 60.8
A47: ='MASTER PRICE LIST'!A245 -> AC-TICK-2 | B47: ='MASTER PRICE LIST'!B245 -> 3" face plate shallow tray; holds smartphone, keys, wallet, sunglasses, etc. 2" H. | C47: ='MASTER PRICE LIST'!C245 -> 53 | D47: =C47-(C47*$D$1) -> 50.35
A48: ='MASTER PRICE LIST'!A336 -> FP-USBC-2DC | B48: ='MASTER PRICE LIST'!B336 -> 2" face plate combo USB-C /USB port and (2) DC outlets | C48: ='MASTER PRICE LIST'!C336 -> 90 | D48: =C48-(C48*$D$1) -> 85.5
A49: ='MASTER PRICE LIST'!A246 -> FP-SGTRAY | B49: ='MASTER PRICE LIST'!B246 -> 4" face plate shallow tray w/sloped floor; holds smartphone, keys, wallet, sunglasses, etc. 1.75" H. | C49: ='MASTER PRICE LIST'!C246 -> 50 | D49: =C49-(C49*$D$1) -> 47.5
A50: ='MASTER PRICE LIST'!A250 -> AC-GUNBOX-6-LP | B50: ='MASTER PRICE LIST'!B250 -> 6" internal lidded locking low-profile internal storage box (may not accommodate handgun) 3.6" H. | C50: ='MASTER PRICE LIST'!C250 -> 173 | D50: =C50-(C50*$D$1) -> 164.35
...

Sheet 2020-24 FORD EXPLORER CIVILIAN
A1: TOC | B1: 2020 - 2024 FORD EXPLORER CIVILIAN MODEL | D1: 0.05
A2: TROY PART # | B2: ITEM DESCRIPTION | C2: MSRP | D2: DISCOUNT %
A4: Console Floor Plate - Not available for this model.
A6: Ford Civilian Explorer Vehicle-Specific Console Insert
A7: ='MASTER PRICE LIST'!A31 -> SP-UV20-4 | B7: ='MASTER PRICE LIST'!B31 -> 2020-24 Ford Civilian Explorer 4" insert mount for dashboard | C7: ='MASTER PRICE LIST'!C31 -> 343 | D7: =C7-(C7*$D$1) -> 325.85
A9: Vehicle-Specific Overhead Consoles
A10: ='MASTER PRICE LIST'!A27 -> CC-UV20-OH | B10: ='MASTER PRICE LIST'!B27 -> 2020-24 PI Utility | 2020-24 Explorer Civilian Overhead 4"Console - mounts siren control and radio remote head | C10: ='MASTER PRICE LIST'!C27 -> 392 | D10: =C10-(C10*$D$1) -> 372.4
A12: COMPUTER MOUNTS
A13: Passenger-Seat Computer Mounts (Passenger space is not compromised)
A14: ='MASTER PRICE LIST'!A602 -> CM-UV20-SA-LED | B14: ='MASTER PRICE LIST'!B602 -> 2020-24 PI Utility | 2020-24 Explorer Civilian passenger seat mount w/swing arm dock. | C14: ='MASTER PRICE LIST'!C602 -> 572 | D14: =C14-(C14*$D$1) -> 543.4
A15: ='MASTER PRICE LIST'!A603 -> CM-UV20-SA-LT17 | B15: ='MASTER PRICE LIST'!B603 -> 2020-24 PI Utility | 2020-24 Explorer Civilian passenger seat mount w/swing arm and laptop tray up to 17" wide | C15: ='MASTER PRICE LIST'!C603 -> 721 | D15: =C15-(C15*$D$1) -> 684.95
A16: ='MASTER PRICE LIST'!A604 -> CM-UV20-SA-LT16 | B16: ='MASTER PRICE LIST'!B604 -> 2020-24 PI Utility | 2020-24 Explorer Civilian passenger seat mount w/swing arm and laptop tray up to 15" wide. Includes CM-LT1600. | C16: ='MASTER PRICE LIST'!C604 -> 771 | D16: =C16-(C16*$D$1) -> 732.45
A17: ='MASTER PRICE LIST'!A605 -> CM-UV20-SL-LED | B17: ='MASTER PRICE LIST'!B605 -> 2020-24 PI Utility | 2020-24 Explorer Civilian passenger seat mount w/slide arm dock. | C17: ='MASTER PRICE LIST'!C605 -> 769 | D17: =C17-(C17*$D$1) -> 730.55
A18: ='MASTER PRICE LIST'!A606 -> CM-UV20-SL-LT17 | B18: ='MASTER PRICE LIST'!B606 -> 2020-24 PI Utility | 2020-24 Explorer Civilian passenger seat mount w/slide arm and laptop tray up to 17" wide | C18: ='MASTER PRICE LIST'!C606 -> 849 | D18: =C18-(C18*$D$1) -> 806.55
A19: ='MASTER PRICE LIST'!A607 -> CM-UV20-SL-LT16 | B19: ='MASTER PRICE LIST'!B607 -> 2020-24 PI Utility | 2020-24 Explorer Civilian passenger seat mount w/slide arm and laptop tray up to 15" wide. Includes CM-LT1600. | C19: ='MASTER PRICE LIST'!C607 -> 899 | D19: =C19-(C19*$D$1) -> 854.05
A21: Laptop Accessories
A22: ='MASTER PRICE LIST'!A593 -> AC-LT-SCR | B22: ='MASTER PRICE LIST'!B593 -> Laptop screen holder; compatible w/ TROY laptop trays | C22: ='MASTER PRICE LIST'!C593 -> 92 | D22: =C22-(C22*$D$1) -> 87.4
A23: ='MASTER PRICE LIST'!A594 -> AC-LT13-CLAMP | B23: ='MASTER PRICE LIST'!B594 -> Laptop tray finger clamp, vinyl cap | C23: ='MASTER PRICE LIST'!C594 -> 12 | D23: =C23-(C23*$D$1) -> 11.4
A25: Weapon Mount Kits: Single / Dual
B26: ='MASTER PRICE LIST'!B704 -> Single Weapon Mount Kits
A27: ='MASTER PRICE LIST'!A705 -> KT-GM-SGL-SC6 | B27: ='MASTER PRICE LIST'!B705 -> Single weapon mount w/SC6 lock and brackets | C27: ='MASTER PRICE LIST'!C705 -> 455 | D27: =C27-(C27*$D$1) -> 432.25
A28: ='MASTER PRICE LIST'!A706 -> KT-GM-SGL-SC1 | B28: ='MASTER PRICE LIST'!B706 -> Single weapon mount w/SC1 lock and brackets | C28: ='MASTER PRICE LIST'!C706 -> 379 | D28: =C28-(C28*$D$1) -> 360.05
A29: ='MASTER PRICE LIST'!A707 -> KT-GM-SGL-SC1AR | B29: ='MASTER PRICE LIST'!B707 -> Single weapon mount w/SC1/AR AR15 lock, No. 2 key and brackets | C29: ='MASTER PRICE LIST'!C707 -> 419 | D29: =C29-(C29*$D$1) -> 398.05
B30: ='MASTER PRICE LIST'!B708 -> Dual Weapon Mount Kits
A31: ='MASTER PRICE LIST'!A709 -> KT-GM-SGRF-SC6-1 | B31: ='MASTER PRICE LIST'!B709 -> Dual weapon mount w/ SC6 lock, SC1 shotgun lock with No. 2 key and brackets | C31: ='MASTER PRICE LIST'!C709 -> 701 | D31: =C31-(C31*$D$1) -> 665.95
A32: ='MASTER PRICE LIST'!A710 -> KT-GM-SGRF-SC6-1AR | B32: ='MASTER PRICE LIST'!B710 -> Dual weapon mount w/SC6 lock, SC1/AR AR15 lock with No. 2 Key and brackets | C32: ='MASTER PRICE LIST'!C710 -> 741 | D32: =C32-(C32*$D$1) -> 703.95
A33: ='MASTER PRICE LIST'!A711 -> KT-GM-SGRF-SC1-1AR | B33: ='MASTER PRICE LIST'!B711 -> Dual weapon mount w/SC1 shotgun lock, SC1/AR AR15 lock with No. 2 Key and brackets | C33: ='MASTER PRICE LIST'!C711 -> 665 | D33: =C33-(C33*$D$1) -> 631.75
A35: ='MASTER PRICE LIST'!B836 -> Ford PI Utility | Ford Explorer Civilian Partition Kits; Includes US Partition, Partition Mounting Kit and 3 pc. Kick Panel
A36: ='MASTER PRICE LIST'!A837 -> KIT-TP-SL6U-BB-SS | B36: ='MASTER PRICE LIST'!B837 -> 2020-24 PI Utility | 2020-24 Explorer Civilian US Partition Kit (TP-E-SL6-US-SS, SAB-20-FDUV-BB, KP-UV20-DAP-SS) | C36: ='MASTER PRICE LIST'!C837 -> 1289 | D36: =C36-(C36*$D$1) -> 1224.55
A37: ='MASTER PRICE LIST'!A838 -> KIT-TP-SL1U-BB-SS | B37: ='MASTER PRICE LIST'!B838 -> 2020-24 PI Utility | 2020-24 Explorer Civilian US Partition Kit (TP-E-SL1-US-SS, SAB-20-FDUV-BB, KP-UV20-DAP-SS) | C37: ='MASTER PRICE LIST'!C838 -> 1301 | D37: =C37-(C37*$D$1) -> 1235.95
A39: Partitions: Universal Sedan Size; Standard Frame
B40: ='MASTER PRICE LIST'!B751 -> Sliding Window Models
A41: ='MASTER PRICE LIST'!$A$752 -> TP-E-SL1-US-SS | B41: ='MASTER PRICE LIST'!B752 -> US size, Recessed Panel; Sliding window; Vertical bar crawl-thru prevention bracket | C41: ='MASTER PRICE LIST'!C752 -> 1071 | D41: =C41-(C41*$D$1) -> 1017.45
A42: ='MASTER PRICE LIST'!A753 -> TP-E-SL6-US-SS | B42: ='MASTER PRICE LIST'!B753 -> US size, Recessed Panel; Sliding window; Square-hole punched crawl-thru prevention bracket | C42: ='MASTER PRICE LIST'!C753 -> 1060 | D42: =C42-(C42*$D$1) -> 1007
A43: ='MASTER PRICE LIST'!A754 -> TP-E-SL10-US-SS | B43: ='MASTER PRICE LIST'!B754 -> US size, Recessed Panel; Sliding window; Diamond-hole punched crawl-thru prevention bracket | C43: ='MASTER PRICE LIST'!C754 -> 1060 | D43: =C43-(C43*$D$1) -> 1007
B44: Non-Sliding Fixed Window Models
A45: ='MASTER PRICE LIST'!A757 -> TP-E-SL2-US-SS | B45: ='MASTER PRICE LIST'!B757 -> US size, Recessed Panel; Fixed window; all polycarbonate w/pre-punched ventilation holes | C45: ='MASTER PRICE LIST'!C757 -> 1097 | D45: =C45-(C45*$D$1) -> 1042.15
A46: ='MASTER PRICE LIST'!A758 -> TP-E-SL3-US-SS | B46: ='MASTER PRICE LIST'!B758 -> US size, Recessed Panel; Fixed window; 50% Polycarbonate/50% Square-hole punched | C46: ='MASTER PRICE LIST'!C758 -> 1060 | D46: =C46-(C46*$D$1) -> 1007
B48: Big-Boy Mounting Kit & Kick Panels for Standard Frame Partitions
A49: ='MASTER PRICE LIST'!A815 -> SAB-20-FDUV-BB | B49: ='MASTER PRICE LIST'!B815 -> 2020-24 PI Utility | 2020-24 Explorer Civilian Big-Boy partition mounting kit. Extra seat-back recline. | C49: ='MASTER PRICE LIST'!C815 -> 382 | D49: =C49-(C49*$D$1) -> 362.9
...

Sheet 2018-24 FORD EXPEDITION
A1: TOC | B1: 2018 - 2024 FORD EXPEDITION PRICE LIST | D1: 0.05
A2: TROY PART # | B2: ITEM DESCRIPTION | C2: MSRP | D2: DISCOUNT %
A4: Push Bumper Kit with Solid Top Channel Cover
A5: ='MASTER PRICE LIST'!A1587 -> PB-18XP-UPRS | B5: ='MASTER PRICE LIST'!B1587 -> 2018-24 Ford Expedition Upright with mounting kit and solid top channel cover | C5: ='MASTER PRICE LIST'!C1587 -> 870 | D5: =C5-(C5*$D$1) -> 826.5
A7: Push Bumper Kit with Option of 2 or 4 Top Light Channel Bracket
A8: ='MASTER PRICE LIST'!A1603 -> PB-18XP-UPRLRG-LT2 | B8: ='MASTER PRICE LIST'!B1603 -> 2018-24 Ford Expedition Upright with mounting kit, wire covers and two (2) light channel bracket; provide brand and model of lights | C8: ='MASTER PRICE LIST'!C1603 -> 900 | D8: =C8-(C8*$D$1) -> 855
A9: ='MASTER PRICE LIST'!A1604 -> PB-18XP-UPRLRG-LT4 | B9: ='MASTER PRICE LIST'!B1604 -> 2018-24 Ford Expedition Upright with mounting kit, wire covers and four (4) light channel bracket; provide brand and model of lights | C9: ='MASTER PRICE LIST'!C1604 -> 900 | D9: =C9-(C9*$D$1) -> 855
B10: * For emergency lighting brackets; please specify lighting brand, model and the number of lights to be mounted.*
A12: Console Floor Plates - Always indicate year, make and model on your console purchase orders
A13: ='MASTER PRICE LIST'!A187 -> AC-F150-15-MNT | B13: ='MASTER PRICE LIST'!B187 -> 2020-24 F150 | 2020-24 F250-350 | 2018-24 Expedition console floor plate. For bucket seat trucks or factory console removed. | C13: ='MASTER PRICE LIST'!C187 -> 212 | D13: =C13-(C13*$D$1) -> 201.4
A15: SUV Expedition Standard-Width Consoles (Can be transferred to other vehicles)
A16: ='MASTER PRICE LIST'!A171 -> CC-MC-14 | B16: ='MASTER PRICE LIST'!B171 -> Universal MC 14" L-shape console: 7" slope, 7" level. | C16: ='MASTER PRICE LIST'!C171 -> 548 | D16: =C16-(C16*$D$1) -> 520.6
A17: ='MASTER PRICE LIST'!A172 -> CC-MC-18 | B17: ='MASTER PRICE LIST'!B172 -> Universal MC 18" L-shape console; 7" slope, 11" level. | C17: ='MASTER PRICE LIST'!C172 -> 587 | D17: =C17-(C17*$D$1) -> 557.65
A18: ='MASTER PRICE LIST'!A173 -> CC-MC-22 | B18: ='MASTER PRICE LIST'!B173 -> Universal MC 22" L-shape console; 7" slope, 15" level. | C18: ='MASTER PRICE LIST'!C173 -> 636 | D18: =C18-(C18*$D$1) -> 604.2
A20: ='MASTER PRICE LIST'!B147 -> Universal Wide-Body Consoles for Large SUVs/Trucks
A21: ='MASTER PRICE LIST'!A148 -> CC-HDWB-20 | B21: ='MASTER PRICE LIST'!B148 -> Universal SUV/truck 20" wide-body console; 8" slope, 12" level. No open storage. Face plates centered. | C21: ='MASTER PRICE LIST'!C148 -> 789 | D21: =C21-(C21*$D$1) -> 749.55
A22: ='MASTER PRICE LIST'!A149 -> CC-HDWB-25 | B22: ='MASTER PRICE LIST'!B149 -> Universal SUV/truck 25" wide-body console; 8" slope, 17" level. No open storage. Face plates centered. | C22: ='MASTER PRICE LIST'!C149 -> 815 | D22: =C22-(C22*$D$1) -> 774.25
A24: SUV Expedition Wide-Body Consoles (Can be transferred to other trucks)
A25: ='MASTER PRICE LIST'!A153 -> CC-WBOS-16 | B25: ='MASTER PRICE LIST'!B153 -> Universal SUV/truck 16" Wide-body open-storage console; 8" slope, 8" level. | C25: ='MASTER PRICE LIST'!C153 -> 794 | D25: =C25-(C25*$D$1) -> 754.3
A26: ='MASTER PRICE LIST'!A154 -> CC-WBOS-20 | B26: ='MASTER PRICE LIST'!B154 -> Universal SUV/truck 20" Wide-body open-storage console; 8" slope, 12" level. | C26: ='MASTER PRICE LIST'!C154 -> 815 | D26: =C26-(C26*$D$1) -> 774.25
A27: ='MASTER PRICE LIST'!A156 -> CC-WBOS-25 | B27: ='MASTER PRICE LIST'!B156 -> Universal SUV/truck 25" Wide-body open-storage console; 8" slope, 17" level. | C27: ='MASTER PRICE LIST'!C156 -> 840 | D27: =C27-(C27*$D$1) -> 798
A28: Note: CC-WBOS-16 is recommended size if also you want to install a file box, especially AC-FHDFB, a large-size file box w/pad to mate the wide-body consoles.
A30: ='MASTER PRICE LIST'!B33 -> Ford Expedition Over-head Console, Vehicle-Specific (Cannot be transferred to other vehicles)
A31: ='MASTER PRICE LIST'!A34 -> CC-OH-EXP18-7 | B31: ='MASTER PRICE LIST'!B34 -> 2018-24 Expedition 7” overhead console; face plates included with console. *Important Disclaimer: Civilian Expedition model will require removal of the bluetooth microphone. | C31: ='MASTER PRICE LIST'!C34 -> 354 | D31: =C31-(C31*$D$1) -> 336.3
A33: Popular Internal Console Accessories
A34: ='MASTER PRICE LIST'!A235 -> AC-CCHY-BH | B34: ='MASTER PRICE LIST'!B235 -> 4" Durable high-impact polymer internal dual beverage holder; includes a larger size cup holder, for size water bottles or tumblers 18-32oz along with a standard size holder. | C34: ='MASTER PRICE LIST'!C235 -> 45 | D34: =C34-(C34*$D$1) -> 42.75
A35: ='MASTER PRICE LIST'!A238 -> AC-INBHG | B35: ='MASTER PRICE LIST'!B238 -> 4" internal dual beverage holder. Includes rubber fingers to keep cup stabilized. | C35: ='MASTER PRICE LIST'!C238 -> 64 | D35: =C35-(C35*$D$1) -> 60.8
A36: ='MASTER PRICE LIST'!A245 -> AC-TICK-2 | B36: ='MASTER PRICE LIST'!B245 -> 3" face plate shallow tray; holds smartphone, keys, wallet, sunglasses, etc. 2" H. | C36: ='MASTER PRICE LIST'!C245 -> 53 | D36: =C36-(C36*$D$1) -> 50.35
A37: ='MASTER PRICE LIST'!A246 -> FP-SGTRAY | B37: ='MASTER PRICE LIST'!B246 -> 4" face plate shallow tray w/sloped floor; holds smartphone, keys, wallet, sunglasses, etc. 1.75" H. | C37: ='MASTER PRICE LIST'!C246 -> 50 | D37: =C37-(C37*$D$1) -> 47.5
A38: ='MASTER PRICE LIST'!A250 -> AC-GUNBOX-6-LP | B38: ='MASTER PRICE LIST'!B250 -> 6" internal lidded locking low-profile internal storage box (may not accommodate handgun) 3.6" H. | C38: ='MASTER PRICE LIST'!C250 -> 173 | D38: =C38-(C38*$D$1) -> 164.35
A40: Electronics Face Plates
A41: ='MASTER PRICE LIST'!A333 -> FP-EXP18-USB-DC | B41: ='MASTER PRICE LIST'!B333 -> 2" face plate to re-locate OEM USB and DC outlets to console | C41: ='MASTER PRICE LIST'!C333 -> 37 | D41: =C41-(C41*$D$1) -> 35.15
A42: ='MASTER PRICE LIST'!A336 -> FP-USBC-2DC | B42: ='MASTER PRICE LIST'!B336 -> 2" face plate combo USB-C /USB port and (2) DC outlets | C42: ='MASTER PRICE LIST'!C336 -> 90 | D42: =C42-(C42*$D$1) -> 85.5
A43: ='MASTER PRICE LIST'!A339 -> FP-AP12-3 | B43: ='MASTER PRICE LIST'!B339 -> 2" face plate w/ (3) DC outlet holes | C43: ='MASTER PRICE LIST'!C339 -> 32 | D43: =C43-(C43*$D$1) -> 30.4
A44: ='MASTER PRICE LIST'!A343 -> FP-DECORA | B44: ='MASTER PRICE LIST'!B343 -> 2" face plate w/ (1) AC duplex outlet cut-out. Includes duplex outlet. ** MINIUM ORDER OF (5) IS REQUIRED.** | C44: ='MASTER PRICE LIST'!C343 -> 50 | D44: =C44-(C44*$D$1) -> 47.5
A45: ='MASTER PRICE LIST'!A349 -> FP-AP3 | B45: ='MASTER PRICE LIST'!B349 -> 3" face plate w/ (2) DC outlet holes. ** MINIUM ORDER OF (5) IS REQUIRED.** | C45: ='MASTER PRICE LIST'!C349 -> 33 | D45: =C45-(C45*$D$1) -> 31.35
A46: ='MASTER PRICE LIST'!A329 -> L3-AP1SET | B46: ='MASTER PRICE LIST'!B329 -> 12 Volt DC power outlet plug w/black captured cap | C46: ='MASTER PRICE LIST'!C329 -> 15 | D46: =C46-(C46*$D$1) -> 14.25
A48: Mic Clip Choices
A49: ='MASTER PRICE LIST'!A311 -> AC-MCM1 | B49: ='MASTER PRICE LIST'!B311 -> Dog-ear type microphone clip plate and clip assembly | C49: ='MASTER PRICE LIST'!C311 -> 19 | D49: =C49-(C49*$D$1) -> 18.05
A50: ='MASTER PRICE LIST'!A317 -> AC-MAG-MIC | B50: ='MASTER PRICE LIST'!B317 -> Magnetic Mic holder quickly guides the microphone into place | C50: ='MASTER PRICE LIST'!C317 -> 67 | D50: =C50-(C50*$D$1) -> 63.65
...

Sheet 2020-24 FORD F150
A1: TOC | B1: 2020 - 2024 FORD F150 PRICE LIST | D1: 0.05
A2: TROY PART # | B2: ITEM DESCRIPTION | C2: MSRP | D2: DISCOUNT %
A4: Push Bumper Kit with Solid Top Channel Cover
A5: ='MASTER PRICE LIST'!A1588 -> PB-21F1-UPRS | B5: ='MASTER PRICE LIST'!B1588 -> 2021-24 Ford F150 Upright with mounting kit and solid top channel cover | C5: ='MASTER PRICE LIST'!C1588 -> 870 | D5: =C5-(C5*$D$1) -> 826.5
A7: Push Bumper Kit with Option of 2 or 4 Top Light Channel Bracket
A8: ='MASTER PRICE LIST'!A1607 -> PB-21F1-UPRLRG-LT2 | B8: ='MASTER PRICE LIST'!B1607 -> 2021-24 Ford F150 Upright with mounting kit, wire covers and two (2) light channel bracket; provide brand and model of lights | C8: ='MASTER PRICE LIST'!C1607 -> 900 | D8: =C8-(C8*$D$1) -> 855
A9: ='MASTER PRICE LIST'!A1608 -> PB-21F1-UPRLRG-LT4 | B9: ='MASTER PRICE LIST'!B1608 -> 2021-24 Ford F150 Upright with mounting kit, wire covers and four (4) light channel bracket; provide brand and model of lights | C9: ='MASTER PRICE LIST'!C1608 -> 900 | D9: =C9-(C9*$D$1) -> 855
B10: * For emergency lighting brackets; please specify lighting brand, model and the number of lights to be mounted.*
A12: Console Floor Plates | B12: Always indicate year, make and model on your console purchase orders
A13: ='MASTER PRICE LIST'!A186 -> AC-F150-15 | B13: 2015-21 Ford F150 floor plate for applications where center seat is removed. For universal consoles. | C13: ='MASTER PRICE LIST'!$C$186 -> 199 | D13: =C13-(C13*$D$1) -> 189.05
A14: ='MASTER PRICE LIST'!A187 -> AC-F150-15-MNT | B14: 2015-21 Ford F150 floor plate for bucket seat trucks or factory console removed. For universal consoles. | C14: ='MASTER PRICE LIST'!C187 -> 212 | D14: =C14-(C14*$D$1) -> 201.4
A16: F150 Standard Consoles, Vehicle-Specific (Cannot be transferred to other vehicles)
A17: ='MASTER PRICE LIST'!A38 -> CC-21F1-0713 | B17: ='MASTER PRICE LIST'!B38 -> 2021-24 F150 20" standard console; 7" slope, 13" level (no floor plate needed, mounts directly to floor) | C17: ='MASTER PRICE LIST'!C38 -> 708 | D17: =C17-(C17*$D$1) -> 672.6
A19: ='MASTER PRICE LIST'!B41 -> F150 | F250 | F350 Wide-Body Consoles, Vehicle-Specific (Cannot be transferred to other vehicles)
A20: ='MASTER PRICE LIST'!A42 -> CC-21F1-0713-OS | B20: ='MASTER PRICE LIST'!B42 -> 2021-24 F150 | 2023 F250/350 20" wide-body console; open storage along passenger side; 7" slope, 13" level (no floor plate needed, mounts directly to floor) | C20: ='MASTER PRICE LIST'!C42 -> 920 | D20: =C20-(C20*$D$1) -> 874
A21: ='MASTER PRICE LIST'!A43 -> CC-21F1-0709-OS | B21: ='MASTER PRICE LIST'!B43 -> 2021-24 F150 | 2023 F250/350 16" wide-body console; open storage along passenger side; 7" slope, 9" level (no floor plate needed, mounts directly to floor) | C21: ='MASTER PRICE LIST'!C43 -> 869 | D21: =C21-(C21*$D$1) -> 825.55
A23: F150 Printer Consoles, Vehicle-Specific (Cannot be transferred to other vehicles)
A24: ='MASTER PRICE LIST'!A46 -> CC-21F1-0709OS-PRTR | B24: ='MASTER PRICE LIST'!B46 -> 2021-24 F150 16" Printer console 7" slope, 9" level ; open storage on the slope section - Special cover plate and rails sold separately | C24: ='MASTER PRICE LIST'!C46 -> 1060 | D24: =C24-(C24*$D$1) -> 1007
A25: ='MASTER PRICE LIST'!A47 -> CC-21F1-0713OS-PRTR | B25: ='MASTER PRICE LIST'!B47 -> 2021-24 F150 20" Printer console 7" slope, 13" level ; open storage on the slope section - Special cover plate and rails sold separately | C25: ='MASTER PRICE LIST'!C47 -> 1100 | D25: =C25-(C25*$D$1) -> 1045
A27: F150 Overhead Console, Vehicle-Specific (Cannot be transferred to other vehicles)
A28: ='MASTER PRICE LIST'!A50 -> CC-21F1-OH | B28: ='MASTER PRICE LIST'!B50 -> 2021-24 F150 7” overhead console. Face plates* included in console price | C28: ='MASTER PRICE LIST'!C50 -> 418 | D28: =C28-(C28*$D$1) -> 397.1
A30: Standard-Width Consoles (Can be transferred to other vehicles)
A31: ='MASTER PRICE LIST'!A171 -> CC-MC-14 | B31: ='MASTER PRICE LIST'!B171 -> Universal MC 14" L-shape console: 7" slope, 7" level. | C31: ='MASTER PRICE LIST'!C171 -> 548 | D31: =C31-(C31*$D$1) -> 520.6
A32: ='MASTER PRICE LIST'!A172 -> CC-MC-18 | B32: ='MASTER PRICE LIST'!B172 -> Universal MC 18" L-shape console; 7" slope, 11" level. | C32: ='MASTER PRICE LIST'!C172 -> 587 | D32: =C32-(C32*$D$1) -> 557.65
A33: ='MASTER PRICE LIST'!A174 -> CC-MC-25 | B33: ='MASTER PRICE LIST'!B174 -> Universal MC 25" L-shape console; 7" slope, 18" level. | C33: ='MASTER PRICE LIST'!C174 -> 661 | D33: =C33-(C33*$D$1) -> 627.95
A34: ='MASTER PRICE LIST'!A118 -> CC-PCFX14 | B34: ='MASTER PRICE LIST'!B118 -> Universal 14" low-profile; 3" slope, 11" level; computer deck; Will fit one long radio. | C34: ='MASTER PRICE LIST'!C118 -> 575 | D34: =C34-(C34*$D$1) -> 546.25
A36: Wide-Body Consoles (Can be transferred to other trucks)
A37: ='MASTER PRICE LIST'!A153 -> CC-WBOS-16 | B37: ='MASTER PRICE LIST'!B153 -> Universal SUV/truck 16" Wide-body open-storage console; 8" slope, 8" level. | C37: ='MASTER PRICE LIST'!C153 -> 794 | D37: =C37-(C37*$D$1) -> 754.3
A38: ='MASTER PRICE LIST'!A154 -> CC-WBOS-20 | B38: ='MASTER PRICE LIST'!B154 -> Universal SUV/truck 20" Wide-body open-storage console; 8" slope, 12" level. | C38: ='MASTER PRICE LIST'!C154 -> 815 | D38: =C38-(C38*$D$1) -> 774.25
A39: ='MASTER PRICE LIST'!A156 -> CC-WBOS-25 | B39: ='MASTER PRICE LIST'!B156 -> Universal SUV/truck 25" Wide-body open-storage console; 8" slope, 17" level. | C39: ='MASTER PRICE LIST'!C156 -> 840 | D39: =C39-(C39*$D$1) -> 798
A41: Popular Internal Console Accessories
A42: ='MASTER PRICE LIST'!A235 -> AC-CCHY-BH | B42: ='MASTER PRICE LIST'!B235 -> 4" Durable high-impact polymer internal dual beverage holder; includes a larger size cup holder, for size water bottles or tumblers 18-32oz along with a standard size holder. | C42: ='MASTER PRICE LIST'!C235 -> 45 | D42: =C42-(C42*$D$1) -> 42.75
A43: ='MASTER PRICE LIST'!A238 -> AC-INBHG | B43: ='MASTER PRICE LIST'!B238 -> 4" internal dual beverage holder. Includes rubber fingers to keep cup stabilized. | C43: ='MASTER PRICE LIST'!C238 -> 64 | D43: =C43-(C43*$D$1) -> 60.8
A44: ='MASTER PRICE LIST'!A245 -> AC-TICK-2 | B44: ='MASTER PRICE LIST'!B245 -> 3" face plate shallow tray; holds smartphone, keys, wallet, sunglasses, etc. 2" H. | C44: ='MASTER PRICE LIST'!C245 -> 53 | D44: =C44-(C44*$D$1) -> 50.35
A45: ='MASTER PRICE LIST'!A246 -> FP-SGTRAY | B45: ='MASTER PRICE LIST'!B246 -> 4" face plate shallow tray w/sloped floor; holds smartphone, keys, wallet, sunglasses, etc. 1.75" H. | C45: ='MASTER PRICE LIST'!C246 -> 50 | D45: =C45-(C45*$D$1) -> 47.5
A46: ='MASTER PRICE LIST'!A250 -> AC-GUNBOX-6-LP | B46: ='MASTER PRICE LIST'!B250 -> 6" internal lidded locking low-profile internal storage box (may not accommodate handgun) 3.6" H. | C46: ='MASTER PRICE LIST'!C250 -> 173 | D46: =C46-(C46*$D$1) -> 164.35
A47: ='MASTER PRICE LIST'!A251 -> AC-GUNBOX-LP | B47: ='MASTER PRICE LIST'!B251 -> 8" internal lidded locking low-profile storage box (might accommodate handgun) 3.6" H. | C47: ='MASTER PRICE LIST'!C251 -> 194 | D47: =C47-(C47*$D$1) -> 184.3
A49: Electronics Face Plates
A50: ='MASTER PRICE LIST'!A336 -> FP-USBC-2DC | B50: ='MASTER PRICE LIST'!B336 -> 2" face plate combo USB-C /USB port and (2) DC outlets | C50: ='MASTER PRICE LIST'!C336 -> 90 | D50: =C50-(C50*$D$1) -> 85.5
A51: ='MASTER PRICE LIST'!A339 -> FP-AP12-3 | B51: ='MASTER PRICE LIST'!B339 -> 2" face plate w/ (3) DC outlet holes | C51: ='MASTER PRICE LIST'!C339 -> 32 | D51: =C51-(C51*$D$1) -> 30.4
...

Sheet 2020-24 FORD F250
A1: TOC | B1: 2020 - 2024 FORD F250 PRICE LIST | D1: 0.05
A2: TROY PART # | B2: ITEM DESCRIPTION | C2: MSRP | D2: DISCOUNT %
A4: Console Floor Plates | B4: Always indicate year, make and model on your console purchase orders
A5: ='MASTER PRICE LIST'!A186 -> AC-F150-15 | B5: 2015-21 Ford F150 floor plate for applications where center seat is removed. For universal consoles. | C5: ='MASTER PRICE LIST'!$C$186 -> 199 | D5: =C5-(C5*$D$1) -> 189.05
A6: ='MASTER PRICE LIST'!A187 -> AC-F150-15-MNT | B6: 2015-21 Ford F150 floor plate for bucket seat trucks or factory console removed. For universal consoles. | C6: ='MASTER PRICE LIST'!C187 -> 212 | D6: =C6-(C6*$D$1) -> 201.4
A8: F250 | F350 Wide-Body Consoles compatible with F150 console, Vehicle-Specific (Cannot be transferred to other vehicles)
A9: ='MASTER PRICE LIST'!A42 -> CC-21F1-0713-OS | B9: 2023 F250/350 20" wide-body console; open storage along passenger side: 7" slope, 13" level (no floor plate needed, mounts directly to floor) | C9: ='MASTER PRICE LIST'!C42 -> 920 | D9: =C9-(C9*$D$1) -> 874
A10: ='MASTER PRICE LIST'!A43 -> CC-21F1-0709-OS | B10: 2023 F250/350 16" wide-body console; open storage along passenger side: 7" slope, 13" level (no floor plate needed, mounts directly to floor) | C10: ='MASTER PRICE LIST'!C43 -> 869 | D10: =C10-(C10*$D$1) -> 825.55
A12: F250 Wide-Body Consoles, Vehicle-Specific (Cannot be transferred to other vehicles)
A13: ='MASTER PRICE LIST'!A53 -> CC-21F2-0709-OS | B13: ='MASTER PRICE LIST'!B53 -> 2021-22 F250 16" wide-body console; open storage along passenger side; 7" slope, 9" level (no floor plate needed, mounts directly to floor) | C13: ='MASTER PRICE LIST'!C53 -> 869 | D13: =C13-(C13*$D$1) -> 825.55
A15: F250 Over-head Console, Vehicle-Specific (Cannot be transferred to other vehicles)
A16: ='MASTER PRICE LIST'!A56 -> CC-21F2-0304OH | B16: ='MASTER PRICE LIST'!B56 -> 2021-24 F250 overhead console and includes 7” of face plate mounting space (console will work with Motorola 05, 07, E5 remote heads). Important note: OEM lights, buttons, and switches are not transferable onto this overhead console version. | C16: ='MASTER PRICE LIST'!C56 -> 440 | D16: =C16-(C16*$D$1) -> 418
A18: Standard-Width Consoles (Can be transferred to other vehicles)
A19: ='MASTER PRICE LIST'!A171 -> CC-MC-14 | B19: ='MASTER PRICE LIST'!B171 -> Universal MC 14" L-shape console: 7" slope, 7" level. | C19: ='MASTER PRICE LIST'!C171 -> 548 | D19: =C19-(C19*$D$1) -> 520.6
A20: ='MASTER PRICE LIST'!A172 -> CC-MC-18 | B20: ='MASTER PRICE LIST'!B172 -> Universal MC 18" L-shape console; 7" slope, 11" level. | C20: ='MASTER PRICE LIST'!C172 -> 587 | D20: =C20-(C20*$D$1) -> 557.65
A21: ='MASTER PRICE LIST'!A174 -> CC-MC-25 | B21: ='MASTER PRICE LIST'!B174 -> Universal MC 25" L-shape console; 7" slope, 18" level. | C21: ='MASTER PRICE LIST'!C174 -> 661 | D21: =C21-(C21*$D$1) -> 627.95
A22: ='MASTER PRICE LIST'!A118 -> CC-PCFX14 | B22: ='MASTER PRICE LIST'!B118 -> Universal 14" low-profile; 3" slope, 11" level; computer deck; Will fit one long radio. | C22: ='MASTER PRICE LIST'!C118 -> 575 | D22: =C22-(C22*$D$1) -> 546.25
A23: ='MASTER PRICE LIST'!A138 -> CC-A-S12 | B23: ='MASTER PRICE LIST'!B138 -> Universal 12" 2-pc. ht. adj. sloped console; Flat deck (Top piece can be raised up to 3" higher) | C23: ='MASTER PRICE LIST'!C138 -> 543 | D23: =C23-(C23*$D$1) -> 515.85
A24: ='MASTER PRICE LIST'!A124 -> CC-LASD-15 | B24: ='MASTER PRICE LIST'!B124 -> Universal 15" L-shaped console w/computer deck: 7" slope, 8" level. Rocker switch hole pre-punched on deck. | C24: ='MASTER PRICE LIST'!C124 -> 549 | D24: =C24-(C24*$D$1) -> 521.55
A26: Wide-Body Consoles (Can be transferred to other trucks)
A27: ='MASTER PRICE LIST'!A153 -> CC-WBOS-16 | B27: ='MASTER PRICE LIST'!B153 -> Universal SUV/truck 16" Wide-body open-storage console; 8" slope, 8" level. | C27: ='MASTER PRICE LIST'!C153 -> 794 | D27: =C27-(C27*$D$1) -> 754.3
A28: ='MASTER PRICE LIST'!A154 -> CC-WBOS-20 | B28: ='MASTER PRICE LIST'!B154 -> Universal SUV/truck 20" Wide-body open-storage console; 8" slope, 12" level. | C28: ='MASTER PRICE LIST'!C154 -> 815 | D28: =C28-(C28*$D$1) -> 774.25
A29: ='MASTER PRICE LIST'!A156 -> CC-WBOS-25 | B29: ='MASTER PRICE LIST'!B156 -> Universal SUV/truck 25" Wide-body open-storage console; 8" slope, 17" level. | C29: ='MASTER PRICE LIST'!C156 -> 840 | D29: =C29-(C29*$D$1) -> 798
A30: ='MASTER PRICE LIST'!A156 -> CC-WBOS-25 | B30: ='MASTER PRICE LIST'!B156 -> Universal SUV/truck 25" Wide-body open-storage console; 8" slope, 17" level. | C30: ='MASTER PRICE LIST'!C156 -> 840 | D30: =C30-(C30*$D$1) -> 798
A31: ='MASTER PRICE LIST'!A157 -> CC-WBOS-25-LP | B31: ='MASTER PRICE LIST'!B157 -> Universal SUV/truck 25" Low profile wide-body open-storage console; 8" slope, 17" level. 2" shorter in height. | C31: ='MASTER PRICE LIST'!C157 -> 827 | D31: =C31-(C31*$D$1) -> 785.65
A32: ='MASTER PRICE LIST'!A158 -> CC-WBOS-30 | B32: ='MASTER PRICE LIST'!B158 -> Universal SUV/truck 30" Wide-body console; open storage on driver side. 8" slope, 22" level | C32: ='MASTER PRICE LIST'!C158 -> 873 | D32: =C32-(C32*$D$1) -> 829.35
A34: Popular Internal Console Accessories
A35: ='MASTER PRICE LIST'!A235 -> AC-CCHY-BH | B35: ='MASTER PRICE LIST'!B235 -> 4" Durable high-impact polymer internal dual beverage holder; includes a larger size cup holder, for size water bottles or tumblers 18-32oz along with a standard size holder. | C35: ='MASTER PRICE LIST'!C235 -> 45 | D35: =C35-(C35*$D$1) -> 42.75
A36: ='MASTER PRICE LIST'!A238 -> AC-INBHG | B36: ='MASTER PRICE LIST'!B238 -> 4" internal dual beverage holder. Includes rubber fingers to keep cup stabilized. | C36: ='MASTER PRICE LIST'!C238 -> 64 | D36: =C36-(C36*$D$1) -> 60.8
A37: ='MASTER PRICE LIST'!A245 -> AC-TICK-2 | B37: ='MASTER PRICE LIST'!B245 -> 3" face plate shallow tray; holds smartphone, keys, wallet, sunglasses, etc. 2" H. | C37: ='MASTER PRICE LIST'!C245 -> 53 | D37: =C37-(C37*$D$1) -> 50.35
A38: ='MASTER PRICE LIST'!A246 -> FP-SGTRAY | B38: ='MASTER PRICE LIST'!B246 -> 4" face plate shallow tray w/sloped floor; holds smartphone, keys, wallet, sunglasses, etc. 1.75" H. | C38: ='MASTER PRICE LIST'!C246 -> 50 | D38: =C38-(C38*$D$1) -> 47.5
A39: ='MASTER PRICE LIST'!A250 -> AC-GUNBOX-6-LP | B39: ='MASTER PRICE LIST'!B250 -> 6" internal lidded locking low-profile internal storage box (may not accommodate handgun) 3.6" H. | C39: ='MASTER PRICE LIST'!C250 -> 173 | D39: =C39-(C39*$D$1) -> 164.35
A40: ='MASTER PRICE LIST'!A251 -> AC-GUNBOX-LP | B40: ='MASTER PRICE LIST'!B251 -> 8" internal lidded locking low-profile storage box (might accommodate handgun) 3.6" H. | C40: ='MASTER PRICE LIST'!C251 -> 194 | D40: =C40-(C40*$D$1) -> 184.3
A42: Electronics Face Plates
A43: ='MASTER PRICE LIST'!A336 -> FP-USBC-2DC | B43: ='MASTER PRICE LIST'!B336 -> 2" face plate combo USB-C /USB port and (2) DC outlets | C43: ='MASTER PRICE LIST'!C336 -> 90 | D43: =C43-(C43*$D$1) -> 85.5
A44: ='MASTER PRICE LIST'!A339 -> FP-AP12-3 | B44: ='MASTER PRICE LIST'!B339 -> 2" face plate w/ (3) DC outlet holes | C44: ='MASTER PRICE LIST'!C339 -> 32 | D44: =C44-(C44*$D$1) -> 30.4
A45: ='MASTER PRICE LIST'!A329 -> L3-AP1SET | B45: ='MASTER PRICE LIST'!B329 -> 12 Volt DC power outlet plug w/black captured cap | C45: ='MASTER PRICE LIST'!C329 -> 15 | D45: =C45-(C45*$D$1) -> 14.25
A47: Mic Clip Choices
A48: ='MASTER PRICE LIST'!A311 -> AC-MCM1 | B48: ='MASTER PRICE LIST'!B311 -> Dog-ear type microphone clip plate and clip assembly | C48: ='MASTER PRICE LIST'!C311 -> 19 | D48: =C48-(C48*$D$1) -> 18.05
A49: ='MASTER PRICE LIST'!A313 -> AC-MIC-Z-FPI | B49: ='MASTER PRICE LIST'!B313 -> Height adjustable, no-holes-drilled L-slot microphone clip plate assembly | C49: ='MASTER PRICE LIST'!C313 -> 33 | D49: =C49-(C49*$D$1) -> 31.35
...

Sheet 2021-24 CHEVY TAHOE
A1: TOC | B1: 2021 - 2024 CHEVY TAHOE SSV PRICE LIST | D1: 0.05
A2: TROY PART # | B2: ITEM DESCRIPTION | C2: MSRP | D2: DISCOUNT %
A4: Push Bumper Kit with Solid Top Channel Cover
A5: ='MASTER PRICE LIST'!A1591 -> PB-21TH-UPRS | B5: ='MASTER PRICE LIST'!B1591 -> 2021-24 Chevy Tahoe Upright with mounting kit and solid top channel cover | C5: ='MASTER PRICE LIST'!C1591 -> 870 | D5: =C5-(C5*$D$1) -> 826.5
A7: Push Bumper Kit with Option of 2 or 4 Top Light Channel Bracket
A8: ='MASTER PRICE LIST'!A1611 -> PB-21TH-UPRLRG-LT2 | B8: ='MASTER PRICE LIST'!B1611 -> 2021-24 Chevy Tahoe Upright with mounting kit, wire covers and two (2) light channel bracket; provide brand and model of lights | C8: ='MASTER PRICE LIST'!C1611 -> 900 | D8: =C8-(C8*$D$1) -> 855
A9: ='MASTER PRICE LIST'!A1612 -> PB-21TH-UPRLRG-LT4 | B9: ='MASTER PRICE LIST'!B1612 -> 2021-24 Chevy Tahoe Upright with mounting kit, wire covers and four (4) light channel bracket; provide brand and model of lights | C9: ='MASTER PRICE LIST'!C1612 -> 900 | D9: =C9-(C9*$D$1) -> 855
B10: * For emergency lighting brackets; please specify lighting brand, model and the number of lights to be mounted.*
A12: Console Floor Plates
A13: ='MASTER PRICE LIST'!A191 -> FM-21TH | B13: ='MASTER PRICE LIST'!B191 -> 2021-24 Tahoe | 2021-24 Suburban floor mount compatible standard and wide-body consoles. | C13: ='MASTER PRICE LIST'!C191 -> 208 | D13: =C13-(C13*$D$1) -> 197.6
A15: ='MASTER PRICE LIST'!B59 -> Tahoe | Suburban Standard Vehicle-Specific Consoles
A16: ='MASTER PRICE LIST'!A60 -> CC-21TH-1008 | B16: ='MASTER PRICE LIST'!B60 -> 2021-24 Tahoe | 2021-24 Suburban 8" Standard console 10" slope, 8" level | C16: ='MASTER PRICE LIST'!C60 -> 640 | D16: =C16-(C16*$D$1) -> 608
A17: ='MASTER PRICE LIST'!A61 -> CC-21TH-1012 | B17: ='MASTER PRICE LIST'!B61 -> 2021-24 Tahoe | 2021-24 Suburban 22" Standard console 10" slope, 12" level | C17: ='MASTER PRICE LIST'!C61 -> 702 | D17: =C17-(C17*$D$1) -> 666.9
A18: ='MASTER PRICE LIST'!A62 -> CC-21TH-1015 | B18: ='MASTER PRICE LIST'!B62 -> 2021-24 Tahoe | 2021-24 Suburban 25" Standard console 10" slope, 15" level | C18: ='MASTER PRICE LIST'!C62 -> 723 | D18: =C18-(C18*$D$1) -> 686.85
A19: ='MASTER PRICE LIST'!A63 -> CC-21TH-V12 | B19: ='MASTER PRICE LIST'!B63 -> 2021-24 Tahoe | 2021-24 Suburban 12" Vertical console | C19: ='MASTER PRICE LIST'!C63 -> 573 | D19: =C19-(C19*$D$1) -> 544.35
A21: Tahoe Vehicle-Specific Printer Consoles
A22: ='MASTER PRICE LIST'!A82 -> CC-21TH-1008OS-PRTR | B22: ='MASTER PRICE LIST'!$B$82 -> 2021-24 Tahoe | 2021-24 Suburban 18" Printer console w/ open storage; 10" slope, 8" level | C22: ='MASTER PRICE LIST'!C82 -> 1100 | D22: =C22-(C22*$D$1) -> 1045
A24: ='MASTER PRICE LIST'!B65 -> Tahoe | Suburban Wide-Body Vehicle-Specific Consoles
A25: ='MASTER PRICE LIST'!A66 -> CC-21TH-1008-OS | B25: ='MASTER PRICE LIST'!B66 -> 2021-24 Tahoe | 2021-24 Suburban 18" Wide body console w/ open storage; 10" slope, 8" level | C25: ='MASTER PRICE LIST'!C66 -> 836 | D25: =C25-(C25*$D$1) -> 794.2
A26: ='MASTER PRICE LIST'!A67 -> CC-21TH-1012-OS | B26: ='MASTER PRICE LIST'!B67 -> 2021-24 Tahoe | 2021-24 Suburban 22" Wide body console w/ open storage; 10" slope, 12" level | C26: ='MASTER PRICE LIST'!C67 -> 876 | D26: =C26-(C26*$D$1) -> 832.2
A27: ='MASTER PRICE LIST'!A68 -> CC-21TH-1015-OS | B27: ='MASTER PRICE LIST'!B68 -> 2021-24 Tahoe | 2021-24 Suburban 25" Wide body console w/ open storage; 10" slope, 15" level | C27: ='MASTER PRICE LIST'!C68 -> 910 | D27: =C27-(C27*$D$1) -> 864.5
A28: ='MASTER PRICE LIST'!A69 -> CC-21TH-1008-OS-L | B28: ='MASTER PRICE LIST'!B69 -> 2021-24 Tahoe | 2021-24 Suburban 18" Wide body console w/ lockable storage area, 10" slope, 8" level | C28: ='MASTER PRICE LIST'!C69 -> 1009 | D28: =C28-(C28*$D$1) -> 958.55
A30: Tahoe Vehicle-Specific Consoles For Dash-Mount Electronics (Floor Mount Not Required)
A31: ='MASTER PRICE LIST'!A72 -> CC-21TH-0711-DM | B31: ='MASTER PRICE LIST'!B72 -> 2021-24 Tahoe | 2021-24 Suburban 18" dash-mount console 7" slope, 11" level, floor mount FM-21TH not required | C31: ='MASTER PRICE LIST'!C72 -> 640 | D31: =C31-(C31*$D$1) -> 608
A32: ='MASTER PRICE LIST'!A73 -> CC-21TH-0713-DM | B32: ='MASTER PRICE LIST'!B73 -> 2021-24 Tahoe | 2021-24 Suburban 20" dash-mount console 7" slope, 13" level, floor mount FM-21TH not required | C32: ='MASTER PRICE LIST'!C73 -> 664 | D32: =C32-(C32*$D$1) -> 630.8
A34: Tahoe Vehicle-Specific Wide-Body Consoles for Dash-Mount Electronics (Floor Mount Not Required)
A35: ='MASTER PRICE LIST'!A76 -> CC-21TH-0711-OS-DM | B35: ='MASTER PRICE LIST'!B76 -> 2021-24 Tahoe | 2021-24 Suburban 18" Wide body console w/ open storage; 7" slope, 11" level | C35: ='MASTER PRICE LIST'!C76 -> 836 | D35: =C35-(C35*$D$1) -> 794.2
A36: ='MASTER PRICE LIST'!A77 -> CC-21TH-0713-OS-DM | B36: ='MASTER PRICE LIST'!B77 -> 2021-24 Tahoe | 2021-24 Suburban 20" Wide body console w/ open storage; 7" slope, 13" level | C36: ='MASTER PRICE LIST'!C77 -> 855 | D36: =C36-(C36*$D$1) -> 812.25
A37: ='MASTER PRICE LIST'!A78 -> CC-21TH-0715-OS-DM | B37: ='MASTER PRICE LIST'!B78 -> 2021-24 Tahoe | 2021-24 Suburban 22" Wide body console w/ open storage; 7" slope, 15" level (Works without partition) | C37: ='MASTER PRICE LIST'!C78 -> 876 | D37: =C37-(C37*$D$1) -> 832.2
A38: ='MASTER PRICE LIST'!A79 -> CC-21TH-0718-OS-DM | B38: ='MASTER PRICE LIST'!B79 -> 2021-24 Tahoe | 2021-24 Suburban 25" Wide body console w/ open storage; 7" slope, 18" level (Works without partition) | C38: ='MASTER PRICE LIST'!C79 -> 910 | D38: =C38-(C38*$D$1) -> 864.5
A40: Tahoe Civilian Model ONLY
A41: ='MASTER PRICE LIST'!A88 -> CC-21TH-TRAY-10 | B41: ='MASTER PRICE LIST'!B88 -> 2021-24 Tahoe Civilian 10" Console insert. Compatible with AC-GUNBOX-10-LP, low-profile box. | C41: ='MASTER PRICE LIST'!C88 -> 377 | D41: =C41-(C41*$D$1) -> 358.15
A43: ='MASTER PRICE LIST'!B84 -> Tahoe | Suburban Overhead Vehicle-Specific Console
