Workbook

Sheet 8616D
A1: EQUIPMENT PRICING & ORDER FORM
F2: Effective: | G2: 44519
A3: Phone: 704.966.3300 | G3: Prices in US Dollars
A4: Sales@LeeBoy.com | G4: FOB Lincolnton, NC
A5: 8616D Paver
A6: DEALER: | E6: DATE:
A7: P. O. NO: | D7: FLOOR PLAN: | E7: YES / NO | F7: WITH:
A8: NEED BY DATE: | D8: STOCK ORDER: | E8: YES / NO | F8: CUSTOMER:
A9: SHIP VIA: | D9: ***Specifications are required with orders linked to bids***
A10: CONTACT EMAIL: | D10: SOLD ORDER - CUSTOMER CLASS:
A11: SHIP TO ADDRESS:
A13: MODEL | B13: DRIVE | C13: ENGINE | D13: SCREED | F13: LIST PRICE | G13: ORDER NUMBER | H13: CK
A14: 8616D | B14: Track, Poly Pads | C14: 127 HP Kubota | D14: 8' to 15'6" Legend HD PRO | F14: 279056 | G14: 8616DKUB
A15: STANDARD FEATURES
A16: See LeeBoy 8616D Paver and Legend HD PRO Screed Specifications at: | F16: LeeBoy.com - 8616D Paver
A17: OPTIONS
A18: DESCRIPTION | F18: LIST PRICE | G18: ORDER NUMBER | H18: CK
A19: Additional Control Post and Wire Harness for the Left Side | F19: 833 | G19: 1023404
A20: Smooth Ride HD Poly Pad Track | F20: 7185 | G20: 1022021
A21: Heated Endgates | F21: 1360 | G21: 1023072
A22: High Lift Endgates ** in leu of Standard Endgates | F22: No Charge | G22: 1023184
A23: Slope Meter | F23: 389 | G23: 1020138
A24: Horizontal Flight Screws ** not available with 3:1 Flight Screw Adjusters | F24: 638 | G24: 1023406
A25: 3:1 Flight Screw Adjusters ** not available with Horizontal Flight Screws | F25: 2694 | G25: 1022621
A26: Power Crown | F26: 3879 | G26: 0000
A27: Screed Extension Vibration | F27: 2880 | G27: 1023405
A28: Central Point Lube System - Screed | F28: 1617 | G28: 1023410
A29: Truck Hitch | F29: 6714 | G29: 1023414
A30: Truck Hitch Valving (excludes Truck Hitch) | F30: 1693 | G30: 1023415
A31: Hydraulically Extendable Oscillating Push Roller (not available with Truck Hitch) ** Consult Factory | F31: 0 | G31: 1023416
A32: Steering Knob Drive Controls (in lieu of joysticks) | F32: No Charge | G32: 1023413
A33: Wiring Only, Grade Controls (Topcon) | F33: 1388 | G33: 1022121
A34: Sonic Grade Control, One Side (Topcon) | F34: 9159 | G34: 1022124
A35: Dual Grade Control (Topcon) | F35: 18316 | G35: 1022122
A36: Dual Grade and Slope (Topcon) | F36: 21057 | G36: 1022123
A37: 12” x 6” Berm Extension (LH & RH) | F37: 5711 | G37: 0000
A38: LED Blade Light System (DC Powered, 2 individually mounted LED Blades) | F38: 4254 | G38: 1023411
A39: Umbrella Mounts (2) located on operator seats | F39: 305 | G39: 1023412
A40: Extended Warranty Program (Contact factory for specifics or go to www.leeboy.com and view extended program under the warranty tab of the dealer login home page.)
A41: Pricing subject to change 90 days prior to delivery. | E41: Total List Price | G41: =(SUMIF(H19:H39,"X",F19:F39))+(SUMIF(H14,"X",F14)) -> 0
...

Sheet 8530
A1: EQUIPMENT PRICING & ORDER FORM
F2: Effective: | G2: ='8616D'!G2:H2 -> 44519
A3: Phone: 704.966.3300 | G3: Prices in US Dollars
A4: Sales@LeeBoy.com | G4: FOB Lincolnton, NC
A5: 8530 Paver
A6: DEALER: | E6: DATE:
A7: P. O. NO: | D7: FLOOR PLAN: | E7: YES / NO | F7: WITH:
A8: NEED BY DATE: | D8: STOCK ORDER: | E8: YES / NO | F8: CUSTOMER:
A9: SHIP VIA: | D9: ***Specifications are required with orders linked to bids***
A10: CONTACT EMAIL: | D10: SOLD ORDER - CUSTOMER CLASS:
A11: SHIP TO ADDRESS:
A13: MODEL | B13: DRIVE | C13: ENGINE | D13: SCREED | F13: LIST PRICE | G13: ORDER NUMBER | H13: CK
A14: 8530 | B14: Track, Poly Pads | C14: 125 HP Kubota | D14: 8' to 15' 6" Legend HD PRO | F14: 269525 | G14: 8530KUB
A15: STANDARD FEATURES
A16: See LeeBoy 8530 Paver and Legend HD PRO Screed Specifications at: | F16: LeeBoy.com - 8530 Paver
A17: OPTIONS
A18: DESCRIPTION | F18: LIST PRICE | G18: ORDER NUMBER | H18: CK
A19: Additional Control Post and Wire Harness for the Left Side | F19: 891 | G19: 1023404
A20: Rubber Track, continuous | F20: 1526 | G20: 1022756
A21: Heated Endgates | F21: 1455 | G21: 1023072
A22: High Lift Endgates ** in leu of Standard Endgates | F22: No Charge | G22: 1023184
A23: Slope Meter | F23: 416 | G23: 1020138
A24: Horizontal Flight Screws ** not available with 3:1 Flight Screw Adjusters | F24: 682 | G24: 1023406
A25: 3:1 Flight Screw Adjusters ** not available with Horizontal Flight Screws | F25: 2882 | G25: 1022621
A26: Power Crown | F26: 4150 | G26: 0000
A27: Screed Extension Vibration | F27: 3081 | G27: 1023405
A28: Central Point Lube System - Screed | F28: 1730 | G28: 1023410
A29: Truck Hitch | F29: 7183 | G29: 1023407
A30: Truck Hitch Valving (excludes Truck Hitch) | F30: 1811 | G30: 1023408
A31: Hydraulically Extendable Oscillating Push Roller (not available with Truck Hitch) ** Consult Factory | F31: 0 | G31: 1023409
A32: Steering Knob Drive Controls (in lieu of joysticks) | F32: 1150 | G32: 1023580
A33: Wiring Only, Grade Controls (Topcon) | F33: 1052 | G33: 1022121
A34: Sonic Grade Control, One Side (Topcon) | F34: 9800 | G34: 1022124
... A40: 12” x 4.5” Berm Extension (LH & RH) | F40: 3295 | G40: 0000
A41: Extended Warranty Program (Contact factory for specifics or go to www.leeboy.com and view extended program under the warranty tab of the dealer login home page.)
A42: Pricing is subject to change 90 days prior to delivery. | E42: Total List Price | G42: =(SUMIF(H19:H40,"X",F19:F40))+(SUMIF(H14,"X",F14)) -> 0
A43: COMMENTS:
A45: SIGNATURE: | E45: PHONE:

Sheet 8520B
A1: EQUIPMENT PRICING & ORDER FORM
F2: Effective: | G2: ='8616D'!G2:H2 -> 44519
A3: Phone: 704.966.3300 | G3: Prices in US Dollars
A4: Sales@LeeBoy.com | G4: FOB Lincolnton, NC
A5: 8520B Paver
A6: DEALER: | E6: DATE:
A7: P. O. NO: | D7: FLOOR PLAN: | E7: YES / NO | F7: WITH:
A8: NEED BY DATE: | D8: STOCK ORDER: | E8: YES / NO | F8: CUSTOMER:
A9: SHIP VIA: | D9: ***Specifications are required with orders linked to bids***
A10: CONTACT EMAIL: | D10: SOLD ORDER - CUSTOMER CLASS:
A11: SHIP TO ADDRESS:
A13: MODEL | B13: DRIVE | C13: ENGINE | D13: SCREED | F13: LIST PRICE | G13: ORDER NUMBER | H13: CK
A14: 8520B | B14: Track, Poly Pads | C14: 106 HP Kubota | D14: 8' to 15' Legend HD | F14: 239590 | G14: 8520BKUB
A15: STANDARD FEATURES
A16: See LeeBoy 8520B Paver and Legend HD Screed Specifications at: | F16: LeeBoy.com - 8520B Paver
A17: OPTIONS
A18: DESCRIPTION | F18: LIST PRICE | G18: ORDER NUMBER | H18: CK
A19: Rubber Track, continuous | F19: 1526 | G19: 1022043
A20: Remote Screed Control | F20: 1157 | G20: 1025503
A21: Automatic Screed Temperature Control | F21: 1656 | G21: 1022420
A22: Heated Endgates | F22: 1455 | G22: 1017024
A23: Slope Meter | F23: 416 | G23: 1020138
A24: Horizontal Flight Screws ** not available with 3:1 Flight Screw Adjusters | F24: 662 | G24: 1019884
A25: 3:1 Flight Screw Adjusters ** not available with Horizontal Flight Screws | F25: 2882 | G25: 1015263
A26: Power Crown | F26: 3264 | G26: 0000
A27: Screed Extension Vibration | F27: 3081 | G27: 1019447
A28: Sloping Screed Extensions | F28: 4719 | G28: 1017004
A29: Hydraulic Tow Points | F29: 2368 | G29: 1022529
A30: Single Point Lube System - Screed | F30: 1632 | G30: 1020684
... A39: Raised on Blacktop Special Edition Option | F39: 6126 | G39: 1024504
A40: Extended Warranty Program (Contact factory for specifics or go to www.leeboy.com and view extended program under the warranty tab of the dealer login home page.)
A41: Pricing is subject to change 90 days prior to delivery. | E41: Total List Price | G41: =(SUMIF(H19:H39,"X",F19:F39))+(SUMIF(H14,"X",F14)) -> 0
A42: COMMENTS:
A44: SIGNATURE: | E44: PHONE:

Sheet 8515E
A1: EQUIPMENT PRICING & ORDER FORM
F2: Effective: | G2: ='8616D'!G2:H2 -> 44519
A3: Phone: 704.966.3300 | G3: Prices in US Dollars
A4: Sales@LeeBoy.com | G4: FOB Lincolnton, NC
A5: 8515E Paver
A6: DEALER: | E6: DATE:
A7: P. O. NO: | D7: FLOOR PLAN: | E7: YES / NO | F7: WITH:
A8: NEED BY DATE: | D8: STOCK ORDER: | E8: YES / NO | F8: CUSTOMER:
A9: SHIP VIA: | D9: ***Specifications are required with orders linked to bids***
A10: CONTACT EMAIL: | D10: SOLD ORDER - CUSTOMER CLASS:
A11: SHIP TO ADDRESS:
A13: MODEL | B13: DRIVE | C13: ENGINE | D13: SCREED | F13: LIST PRICE | G13: ORDER NUMBER | H13: CK
A14: 8515E | B14: Track, Poly Pads | C14: 74 HP Kubota | D14: 8' to 15' Legend Electric | F14: 221110 | G14: 8515EKUB
A15: STANDARD FEATURES
A16: See LeeBoy 8515E Paver and Legend Electric Screed Specifications at: | F16: LeeBoy.com - 8515E Paver
A17: OPTIONS
A18: DESCRIPTION | F18: LIST PRICE | G18: ORDER NUMBER | H18: CK
A19: Legend HD Screed (see specifications) | F19: 10633 | G19: 0000
A20: Rubber Track, continuous | F20: 1526 | G20: 1024577
A21: Steel Track - in lieu of Poly (Deduct) | F21: -2800 | G21: 1024578
A22: Remote Screed Controls | F22: 1157 | G22: 1025503
A23: Automatic Screed Temperature Control ** only available on the Legend HD | F23: 1656 | G23: 1022546
A24: Heated Endgates | F24: 1455 | G24: 1017024
A25: Slope Meter | F25: 416 | G25: 1020138
A26: Horizontal Flight Screws ** only available on the Legend HD & not available with 3:1 Flight Screw Adjusters | F26: 662 | G26: 1019884
A27: 3:1 Flight Screw Adjusters ** only available on the Legend HD & not available with Horizontal Flight Screws | F27: 2882 | G27: 1015263
A28: Power Crown | F28: 3265 | G28: 0000
A29: Screed Extension Vibration ** only available on the Legend HD | F29: 3081 | G29: 1019447
A30: Sloping Screed Extensions | F30: 4719 | G30: 0000
... A40: 12” x 4.5” Berm Extension (LH & RH) ** only available on the Legend HD | F40: 6110 | G40: 0000
A41: Extended Warranty Program (Contact factory for specifics or go to www.leeboy.com and view extended program under the warranty tab of the dealer login home page.)
A42: Pricing is subject to change 90 days prior to delivery. | E42: Total List Price | G42: =(SUMIF(H19:H40,"X",F19:F40))+(SUMIF(H14,"X",F14)) -> 0
A43: COMMENTS:
A45: SIGNATURE: | E45: PHONE:

Sheet 8510E
A1: EQUIPMENT PRICING & ORDER FORM
F2: Effective: | G2: ='8616D'!G2:H2 -> 44519
A3: Phone: 704.966.3300 | G3: Prices in US Dollars
A4: Sales@LeeBoy.com | G4: FOB Lincolnton, NC
A5: 8510E Paver
A6: DEALER: | E6: DATE:
A7: P. O. NO: | D7: FLOOR PLAN: | E7: YES / NO | F7: WITH:
A8: NEED BY DATE: | D8: STOCK ORDER: | E8: YES / NO | F8: CUSTOMER:
A9: SHIP VIA: | D9: ***Specifications are required with orders linked to bids***
A10: CONTACT EMAIL: | D10: SOLD ORDER - CUSTOMER CLASS:
A11: SHIP TO ADDRESS:
A13: MODEL | B13: PROFILE | C13: DRIVE | D13: ENGINE | E13: SCREED | F13: LIST PRICE | G13: ORDER NUMBER | H13: CK
A14: 8510E | B14: Low Deck | C14: Track, Poly Pads | D14: 74 HP Kubota | E14: 8' to 15' Legend Electric | F14: 215128 | G14: 8510EKUB
A15: STANDARD FEATURES
A16: See LeeBoy 8510E Paver and Legend Electric Screed Specifications at: | F16: LeeBoy.com - 8510E Paver
A17: OPTIONS
A18: DESCRIPTION | F18: LIST PRICE | G18: ORDER NUMBER | H18: CK
A19: Legend HD Screed (see specifications) | F19: 10633 | G19: 0000
A20: High-Deck Configuration | F20: 2079 | G20: 1004926
A21: Rubber Track, continuous - in lieu of Poly | F21: 1526 | G21: 1024577
A22: Steel Track - in lieu of Poly (Deduct) | F22: -2800 | G22: 1024578
A23: Automatic Screed Temperature Control ** only available on the Legend HD | F23: 1656 | G23: 1022546
A24: Heated Endgates | F24: 1455 | G24: 1017024
A25: Slope Meter | F25: 416 | G25: 1020138
A26: Horizontal Flight Screws ** only available on the Legend HD & not available with 3:1 Flight Screw Adjusters | F26: 662 | G26: 1019884
A27: 3:1 Flight Screw Adjusters ** only available on the Legend HD & not available with Horizontal Flight Screws | F27: 2882 | G27: 1015263
A28: Screed Extension Vibration ** only available on the Legend HD | F28: 3081 | G28: 0000
A29: Single Point Lube System - Screed ** only available on the Legend HD | F29: 1632 | G29: 1020684
A30: Truck Hitch | F30: 7183 | G30: 1017214
... A32: Steering Wheel Drive Controls (in lieu of joysticks) | F32: 2241 | G32: 1019214
A33: Manual Drive - Steering Controls (in lieu of joysticks) | F33: No Charge | G33: 0000
A34: Wiring Only, Grade Controls (Topcon) ** Not available with Manual Drive | F34: 1052 | G34: 1022121
A35: Sonic Grade Control, One Side (Topcon) | F35: 9800 | G35: 1022124
A36: Dual Grade Control (Topcon) | F36: 19598 | G36: 1022122
A37: Dual Grade and Slope (Topcon) | F37: 22530 | G37: 1022123
A38: 12” x 4.5” Berm Extension (LH & RH) ** only available on the Legend HD | F38: 6110 | G38: 0000
A39: Extended Warranty Program (Contact factory for specifics or go to www.leeboy.com and view extended program under the warranty tab of the dealer login home page.)
A40: Pricing is subject to change 90 days prior to delivery. | E40: Total List Price | G40: =(SUMIF(H19:H38,"X",F19:F38))+(SUMIF(H14,"X",F14)) -> 0
A41: COMMENTS:
A43: SIGNATURE: | E43: PHONE:

Sheet 8500E
A1: EQUIPMENT PRICING & ORDER FORM
F2: Effective: | G2: ='8616D'!G2:H2 -> 44519
A3: Phone: 704.966.3300 | G3: Prices in US Dollars
A4: Sales@LeeBoy.com | G4: FOB Lincolnton, NC
A5: 8500E Paver
A6: DEALER: | E6: DATE:
A7: P. O. NO: | D7: FLOOR PLAN: | E7: YES / NO | F7: WITH:
A8: NEED BY DATE: | D8: STOCK ORDER: | E8: YES / NO | F8: CUSTOMER:
A9: SHIP VIA: | D9: ***Specifications are required with orders linked to bids***
A10: CONTACT EMAIL: | D10: SOLD ORDER - CUSTOMER CLASS:
A11: SHIP TO ADDRESS:
A13: MODEL | B13: PROFILE | C13: DRIVE | D13: ENGINE | E13: SCREED | F13: LIST PRICE | G13: ORDER NUMBER | H13: CK
A14: 8500E | B14: Low Deck | C14: Steel Track | D14: 71 HP Kubota | E14: 8' to 15' Legend Propane | F14: 176907 | G14: 8500EKUB
A15: STANDARD FEATURES
A16: See LeeBoy 8500E Paver and Legend Electric Screed Specifications at: | F16: LeeBoy.com - 8500E Paver
A17: OPTIONS
A18: DESCRIPTION | F18: LIST PRICE | G18: ORDER NUMBER | H18: CK
A19: Legend Electric Screed (see specifications) | F19: 9797 | G19: 0000
A20: 14" Poly Pad Tracks | F20: 5609 | G20: 1024576
A21: Rubber Track, continuous - in lieu of Poly | F21: 5066 | G21: 1024577
A22: Second Seat | F22: 800 | G22: 982118
A23: Heated Endgates ** available on the Legend Electric | F23: 1455 | G23: 1017024
A24: Slope Meter | F24: 416 | G24: 1020138
A25: Truck Hitch | F25: 7183 | G25: 1017214
A26: Truck Hitch Valving (excludes Truck Hitch) | F26: 1811 | G26: 1022938
A27: LED Work Light Package (4 Lights) | F27: 1128 | G27: 1025169
A28: Sonic Auger, Sensors and Cords | F28: 3265 | G28: 1003151
A29: Electric Screws for Grade Controls | F29: 2524 | G29: 1003390
A30: Wiring Only, Grade Controls (Topcon) ** requires the selection of Electric Screws | F30: 1052 | G30: 1022121
... A34: Hose Reel - Quantity: 2 | F34: 1391 | G34: 1025184
A35: Extended Warranty Program (Contact factory for specifics or go to www.leeboy.com and view extended program under the warranty tab of the dealer login home page.)
A36: Pricing is subject to change 90 days prior to delivery. | E36: Total List Price | G36: =(SUMIF(H19:H34,"X",F19:F34))+(SUMIF(H14,"X",F14)) -> 0
A37: COMMENTS:
A39: SIGNATURE: | E39: PHONE:
A42: Note: Estimated unit availability April 2022

Sheet 7000C
A1: EQUIPMENT PRICING & ORDER FORM
F2: Effective: | G2: ='8616D'!G2:H2 -> 44519
A3: Phone: 704.966.3300 | G3: Prices in US Dollars
A4: Sales@LeeBoy.com | G4: FOB Lincolnton, NC
A5: 7000C Paver
A6: DEALER: | E6: DATE:
A7: P. O. NO: | D7: FLOOR PLAN: | E7: YES / NO | F7: WITH:
A8: NEED BY DATE: | D8: STOCK ORDER: | E8: YES / NO | F8: CUSTOMER:
A9: SHIP VIA: | D9: ***Specifications are required with orders linked to bids***
A10: CONTACT EMAIL: | D10: SOLD ORDER - CUSTOMER CLASS:
A11: SHIP TO ADDRESS:
A13: MODEL | B13: DRIVE | C13: ENGINE | D13: SCREED | F13: LIST PRICE | G13: ORDER NUMBER | H13: CK
A14: 7000C | B14: Track | C14: 64 HP Kubota | D14: 8' to 13' Legend Propane | F14: 154971 | G14: 7000CKUB
A15: STANDARD FEATURES
A16: See LeeBoy 7000C Paver and Legend Propane Screed Specifications at: | F16: LeeBoy.com - 7000C Paver
A17: OPTIONS
A18: DESCRIPTION | F18: LIST PRICE | G18: ORDER NUMBER | H18: CK
A19: Fail-safe Brake with Anti-creep | F19: 1841 | G19: 1020814
A20: Second Seat | F20: 800 | G20: 982119
A21: Slope Meter | F21: 416 | G21: 1020138
A22: Truck Hitch | F22: 7183 | G22: 1004840
A23: LED Work Light Package (4 Lights) | F23: 1128 | G23: 1014391
A24: Sonic Auger, Sensors and Cords | F24: 3265 | G24: 1003151
A25: Electric Screws for Grade Control | F25: 2524 | G25: 1003390
A26: Wiring Only, Grade Controls (Topcon) - includes AM modules ** requires the selection of Electric Screws | F26: 6000 | G26: 987341
A27: Sonic Grade Control, One Side (Topcon) ** requires the selection of Electric Screws | F27: 12023 | G27: 1016469
A28: Hose Reel (limited to 1) | F28: 695 | G28: 1014392
A29: Extended Warranty Program (Contact factory for specifics or go to www.leeboy.com and view extended program under the warranty tab of the dealer login home page.)
A30: Pricing is subject to change 90 days prior to delivery. | E30: Total List Price | G30: =(SUMIF(H19:H28,"X",F19:F28))+(SUMIF(H14,"X",F14)) -> 0
A31: COMMENTS:
A33: SIGNATURE: | F33: PHONE:

Sheet 5300
A1: EQUIPMENT PRICING & ORDER FORM
F2: Effective: | G2: ='8616D'!G2:H2 -> 44519
A3: Phone: 704.966.3300 | G3: Prices in US Dollars
A4: Sales@LeeBoy.com | G4: FOB Lincolnton, NC
A5: 5300 Paver
A6: DEALER: | E6: DATE:
A7: P. O. NO: | D7: FLOOR PLAN: | E7: YES / NO | F7: WITH:
A8: NEED BY DATE: | D8: STOCK ORDER: | E8: YES / NO | F8: CUSTOMER:
A9: SHIP VIA: | D9: ***Specifications are required with orders linked to bids***
A10: CONTACT EMAIL: | D10: SOLD ORDER - CUSTOMER CLASS:
A11: SHIP TO ADDRESS:
A13: MODEL | B13: DRIVE | C13: ENGINE | D13: SCREED | F13: LIST PRICE | G13: ORDER NUMBER | H13: CK
A14: 5300 | B14: Poly-Pad Track | C14: 64 HP Kubota | D14: 4' to 7' Legend HD Mini Propane | F14: 177284 | G14: 5300KEL
A15: STANDARD FEATURES
A16: See LeeBoy 5300 Paver and Legend HD Mini Propane Screed Specifications at: | F16: LeeBoy.com - 5300 Paver
A17: OPTIONS
A18: DESCRIPTION | F18: LIST PRICE | G18: ORDER NUMBER | H18: CK
A19: Legend HD Mini Electric Screed (see specifications) | F19: 8073 | G19: 1014045
A20: 9' Paving Kit (includes auger extensions, shields, and screed extensions) | F20: 5188 | G20: 1013802
A21: Slope Meter | F21: 389 | G21: 1020138
A22: Swivel/Pivoting Push Roller | F22: 1415 | G22: 1013350
A23: Hydraulic Tow-points | F23: 2214 | G23: 1013346
A24: Wiring Only, Grade Controls (Topcon) | F24: 1388 | G24: 1022121
A25: Sonic Grade Control, One Side (Topcon) | F25: 9159 | G25: 1022124
A26: Dual Grade Control (Topcon) | F26: 16925 | G26: 1022122
A27: Dual Grade and Slope (Topcon) | F27: 21057 | G27: 1022123
A28: LH Auger Strike Off Plate | F28: 217 | G28: 1013380
A29: RH Auger Strike Off Plate | F29: 217 | G29: 1013379
A30: Extended Warranty Program (Contact factory for specifics or go to www.leeboy.com and view extended program under the warranty tab of the dealer login home page.)
A31: Pricing is subject to change 90 days prior to delivery. | E31: Total List Price | G31: =(SUMIF(H19:H29,"X",F19:F29))+(SUMIF(H14,"X",F14)) -> 0
A32: COMMENTS:
A34: SIGNATURE: | E34: PHONE:

Sheet 1000G
A1: EQUIPMENT PRICING & ORDER FORM
F2: Effective: | G2: ='8616D'!G2:H2 -> 44519
A3: Phone: 704.966.3300 | G3: Prices in US Dollars
A4: Sales@LeeBoy.com | G4: FOB Lincolnton, NC
A5: 1000G Paver
A6: DEALER: | E6: DATE:
A7: P. O. NO: | D7: FLOOR PLAN: | E7: YES / NO | F7: WITH:
A8: NEED BY DATE: | D8: STOCK ORDER: | E8: YES / NO | F8: CUSTOMER:
A9: SHIP VIA: | D9: ***Specifications are required with orders linked to bids***
A10: CONTACT EMAIL: | D10: SOLD ORDER - CUSTOMER CLASS:
A11: SHIP TO ADDRESS:
A13: MODEL | B13: DRIVE | C13: ENGINE | D13: SCREED | F13: LIST PRICE | G13: ORDER NUMBER | H13: CK
A14: 1000G | B14: Track | C14: 49 HP Kubota | D14: 8' to 13' Legend Propane | F14: 108933 | G14: 1000KUB
A15: STANDARD FEATURES
A16: See LeeBoy 1000G Paver and Legend Propane Screed Specifications at: | F16: LeeBoy.com - 1000G Paver
A17: OPTIONS
A18: DESCRIPTION | F18: LIST PRICE | G18: ORDER NUMBER | H18: CK
A19: Two-Speed Track Drive ** with Fail-safe Brake included | F19: 6500 | G19: 1005315
A20: Rubber Tire Drive System ** Consult Factory | F20: 0 | G20: 0000
A21: Fail-safe Brake | F21: 2226 | G21: 988275
A22: Slope Meter | F22: 416 | G22: 1020138
A23: LED Work Light Package (4 Lights) | F23: 1128 | G23: 1011957
A24: Sonic Auger, Sensors, and Cords | F24: 5931 | G24: 988279
A25: Electric Screws for Grade Controls | F25: 2998 | G25: 982093
A26: Wiring Only, Grade Controls (Topcon) - includes AM modules ** requires the selection of Electric Screws | F26: 6000 | G26: 985450
A27: Sonic Grade Control, One Side (Topcon) ** requires the selection of Electric Screws | F27: 12023 | G27: 987339
A28: Hose Reel (limited to 1) | F28: 695 | G28: 1011951
A29: Extended Warranty Program (Contact factory for specifics or go to www.leeboy.com and view extended program under the warranty tab of the dealer login home page.)
A30: Pricing is subject to change 90 days prior to delivery. | E30: Total List Price | G30: =(SUMIF(H19:H28,"X",F19:F28))+(SUMIF(H14,"X",F14)) -> 0
A31: COMMENTS:
A33: SIGNATURE: | D33: PHONE:

Sheet 6150
A1: EQUIPMENT PRICING & ORDER FORM
F2: Effective: | G2: ='8616D'!G2:H2 -> 44519
A3: Phone: 704.966.3300 | G3: Prices in US Dollars
A4: Sales@LeeBoy.com | G4: FOB Lincolnton, NC
A5: 6150 Paver
A6: DEALER: | E6: DATE:
A7: P. O. NO: | D7: FLOOR PLAN: | E7: YES / NO | F7: WITH:
A8: NEED BY DATE: | D8: STOCK ORDER: | E8: YES / NO | F8: CUSTOMER:
A9: SHIP VIA: | D9: ***Specifications are required with orders linked to bids***
A10: CONTACT EMAIL: | D10: SOLD ORDER - CUSTOMER CLASS:
A11: SHIP TO ADDRESS:
A13: MODEL | B13: DRIVE | C13: ENGINE | D13: SCREED | F13: LIST PRICE | G13: ORDER NUMBER | H13: CK
A14: 6150 | B14: Wheeled - Paver | C14: 74 HP Kubota | D14: 8' to 15' Legend Propane | F14: 199218 | G14: 6150KUB
A15: STANDARD FEATURES
A16: See LeeBoy 6150 Paver and Legend Propane Screed Specifications at: | F16: LeeBoy.com - 6150 Paver
A17: OPTIONS
A18: DESCRIPTION | F18: LIST PRICE | G18: ORDER NUMBER | H18: CK
A19: Legend HD Screed (see specification) | F19: 17284 | G19: 0000
A20: Legend Electric Screed (see specification) | F20: 9156 | G20: 0000
A21: Remote Screed Controls ** available on the Legend HD or Legend Electric | F21: 1082 | G21: 0000
A22: Automatic Screed Temperature Control ** only available on the Legend HD | F22: 1548 | G22: 1017744
A23: Heated Endgates ** available on the Legend HD or Legend Electric | F23: 1360 | G23: 1017024
A24: Slope Meter | F24: 389 | G24: 1020138
A25: Horizontal Flight Screws ** only available on the Legend HD & not available with 3:1 Flight Screw Adjusters | F25: 619 | G25: 1019884
A26: 3:1 Flight Screw Adjusters ** only available on the Legend HD & not available with Horizontal Flight Screws | F26: 2694 | G26: 1015263
A27: Power Crown | F27: 3052 | G27: 0000
A28: Screed Extension Vibration ** only available on the Legend HD | F28: 2880 | G28: 1019447
A29: Sloping Screed Extensions | F29: 4411 | G29: 0000
A30: Hydraulic Tow Points | F30: 2214 | G30: 1020582
... A38: Umbrella | F38: 583 | G38: 988347
A39: Extended Warranty Program (Contact factory for specifics or go to www.leeboy.com and view extended program under the warranty tab of the dealer login home page.)
A40: Pricing is subject to change 90 days prior to delivery. | E40: Total List Price | G40: =(SUMIF(H19:H38,"X",F19:F38))+(SUMIF(H14,"X",F14)) -> 0
A41: COMMENTS:
A43: SIGNATURE: | D43: PHONE:

Sheet 3000C
A1: EQUIPMENT PRICING & ORDER FORM
F2: Effective: | G2: ='8616D'!$G$2 -> 44519
A3: Phone: 704.966.3300 | G3: Prices in US Dollars
A4: Sales@LeeBoy.com | G4: FOB Lincolnton, NC
A5: 3000C Force Feed Loader
A6: DEALER: | E6: DATE:
A7: P. O. NO: | D7: FLOOR PLAN: | E7: YES / NO | F7: WITH:
A8: NEED BY DATE: | D8: STOCK ORDER: | E8: YES / NO | F8: CUSTOMER:
A9: SHIP VIA: | D9: ***Specifications are required with orders linked to bids***
A10: CONTACT EMAIL: | D10: SOLD ORDER - CUSTOMER CLASS:
A11: SHIP TO ADDRESS:
A13: MODEL | B13: MOLDBOARD STYLE | C13: ENGINE | D13: CONVEYOR | F13: LIST PRICE | G13: ORDER NUMBER | H13: CK
A14: 3000C | B14: Tapered | C14: 130 HP Cummins | D14: 28' Straight | F14: 248780 | G14: 3000FFLT
A15: 3000C | B15: 8' Multi-purpose (Auger) | C15: 130 HP Cummins | D15: 28' Straight | F15: 258477 | G15: 3000FFLA
A16: STANDARD FEATURES
A17: See LeeBoy 3000C Specifications at: | E17: LeeBoy.com - 3000C Force Feed Loader
A18: OPTIONS
A19: DESCRIPTION | F19: LIST PRICE | G19: ORDER NUMBER | H19: CK
A20: 180 Degree Swivel Conveyor (981679 and 1005468) | F20: 38675 | G20: 0000
A21: Stand for Swivel Conveyor | F21: 2387 | G21: 988165
A22: Heating and Air Conditioning | F22: 7574 | G22: 1014501
A23: LED Light Package | F23: 1055 | G23: 982012
A24: Truck Signal Light | F24: 1998 | G24: 988324
A25: Radio/CD/Bluetooth w/Dual Speakers and Remote | F25: 1105 | G25: 1000705
A26: Central Lubrication System | F26: 2164 | G26: 1021856
A27: Shoulder Scraper Blade Attachment | F27: 3662 | G27: 1021818
A28: Extended Warranty Program (Contact factory for specifics or go to www.leeboy.com and view extended program under the warranty tab of the dealer login home page.)
A29: Pricing is subject to change 90 days prior to delivery. | E29: Total List Price | G29: =(SUMIF(H20:H27,"X",F20:F27))+(SUMIF(H14:H15,"X",F14:F15)) -> 0
A30: COMMENTS:
A32: SIGNATURE: | E32: PHONE:

Sheet 685D
A1: EQUIPMENT PRICING & ORDER FORM
F2: Effective: | G2: ='8616D'!$G$2 -> 44519
A3: Phone: 704.966.3300 | G3: Prices in US Dollars
A4: Sales@LeeBoy.com | G4: FOB Lincolnton, NC
A5: 685D Motor Grader
A6: DEALER: | E6: DATE:
A7: P. O. NO: | D7: FLOOR PLAN: | E7: YES / NO | F7: WITH:
A8: NEED BY DATE: | D8: STOCK ORDER: | E8: YES / NO | F8: CUSTOMER:
A9: SHIP VIA: | D9: ***Specifications are required with orders linked to bids***
A10: CONTACT EMAIL: | D10: SOLD ORDER - CUSTOMER CLASS:
A11: SHIP TO ADDRESS:
A13: MODEL | B13: STYLE | D13: ENGINE | F13: LIST PRICE | G13: ORDER NUMBER | H13: CK
A14: 685D | B14: ROPS/FOPS Canopy | D14: 130 HP Turbo Cummins | F14: 200942 | G14: 685CMN
A15: 685D | B15: ROPS/FOPS Cab | D15: 130 HP Turbo Cummins | F15: 208915 | G15: 685CMNC
A17: 685D AWD | B17: ROPS/FOPS Canopy | D17: 130 HP Turbo Cummins | F17: 224106 | G17: 685CMN6
A18: 685D AWD | B18: ROPS/FOPS Cab | D18: 130 HP Turbo Cummins | F18: 230571 | G18: 685CMNC6
A19: STANDARD FEATURES
A20: See LeeBoy 685D Specifications at: | E20: LeeBoy.com - 685D Motor Grader
A21: OPTIONS
A22: DESCRIPTION | F22: LIST PRICE | G22: ORDER NUMBER | H22: CK
A23: Air Conditioning (Cab model only) | F23: 5716 | G23: 1022235
A24: Rear Wiper and Washer (Cab model only) | F24: 1055 | G24: 1020899
A25: Front-mounted V-Bar Scarifier- Includes Float Control | F25: 4411 | G25: 1018880
A26: Rear-mounted Scarifier - Includes 9 ripper shanks w/teeth | F26: 4578 | G26: 1018098
A27: 8' Front Blade - includes blade float control | F27: 6630 | G27: 1018831
A28: Front Blade Mounted Flip-Down 4 Shank Scarifier **requires 8' Front Blade option | F28: 1082 | G28: 1018849
A29: 12-ft Moldboard | F29: 2214 | G29: 1018440
A30: Circle Side Shift | F30: 2497 | G30: 1018648
A31: Dead Engine Steering | F31: 2553 | G31: 1019630
A32: Cold Weather Engine Package | F32: 660 | G32: 1016450
A33: Radio/CD/Bluetooth w/Dual Speakers and Remote | F33: 1105 | G33: 1000705
A34: Back-up / Reverse camera w/in cab color display | F34: 1992 | G34: 1022240
A35: Topcon Ready ** Consult Factory for options and pricing | G35: -
A36: Extended Warranty Program (Contact factory for specifics or go to www.leeboy.com and view extended program under the warranty tab of the dealer login home page.)
A37: Pricing is subject to change 90 days prior to delivery. | E37: Total List Price | G37: =(SUMIF(H23:H35,"X",F23:F35))+(SUMIF(H14:H18,"X",F14:F18)) -> 0
A38: COMMENTS:
A40: SIGNATURE: | E40: PHONE:

Sheet 695B
A1: EQUIPMENT PRICING & ORDER FORM
F2: Effective: | G2: ='8616D'!$G$2 -> 44519
A3: Phone: 704.966.3300 | G3: Prices in US Dollars
A4: Sales@LeeBoy.com | G4: FOB Lincolnton, NC
A5: 695B Motor Grader
A6: DEALER: | E6: DATE:
A7: P. O. NO: | D7: FLOOR PLAN: | E7: YES / NO | F7: WITH:
A8: NEED BY DATE: | D8: STOCK ORDER: | E8: YES / NO | F8: CUSTOMER:
A9: SHIP VIA: | D9: ***Specifications are required with orders linked to bids***
A10: CONTACT EMAIL: | D10: SOLD ORDER - CUSTOMER CLASS:
A11: SHIP TO ADDRESS:
A13: MODEL | B13: STYLE | D13: ENGINE | F13: LIST PRICE | G13: ORDER NUMBER | H13: CK
A14: 695B | B14: ROPS/FOPS Canopy | D14: 130 HP Turbo Cummins | F14: 221120 | G14: 695CMN
A15: 695B | B15: ROPS/FOPS Cab | D15: 130 HP Turbo Cummins | F15: 231330 | G15: 695CMNC
A17: 695B AWD | B17: ROPS/FOPS Canopy | D17: 130 HP Turbo Cummins | F17: 239458 | G17: 695CMN6
A18: 695B AWD | B18: ROPS/FOPS Cab | D18: 130 HP Turbo Cummins | F18: 247419 | G18: 695CMNC6
A19: STANDARD FEATURES
A20: See LeeBoy 695B Specifications at: | E20: LeeBoy.com - 695B Motor Grader
A21: OPTIONS
A22: DESCRIPTION | F22: LIST PRICE | G22: ORDER NUMBER | H22: CK
A23: Front-mounted V-Bar Scarifier - includes float control | F23: 3246 | G23: 1020797
A24: Rear-mounted Scarifier - includes 9 ripper shanks w/teeth | F24: 3607 | G24: 1018098
A25: 8' Front Blade - includes blade float control | F25: 6630 | G25: 1020796
A26: Front Blade Mounted Flip-Down 4 Shank Scarifier ** requires 8' Front Blade option | F26: 1082 | G26: 1018849
A27: 12-ft Moldboard | F27: 2214 | G27: 1018440
A28: Circle Side Shift | F28: 2497 | G28: 1018976
A29: Foot Throttle | F29: 1193 | G29: 12756481
A30: F-N-R Pedal | F30: 2497 | G30: 12755681
A31: Dead Engine Steering | E31: FALSE | F31: 2553 | G31: 1020798
A32: Cold Weather Engine Package | F32: 638 | G32: 1016450
A33: Back-up / Reverse camera w/in cab color display | F33: 1992 | G33: 1022240
A34: Topcon Ready ** Consult Factory for options and pricing | G34: -
A35: Extended Warranty Program (Contact factory for specifics or go to www.leeboy.com and view extended program under the warranty tab of the dealer login home page.)
A36: Pricing is subject to change 90 days prior to delivery. | E36: Total List Price | G36: =(SUMIF(H23:H34,"X",F23:F34))+(SUMIF(H14:H18,"X",F14:F18)) -> 0
A37: COMMENTS:
A39: SIGNATURE: | E39: PHONE:

Sheet New Tack Tanks
A1: EQUIPMENT PRICING & ORDER FORM
F2: Effective: | G2: ='8616D'!$G$2 -> 44519
A3: Phone: 704.966.3300 | G3: Prices in US Dollars
A4: Sales@LeeBoy.com | G4: FOB Lincolnton, NC
A5: Tack Distributors
A6: DEALER: | E6: DATE:
A7: P. O. NO: | D7: FLOOR PLAN: | E7: YES / NO | F7: WITH:
A8: NEED BY DATE: | D8: STOCK ORDER: | E8: YES / NO | F8: CUSTOMER:
A9: SHIP VIA: | D9: ***Specifications are required with orders linked to bids***
A10: CONTACT EMAIL: | D10: SOLD ORDER - CUSTOMER CLASS:
A11: SHIP TO ADDRESS:
A13: MODEL | B13: ENGINE | D13: STYLE | F13: LIST PRICE | G13: ORDER NUMBER | H13: CK
A14: L150S | B14: 4.8 HP Honda Gas (pull start) | D14: Skid | F14: 14000 | G14: 150SG5
A15: L150T | B15: 4.8 HP Honda Gas (pull start) | D15: Trailer | F15: 15077 | G15: 150TG5
A16: L300S | B16: 4.8 HP Honda Gas (pull start) | D16: Skid | F16: 15625 | G16: 300SG5
A17: L300T | B17: 4.8 HP Honda Gas (pull start) | D17: Trailer | F17: 16700 | G17: 300TG5
A18: L600S | B18: 4.8 HP Honda Gas (pull start) | D18: Skid | F18: 20372 | G18: 600SG5
A19: L600T | B19: 4.8 HP Honda Gas (pull start) | D19: Trailer | F19: 21449 | G19: 600TG5
A20: STANDARD FEATURES
A21: See LeeBoy Tack Tank Specifications at: | E21: LeeBoy.com - Tack Distributors
A22: OPTIONS
A23: DESCRIPTION | F23: LIST PRICE | G23: ORDER NUMBER | H23: CK
A24: 7.3 HP Hatz Diesel Engine (pull start) | F24: 3219 | G24: 1020936
A25: Electric Start (1020935 / 1020937) | F25: 1110
A26: Diesel Burner w/Auto Ignition Burner with Outfire Protection ** requires Electric Start Engine | F26: 2164 | G26: 1021531
A27: Insulated Tank (150 Gallon) | F27: 1943 | G27: 1023563
A28: Insulated Tank (300 Gallon) | F28: 2331 | G28: 1022079
A29: Insulated Tank (600 Gallon) | F29: 3995 | G29: 1022119
A30: 12-ft Spray Bar Pattern (1024018 / 1023372 / 1023383) | F30: 1804
A31: In-Truck Controls includes Wireless Remote ** requires Spray Bar option (1023737 / 1023738 / 1023739) | F31: 2160
A32: Spraybar Lift includes Wireless Remote ** requires Spray Bar option (1024020 / 1024013 / 1024014) | F32: 4106
A33: Overnight Heater (1023973 / 1005857) | F33: 1526
A34: 2 5/16" Ball Hitch ** only available on the L150T/300T | F34: 83 | G34: 1005855
A35: Extended Warranty Program (Contact factory for specifics or go to www.leeboy.com and view extended program under the warranty tab of the dealer login home page.)
A36: Pricing is subject to change 90 days prior to delivery. | E36: Total List Price | G36: =(SUMIF(H14:H19,"X",F14:F19))+(SUMIF(H24:H34,"X",F24:F34)) -> 0
A37: COMMENTS:
A39: SIGNATURE: | E39: PHONE:

Sheet 4130
A1: EQUIPMENT PRICING & ORDER FORM
F2: Effective: | G2: ='8616D'!$G$2 -> 44519
A3: Phone: 704.966.3300 | G3: Prices in US Dollars
A4: Sales@LeeBoy.com | G4: FOB Lincolnton, NC
A5: 4130 Road Widener
A6: DEALER: | E6: DATE:
A7: P. O. NO: | D7: FLOOR PLAN: | E7: YES / NO | F7: WITH:
A8: NEED BY DATE: | D8: STOCK ORDER: | E8: YES / NO | F8: CUSTOMER:
A9: SHIP VIA: | D9: ***Specifications are required with orders linked to bids***
A10: CONTACT EMAIL: | D10: SOLD ORDER - CUSTOMER CLASS:
A11: SHIP TO ADDRESS:
A13: MODEL | B13: DRIVE | C13: ENGINE | F13: LIST PRICE | G13: ORDER NUMBER | H13: CK
A14: 4130 | B14: Rubber Tired | C14: 74 HP Cummins QSF2.8 | F14: 220370 | G14: 4130CMN
A15: 4130 | B15: Rubber Tired | C15: 130HP Cummins QSF2.8 | F15: 242316 | G15: 4130CMN
A16: STANDARD FEATURES
A17: See LeeBoy 4130 Specifications at: | E17: LeeBoy.com - 4130 Road Widener
A18: OPTIONS
A19: DESCRIPTION | F19: LIST PRICE | G19: ORDER NUMBER | H19: CK
A20: Strike-Off Components
A21: Left Hand Strike off (Additional) | F21: 9872 | G21: 1023287
A22: 1' Contoured Strike Off Section | F22: 1886 | G22: 1022348
A23: 3' Contoured Strike Off Section | F23: 2191 | G23: 1023336
A24: Controls
A25: Topcon Controls - Single Grade - Sonic | F25: 11931 | G25: 1021174
A26: Topcon Controls - Single Slope - Sonic | F26: 12153 | G26: 1021173
A27: Additional Equipment Options
A28: 4 Wheel Drive with 4 wheel Steering ** requires 130HP Engine Option | F28: 15260 | G28: 1017398
A29: Washdown System with 2 Hose Reels and 7 Gallon Tank | F29: 3301 | G29: 1019319
A30: Truck Hitch | F30: 6714 | G30: 1016948
A31: Umbrella | F31: 583 | G31: 920235
A32: Extended Warranty Program (Contact factory for specifics or go to www.leeboy.com and view extended program under the warranty tab of the dealer login home page.)
A33: Pricing is subject to change 90 days prior to delivery. | E33: Total List Price | G33: =(SUMIF(H21:H31,"X",F21:F31))+(SUMIF(H14:H15,"X",F14:F15)) -> 0
A34: COMMENTS:
A36: SIGNATURE: | E36: PHONE:
