Workbook

Sheet TOC
I12: Master Price List
I14: 2020 Ford PI Utility
I16: Ford PI Utility
I18: Ford Expedition
I20: Ford F150
I22: Ford F250
I24: Chevy Tahoe
I26: 2014-2018 Chevy 1500 Silverado
I28: 2019-2020 Chevy 1500 Silverado
I30: 2015-2019 Chevy 2500 Silverado
I32: 2020 Chevy 2500 Silverado
I34: Chevy Suburban
... I48: Face Plate B List

Sheet Master Price List
A1: TOC | B1: TROY PRODUCTS 2019 MASTER PRICE LIST | D1: 0.05 | E1: Updates/Changes
A2: TROY PART # | B2: PRODUCT DESCRIPTION | C2: MSRP | D2: DISCOUNT %
A3: Consoles
A4: PI Utility Consoles - Vehicle-Specific; OEM mounting points must be used (Cannot be transferred to different vehicles)
A5: CC-UV-L-18 | B5: 2013-19 UV-specific 18" L-shape console; 12" slope/ 6" level; Mix long and short components | C5: 472 | D5: =C5-(C5*$D$1) -> 448.4
A6: CC-UV-L-20 | B6: 2013-19 UV-specific 20" L-shape console; 12" slope/ 8" level; Mix long and short components | C6: 493 | D6: =C6-(C6*$D$1) -> 468.35
A7: CC-UV-S10-L8 | B7: 2013-19 UV-specific 18" L-shape console; 10" slope/ 8" level; Mix long and short components | C7: 450 | D7: =C7-(C7*$D$1) -> 427.5
A8: CC-UV-10-11 | B8: 2013-19 UV-specific 21" L-shaped console; 10" slope/11" level; Mix of long and short components | C8: 519 | D8: =C8-(C8*$D$1) -> 493.05
A9: CC-UV-V12 | B9: 2013-19 UV-specific 12" vertical console. Short footprint. More officer hip room. | C9: 420 | D9: =C9-(C9*$D$1) -> 399
A10: CC-UV20-L-18 | B10: New! 2020 PI Utility 18" L-Shape Console, 7" Slope, 11" Level (no floor plate needed, mounts directly to floor). If needed, includes AC-UV20-HC harness cover. | C10: 491 | D10: =C10-(C10*$D$1) -> 466.45 | E10: New Product
A11: CC-UV20-L-20 | B11: New! 2020 PI Utility 20" L-Shape Console, 7" Slope, 13" Level (no floor plate needed, mounts directly to floor). If needed, includes AC-UV20-HC harness cover. | C11: 510 | D11: =C11-(C11*$D$1) -> 484.5 | E11: New Product
A12: CC-20-UV10-L8 | B12: New! 2020 PI Utility 18" Sloped console, 10" slope, 8" level (no floor plate needed, mounts directly to floor) | C12: 491 | D12: =C12-(C12*$D$1) -> 466.45 | E12: New Product
A13: CC-20-UVLP-14 | B13: New! 2020 PI Utility 14" Low-profile Console, 8" Slope, 6" Level (no floor plate needed, mounts directly to floor). | C13: 430 | D13: =C13-(C13*$D$1) -> 408.5 | E13: New Product
A14: CC-20-UVLP-17 | B14: New! 2020 PI Utility 17" Low-profile Console, 8" Slope, 9" Level (no floor plate needed, mounts directly to floor). If needed, includes AC-UV20-HC harness cover. | C14: 446 | D14: =C14-(C14*$D$1) -> 423.7 | E14: New Product
A15: CC-20FDUV-22 | B15: New! 2020 PI Utility 22" Level Console. Pre-punched holes for U-mount (no floor plate needed, mounts directly to floor). If needed, includes AC-UV20-HC harness cover. | C15: 440 | D15: =C15-(C15*$D$1) -> 418 | E15: New Product
A17: PI Utility Consoles - Vehicle-Compatible (Can be transferred to different vehicles)
A18: CC-UV-PCFX14 | B18: 2013-19 UV-compatible 14" (3"/11" console w/computer deck; Fits one dash-mount radio. Low profile. | C18: 446 | D18: =C18-(C18*$D$1) -> 423.7
A19: CC-FDUV-14-HC | B19: 2013-19 UV compatible 14" console : 7" slope/7" level. Flat deck features computer wire hole. Low profile. | C19: 420 | D19: =C19-(C19*$D$1) -> 399
A20: CC-FDUV-14 | B20: 2013-19 UV compatible 14" level console. Use remote head components for best fit. | C20: 420 | D20: =C20-(C20*$D$1) -> 399
A21: CC-FDUV-16 | B21: 2013-19 UV compatible 16" level console. Use remote head equipment for best fit. | C21: 446 | D21: =C21-(C21*$D$1) -> 423.7
A22: CC-C08 | B22: 2013-19 UV compatible 18" console. Use remote head equipment for best fit. | C22: 481 | D22: =C22-(C22*$D$1) -> 456.95
A23: CC-C20 | B23: 2013-19 UV compatible 20" console. Use remote head equipment for best fit. | C23: 502 | D23: =C23-(C23*$D$1) -> 476.9
A24: CC-FDUV-MC14 | B24: 2013-19 UV compatible 14" tall-profile console, 7" slope/7" level. Works with other vehicles. | C24: 420 | D24: =C24-(C24*$D$1) -> 399
A25: CC-FDUV-MC18 | B25: 2013-19 UV compatible 18" tall-profile console: 7" slope/ 11" level. Works with other vehicles. | C25: 467 | D25: =C25-(C25*$D$1) -> 443.65
A27: PI Utility Overhead Consoles - Vehicle-Specific (Cannot be transferred to other vehicles)
A28: CC-OH-UV-CPD7 | B28: 2013-19 PI UV/Taurus Overhead 7" Console. Re-locate UV hatch release button. | C28: 300 | D28: =C28-(C28*$D$1) -> 285
A29: CC-G-OH-UV | B29: *2016 PI Utility Overhead siren remote-head console. Accommodates hatch release button in 2016 models. | C29: 275 | D29: =C29-(C29*$D$1) -> 261.25
A30: CC-UV20-OH | B30: New! 2020 PI UV Overhead 4"Console - mounts siren control and radio remote head | C30: 320 | D30: =C30-(C30*$D$1) -> 304 | E30: New Product
A32: PI Taurus Vehicle-Specific Consoles (Tall Profile)
A33: CC-PI-L-18 | B33: 2013-19 PI Taurus 18" L-shape console; 10" slope/ 8" level; Mix of long and short components. Tall profile. | C33: 472 | D33: =C33-(C33*$D$1) -> 448.4
A34: CC-PI-V10 | B34: 2013-19 PI Taurus 10" vertical console; Mix of long/short components. Short footprint. Tall profile. | C34: 425 | D34: =C34-(C34*$D$1) -> 403.75
A35: CC-PI-MC14 | B35: 2013-19 PI Taurus 14" L-shape console: 7" slope/ 7" level. Tall profile. | C35: 446 | D35: =C35-(C35*$D$1) -> 423.7
A36: CC-PI-MC18 | B36: 2013-19 PI Taurus 18" L-shape console: 7" slope/ 11" level. Tall profile. | C36: 472 | D36: =C36-(C36*$D$1) -> 448.4
A37: CC-PI-DM7-15 | B37: 2013-19 PI Taurus 15" Console with Flat deck; 7" slope/8" level. Tall profile. | C37: 435 | D37: =C37-(C37*$D$1) -> 413.25
A39: 2018 Expedition Over-head Consoles, Vehicle-Specific (Cannot be transferred to other vehicles)
A40: CC-OH-EXP18-7 | B40: 2018-19 Expedition 7” overhead console. Face plates* included in console price. | C40: 288 | D40: =C40-(C40*$D$1) -> 273.6
A42: 2015-20 Tahoe-Specific Consoles (Can be transferred only to Suburban)
A43: CC-F-TMC-79 | B43: 2015-20 Tahoe 16" L-shape console; 7" slope/ 9" level | C43: 475 | D43: =C43-(C43*$D$1) -> 451.25
A44: CC-F-TMC-711 | B44: 2015-20 Tahoe 18" L-shape console: 7" slope/ 11" level | C44: 498 | D44: =C44-(C44*$D$1) -> 473.1
A45: CC-F-TMC-715 | B45: 2015-20 Tahoe 22" L-shape console: 7" slope/ 15" level | C45: 546 | D45: =C45-(C45*$D$1) -> 518.7
...

Sheet Console Accessories
A1: TOC | B1: CONSOLE ACCESSORIES | D1: 0.05
A2: TROY PART # | B2: PRODUCT DESCRIPTION | C2: MSRP | D2: DISCOUNT %
A3: ='Master Price List'!A197 -> CONSOLE ACCESSORIES
A5: ='Master Price List'!A199 -> Arm Rest ( Height Adjustable Models)
A7: ='Master Price List'!A200 -> Bolts to Floor Plate (pad can be flipped up)
A8: ='Master Price List'!A201 -> AC-TB-ARM | B8: ='Master Price List'!B201 -> Height-adjustable arm rest w/ 5x8 pad. Bolts to floor plate. (Formerly part number AC-ARM) | C8: ='Master Price List'!C201 -> 175 | D8: =C8-(C8*$D$1) -> 166.25
A9: ='Master Price List'!A202 -> AC-TB-ARM-XL | B9: ='Master Price List'!B202 -> Height-adjustable arm rest w/5x10 pad. Bolts to floor plate. (Formerly part number AC-ARM-XL) | C9: ='Master Price List'!C202 -> 185 | D9: =C9-(C9*$D$1) -> 175.75
A11: ='Master Price List'!A204 -> Bolts to Console
A12: ='Master Price List'!A205 -> AC-TB-ARMMNT-58 | B12: ='Master Price List'!B205 -> Console mounted height adjustable arm rest. (Formerly part number AC-ARMMNT-58) | C12: ='Master Price List'!C205 -> 175 | D12: =C12-(C12*$D$1) -> 166.25
A13: ='Master Price List'!A206 -> AC-TB-ARMMNT-XL | B13: ='Master Price List'!B206 -> Console mounted height adjustable arm rest w/ large leather pad. (Formerly part number AC-ARMMNT-XL) | C13: ='Master Price List'!C206 -> 185 | D13: =C13-(C13*$D$1) -> 175.75
A15: ='Master Price List'!A208 -> Arm Rests - Bolt to console side or rear walls
A16: ='Master Price List'!A209 -> AC-SIDEARM-6 | B16: ='Master Price List'!B209 -> 6" x 2" leather arm pad on 5" tall L bracket. Bolts to console side or rear. | C16: ='Master Price List'!C209 -> 94 | D16: =C16-(C16*$D$1) -> 89.3
A17: ='Master Price List'!A210 -> AC-SIDEARM-9 | B17: ='Master Price List'!B210 -> 9" x 3" molded foam arm pad on 5" tall L bracket. Bolts to console side or rear. | C17: ='Master Price List'!C210 -> 120 | D17: =C17-(C17*$D$1) -> 114
A18: ='Master Price List'!A211 -> AC-SIDEARM-12 | B18: ='Master Price List'!B211 -> 12" x 2" leather arm pad on 5" tall L bracket. Bolts to console side or rear wall of wide-body consoles. | C18: ='Master Price List'!C211 -> 126 | D18: =C18-(C18*$D$1) -> 119.7
A20: ='Master Price List'!A213 -> Arm Rest Pads on Face Plates
A21: ='Master Price List'!A214 -> FP-ARM1 | B21: ='Master Price List'!B214 -> 1" face plate w/2" foam pad. Bolt to console on face plate rail. Uses 1" | C21: ='Master Price List'!C214 -> 47 | D21: =C21-(C21*$D$1) -> 44.65
A22: ='Master Price List'!A215 -> FP-ARM | B22: ='Master Price List'!B215 -> 2" face plate w/2" foam pad. Bolt to console on face plate rail. Uses 2" | C22: ='Master Price List'!C215 -> 52 | D22: =C22-(C22*$D$1) -> 49.4
A23: ='Master Price List'!A216 -> FP-ARM3 | B23: ='Master Price List'!B216 -> 3" face plate w/ 3" leather pad. Bolt to console on face plate rail. Uses 3" | C23: ='Master Price List'!C216 -> 73 | D23: =C23-(C23*$D$1) -> 69.35
A24: ='Master Price List'!A217 -> FP-ARM4 | B24: ='Master Price List'!B217 -> 4" face plate w/3" leather pad. Bolt to console on face plate rail. Uses 4" | C24: ='Master Price List'!C217 -> 73 | D24: =C24-(C24*$D$1) -> 69.35
A26: ='Master Price List'!A219 -> Beverage Holders (Internal and External Models) Internal / External
A27: ='Master Price List'!A220 -> AC-INBHG | B27: ='Master Price List'!B220 -> 4" internal dual beverage holder. Remove top and use it as 4" open storage compartment. | C27: ='Master Price List'!C220 -> 52 | D27: =C27-(C27*$D$1) -> 49.4
A28: ='Master Price List'!A221 -> AC-INTSBH | B28: ='Master Price List'!B221 -> 4" internal single beverage holder w/ 3 DC capped outlets | C28: ='Master Price List'!C221 -> 94 | D28: =C28-(C28*$D$1) -> 89.3
A29: ='Master Price List'!A222 -> AC-BH(S)95 | B29: ='Master Price List'!B222 -> External single beverage holder. Includes rubber fingers to keep cup stabilized. | C29: ='Master Price List'!C222 -> 47 | D29: =C29-(C29*$D$1) -> 44.65
A30: ='Master Price List'!A223 -> AC-BH95 | B30: ='Master Price List'!B223 -> External dual beverage holder. Includes rubber fingers to keep cups stabilized. | C30: ='Master Price List'!C223 -> 52 | D30: =C30-(C30*$D$1) -> 49.4
A31: ='Master Price List'!A224 -> AC-MCBHPKT | B31: ='Master Price List'!B224 -> Externally mounted dual beverage holder/posse book combination | C31: ='Master Price List'!C224 -> 136 | D31: =C31-(C31*$D$1) -> 129.2
A33: ='Master Price List'!A226 -> Internal Open-Top Low-Profile Storage (Bolts to console face plate rails)
A34: ='Master Price List'!A227 -> AC-TICK-2 | B34: ='Master Price List'!B227 -> 3" face plate shallow tray; For items such as keys, wallet, sunglasses, etc. 2" H | C34: ='Master Price List'!C227 -> 42 | D34: =C34-(C34*$D$1) -> 39.9
A35: ='Master Price List'!A228 -> FP-SGTRAY | B35: ='Master Price List'!B228 -> 4" face plate shallow tray w/sloped floor; Store cell phone, keys, wallet, sunglasses, etc. 1.75" H | C35: ='Master Price List'!C228 -> 40 | D35: =C35-(C35*$D$1) -> 38
A36: ='Master Price List'!A229 -> AC-TICK7-LP | B36: ='Master Price List'!B229 -> 7" face plate shallow tray; For items such as keys; wallet, sunglasses, smart phone, etc.. 3.4" H | C36: ='Master Price List'!C229 -> 78 | D36: =C36-(C36*$D$1) -> 74.1
A38: ='Master Price List'!A231 -> Internal Lidded Low-Profile Storage (Bolts to console face plate rails). Fits inside 4" tall consoles.
A39: ='Master Price List'!A233 -> AC-GUNBOX-6-LP | B39: ='Master Price List'!B233 -> 6" internal lidded locking low-profile internal storage box (may not accommodate handgun) 3.6" H | C39: ='Master Price List'!C233 -> 141 | D39: =C39-(C39*$D$1) -> 133.95
A40: ='Master Price List'!A235 -> AC-GUNBOX-LP | B40: ='Master Price List'!B235 -> 8" internal lidded locking low-profile storage box (might accommodate handgun) 3.6" H | C40: ='Master Price List'!C235 -> 157 | D40: =C40-(C40*$D$1) -> 149.15
A41: ='Master Price List'!A236 -> AC-GUNBOX-10-LP | B41: ='Master Price List'!B236 -> 10" internal lidded locking low-profile storage box (can accommodate handgun) 3.6" H | C41: ='Master Price List'!C236 -> 157 | D41: =C41-(C41*$D$1) -> 149.15
A43: ='Master Price List'!A238 -> Internal Open-Top Deep-Profile Storage (Bolts to console face plate rails)
A44: ='Master Price List'!A239 -> FP-TICK | B44: ='Master Price List'!B239 -> 3" face plate pocket; For items such as ticket books. 7.25" W x 3" L x 5.2" H | C44: ='Master Price List'!C239 -> 42 | D44: =C44-(C44*$D$1) -> 39.9
A45: ='Master Price List'!A240 -> FP-3PKT-2DC | B45: ='Master Price List'!B240 -> 3" face plate pocket; one DC outlet hole on each side of pocket | C45: ='Master Price List'!C240 -> 47 | D45: 27
A46: ='Master Price List'!A241 -> FP-BOX | B46: ='Master Price List'!B241 -> 5" Open-top box (5.35" tall) | C46: ='Master Price List'!C241 -> 52 | D46: =C46-(C46*$D$1) -> 49.4
A47: ='Master Price List'!A242 -> AC-BOX-12 | B47: ='Master Price List'!B242 -> Open top storage box for bolting inside long consoles (uses 12" of face plate mounting area) | C47: ='Master Price List'!C242 -> 136 | D47: =C47-(C47*$D$1) -> 129.2
A48: ='Master Price List'!A243 -> FP-BOX-15 | B48: ='Master Price List'!B243 -> Open top storage box for bolting inside long consoles (uses 15" of face plate mounting area) | C48: ='Master Price List'!C243 -> 136 | D48: 78
A49: ='Master Price List'!A244 -> AC-BOX-16 | B49: ='Master Price List'!B244 -> Open top storage box for bolting inside long consoles (uses 16" of face plate mounting area) | C49: ='Master Price List'!C244 -> 141 | D49: =C49-(C49*$D$1) -> 133.95
...

Sheet Face Plate A List
A1: TOC | B1: FACE PLATE A LIST | D1: 0.05
A2: TROY PART # | B2: PRODUCT DESCRIPTION | C2: MSRP | D2: DISCOUNT %
A3: Improtant: *Face plates that are not on the A & B lists are considered a custom part and will be charged a one-time set-up fee of $100.00 with a minium order requirement of five (5). Price for custom plate will be $35.00/ea.
A5: MOTOROLA RADIO
A6: ='Master Price List'!A363 -> FP-M9004 | B6: ='Master Price List'!B363 -> 2" DEK A9 (direct entry keypad) | C6: ='Master Price List'!C363 -> 40 | D6: =C6-(C6*$D$1) -> 38
A7: ='Master Price List'!A364 -> FP-M9005 | B7: ='Master Price List'!B364 -> 3" Dual DEK A9 face plate | C7: ='Master Price List'!C364 -> 40 | D7: =C7-(C7*$D$1) -> 38
A8: ='Master Price List'!A365 -> FP-MXTL2500 | B8: ='Master Price List'!B365 -> 3" XTL2500/5000/APX6500 remote 05/07 | C8: ='Master Price List'!C365 -> 40 | D8: =C8-(C8*$D$1) -> 38
A9: ='Master Price List'!A366 -> FP-MXTL5000 | B9: ='Master Price List'!B366 -> 3" XTL2500/5000/APX6500 One-piece, 05/07 | C9: ='Master Price List'!C366 -> 40 | D9: =C9-(C9*$D$1) -> 38
A10: ='Master Price List'!A367 -> FP-MAPX6500-07-R | B10: ='Master Price List'!B367 -> 3" APX 6500 remote 07 head | C10: ='Master Price List'!C367 -> 45 | D10: =C10-(C10*$D$1) -> 42.75
A11: ='Master Price List'!A368 -> FP-MCS2001 | B11: ='Master Price List'!B368 -> 3" MCS 2000, Model 1, one-piece | C11: ='Master Price List'!C368 -> 40 | D11: =C11-(C11*$D$1) -> 38
A12: ='Master Price List'!A369 -> FP-MXPR5550 | B12: ='Master Price List'!B369 -> 3" XPR 4500/4550/4580 one-piece | C12: ='Master Price List'!C369 -> 40 | D12: =C12-(C12*$D$1) -> 38
A13: ='Master Price List'!A370 -> FP-MTURBO | B13: ='Master Price List'!B370 -> 3" XPR 4500/4550/4580 remote head | C13: ='Master Price List'!C370 -> 40 | D13: =C13-(C13*$D$1) -> 38
A14: ='Master Price List'!A371 -> FP-CM300 | B14: ='Master Price List'!B371 -> 3" CM300 Radio | C14: ='Master Price List'!C371 -> 40 | D14: =C14-(C14*$D$1) -> 38
A15: ='Master Price List'!A371 -> FP-CM300 | B15: ='Master Price List'!B371 -> 3" CM300 Radio | C15: ='Master Price List'!C371 -> 40 | D15: =C15-(C15*$D$1) -> 38
A16: ='Master Price List'!A372 -> FP-CDM1250 | B16: ='Master Price List'!B372 -> 3" CDM750/1250/1550 one-piece | C16: ='Master Price List'!C372 -> 40 | D16: =C16-(C16*$D$1) -> 38
A17: ='Master Price List'!A373 -> FP-CDM1250(R) | B17: ='Master Price List'!B373 -> 3" CDM750/1250/1550 remote head | C17: ='Master Price List'!C373 -> 40 | D17: =C17-(C17*$D$1) -> 38
A18: ='Master Price List'!A375 -> FP-MAPX6500-02 | B18: ='Master Price List'!B375 -> 4" APX 6500 02 remote head | C18: ='Master Price List'!C375 -> 40 | D18: =C18-(C18*$D$1) -> 38
A19: ='Master Price List'!A379 -> FP-XTL2500-D | B19: ='Master Price List'!B379 -> 5" Dual XTL2500 remote head 05/07 | C19: ='Master Price List'!C379 -> 55 | D19: =C19-(C19*$D$1) -> 52.25
A20: ='Master Price List'!A380 -> FP-XTL5000-D | B20: ='Master Price List'!B380 -> 5" Dual XTL5000 one-piece 05/07 | C20: ='Master Price List'!C380 -> 50 | D20: =C20-(C20*$D$1) -> 47.5
A22: ='Master Price List'!A522 -> UNIDEN/BEARCAT
A23: ='Master Price List'!A523 -> FP-UBCD996T | B23: ='Master Price List'!B523 -> 3" D996-T Scanner | C23: ='Master Price List'!C523 -> 40 | D23: =C23-(C23*$D$1) -> 38
A25: ='Master Price List'!A425 -> HARRIS RADIOS
A26: ='Master Price List'!A426 -> FP-ORION(R) | B26: ='Master Price List'!B426 -> 3" XG-100M CH-721 XG-75M remote head | C26: ='Master Price List'!C426 -> 40 | D26: =C26-(C26*$D$1) -> 38
A27: ='Master Price List'!A427 -> FP-HARRIS-T | B27: ='Master Price List'!B427 -> 3" M7200, remote, tilted toward driver, custom | C27: ='Master Price List'!C427 -> 40 | D27: =C27-(C27*$D$1) -> 38
A29: ='Master Price List'!A391 -> ICOM RADIOS
A30: ='Master Price List'!A392 -> FP-ICOMA200 | B30: ='Master Price List'!B392 -> 2" IC-A200 Aviation radio | C30: ='Master Price List'!C392 -> 40 | D30: =C30-(C30*$D$1) -> 38
A31: ='Master Price List'!A393 -> FP-ICF121 | B31: ='Master Price List'!B393 -> 2" IC-F121/F221 radio | C31: ='Master Price List'!C393 -> 40 | D31: =C31-(C31*$D$1) -> 38
A32: ='Master Price List'!A394 -> FP-ICOMA110 | B32: ='Master Price List'!B394 -> 3" IC-A110 Aviation radio | C32: ='Master Price List'!C394 -> 40 | D32: =C32-(C32*$D$1) -> 38
A33: ='Master Price List'!A395 -> FP-ICOMA120 | B33: ='Master Price List'!B395 -> 3" IC-A120 Aviation radio | C33: ='Master Price List'!C395 -> 40 | D33: =C33-(C33*$D$1) -> 38
A34: ='Master Price List'!A396 -> FP-ICF1721D | B34: ='Master Price List'!B396 -> 3" IC-F1721D/F1821D radio | C34: ='Master Price List'!C396 -> 40 | D34: =C34-(C34*$D$1) -> 38
A35: ='Master Price List'!A397 -> FP-ICF6061D | B35: ='Master Price List'!B397 -> 3" IC-F5061,-D, F6061,-D radios | C35: ='Master Price List'!C397 -> 40 | D35: =C35-(C35*$D$1) -> 38
A37: CODE 3 LIGHT BARS/SIRENS
A38: ='Master Price List'!A472 -> FP-C33892-3 | B38: ='Master Price List'!B472 -> 3" Custom 3” version of FP-C33892 | C38: ='Master Price List'!C472 -> 40 | D38: =C38-(C38*$D$1) -> 38
A39: ='Master Price List'!A473 -> FP-C3-Z3 | B39: ='Master Price List'!B473 -> 4" Z3 remote lights/siren controller | C39: ='Master Price List'!C473 -> 40 | D39: =C39-(C39*$D$1) -> 38
A40: ='Master Price List'!A474 -> FP-C3-XCEL | B40: ='Master Price List'!B474 -> 4" XCEL one-pc. lights/siren controller | C40: ='Master Price List'!C474 -> 40 | D40: =C40-(C40*$D$1) -> 38
A41: ='Master Price List'!A475 -> FP-C33892 | B41: ='Master Price List'!B475 -> 4" Mastercomm one-pc. lights/siren controller | C41: ='Master Price List'!C475 -> 40 | D41: =C41-(C41*$D$1) -> 38
A43: ='Master Price List'!A399 -> KENWOOD RADIOS
A44: ='Master Price List'!A400 -> FP-KTK7180/8180 | B44: ='Master Price List'!B400 -> 2" TK-7180H/8180H/8180 mobile radio | C44: ='Master Price List'!C400 -> 40 | D44: =C44-(C44*$D$1) -> 38
A45: ='Master Price List'!A401 -> FP-K-NX3720 | B45: ='Master Price List'!B401 -> 2" NX-3720HG/3820HG mobile radio | C45: ='Master Price List'!C401 -> 40 | D45: =C45-(C45*$D$1) -> 38
A46: ='Master Price List'!A404 -> FP-KENTK790MR | B46: ='Master Price List'!B404 -> 3" 790/890 remote head radio | C46: ='Master Price List'!C404 -> 40 | D46: =C46-(C46*$D$1) -> 38
...

Sheet Face Plate B List
A1: TOC | B1: FACE PLATE B LIST | D1: 0.05
A2: TROY PART # | B2: PRODUCT DESCRIPTION | C2: MSRP | D2: DISCOUNT %
A3: Improtant: *Face plates that are not on the A & B lists are considered a custom part and will be charged a one-time set-up fee of $100.00 with a minium order requirement of five (5) . Price for custom plate will be $35.00/ea.
A5: MOTOROLA RADIO
A6: ='Master Price List'!A377 -> FP-T-XTL5000-4 | B6: ='Master Price List'!B377 -> 4" XTL5000 one-piece, tilted for better view | C6: ='Master Price List'!C377 -> 55 | D6: =C6-(C6*$D$1) -> 52.25
A7: ='Master Price List'!A373 -> FP-CDM1250(R) | B7: ='Master Price List'!B373 -> 3" CDM750/1250/1550 remote head | C7: ='Master Price List'!C373 -> 40 | D7: =C7-(C7*$D$1) -> 38
A8: ='Master Price List'!A378 -> FP-M9001 | B8: ='Master Price List'!B378 -> 4" 9000, A9/C9/W9 control head, remote | C8: ='Master Price List'!C378 -> 40 | D8: =C8-(C8*$D$1) -> 38
A9: ='Master Price List'!A374 -> FP-SPRCTR(S) | B9: ='Master Price List'!B374 -> 3" Spectra 07 head, replaced by XTL2500 | C9: ='Master Price List'!C374 -> 40 | D9: =C9-(C9*$D$1) -> 38
A10: ='Master Price List'!A381 -> FP-MOTOROLA09-7 | B10: ='Master Price List'!B381 -> 7” version of FP-MOTOROLA-09 | C10: ='Master Price List'!C381 -> 50 | D10: =C10-(C10*$D$1) -> 47.5
A11: ='Master Price List'!A382 -> FP-MOTOROLA-09 | B11: ='Master Price List'!B382 -> 8" 09 Control Head | C11: ='Master Price List'!C382 -> 50 | D11: =C11-(C11*$D$1) -> 47.5
A13: ='Master Price List'!A445 -> MIDLAND RADIOS
A14: ='Master Price List'!A446 -> FP-MDSTM1050B | B14: ='Master Price List'!B446 -> 3" Syntec II STM1050B dash/remote head | C14: ='Master Price List'!C446 -> 40 | D14: =C14-(C14*$D$1) -> 38
A16: ='Master Price List'!A425 -> HARRIS RADIOS
A17: ='Master Price List'!A432 -> FP-H-XG25M | B17: ='Master Price List'!B432 -> 4" XG-25M one-piece | C17: ='Master Price List'!C432 -> 40 | D17: =C17-(C17*$D$1) -> 38
A18: ='Master Price List'!A433 -> FP-H-XG25M-R | B18: ='Master Price List'!B433 -> 4" XG-25M remote head | C18: ='Master Price List'!C433 -> 40 | D18: =C18-(C18*$D$1) -> 38
A19: ='Master Price List'!A429 -> FP-GEMDX | B19: ='Master Price List'!B429 -> 3" Ericcson GE MDX radio | C19: ='Master Price List'!C429 -> 40 | D19: =C19-(C19*$D$1) -> 38
A20: ='Master Price List'!A430 -> FP-ERIC-KRY-RD | B20: ='Master Price List'!B430 -> 3" KRY, Harris CH-721, XG-75M, M7300 | C20: ='Master Price List'!C430 -> 40 | D20: =C20-(C20*$D$1) -> 38
A21: ='Master Price List'!A431 -> FP-GEORION | B21: ='Master Price List'!B431 -> 3" XG-100M, CH-721, M700 one-piece | C21: ='Master Price List'!C431 -> 40 | D21: =C21-(C21*$D$1) -> 38
A22: ='Master Price List'!A434 -> FP-H-UNITY | B22: ='Master Price List'!B434 -> 4" XG-100M, CH100 one-piece | C22: ='Master Price List'!C434 -> 40 | D22: =C22-(C22*$D$1) -> 38
A24: ='Master Price List'!$A$399 -> KENWOOD RADIOS
A25: ='Master Price List'!A402 -> FP-KENTK860 | B25: ='Master Price List'!B402 -> 2" TK-860 mobile radio | C25: ='Master Price List'!C402 -> 40 | D25: =C25-(C25*$D$1) -> 38
A26: ='Master Price List'!A412 -> FP-KENTK6110 | B26: ='Master Price List'!B412 -> 3" TK-6110 mobile radio | C26: ='Master Price List'!C412 -> 40 | D26: =C26-(C26*$D$1) -> 38
A27: ='Master Price List'!A403 -> FP-KENTK7160HK | B27: ='Master Price List'!B403 -> 2" TK-7160 mobile radio | C27: ='Master Price List'!C403 -> 40 | D27: =C27-(C27*$D$1) -> 38
A28: ='Master Price List'!A413 -> FP-KENTK7150 | B28: ='Master Price List'!B413 -> 3" TK-7150/8150 mobile radio | C28: ='Master Price List'!C413 -> 40 | D28: =C28-(C28*$D$1) -> 38
A29: ='Master Price List'!A414 -> FP-KEN30(R) | B29: ='Master Price List'!B414 -> 3" TK-730H(B) mobile radio | C29: ='Master Price List'!C414 -> 40 | D29: =C29-(C29*$D$1) -> 38
A31: ='Master Price List'!A441 -> EJ JOHNSON RADIOS
A32: ='Master Price List'!A442 -> FP-EFJ5300ES | B32: ='Master Price List'!B442 -> 3" 5300 ES Radio | C32: ='Master Price List'!C442 -> 40 | D32: =C32-(C32*$D$1) -> 38
A33: ='Master Price List'!A443 -> FP-EFJ5ESL | B33: ='Master Price List'!B443 -> 3" 5000 ESL Radio | C33: ='Master Price List'!C443 -> 40 | D33: =C33-(C33*$D$1) -> 38
A35: ='Master Price List'!A436 -> TAIT RADIOS
A36: ='Master Price List'!A437 -> FP-TAIT2000 | B36: ='Master Price List'!B437 -> 3" 2000 Mobile Two-Way Radio | C36: ='Master Price List'!C437 -> 40 | D36: =C36-(C36*$D$1) -> 38
A37: ='Master Price List'!A438 -> FP-TAITM8200 | B37: ='Master Price List'!B438 -> 4" M8200 Radio, Remote | C37: ='Master Price List'!C438 -> 40 | D37: =C37-(C37*$D$1) -> 38
A38: ='Master Price List'!A439 -> FP-TAITM8200(D) | B38: ='Master Price List'!B439 -> 4" M8200 Radios, One-Piece | C38: ='Master Price List'!C439 -> 40 | D38: =C38-(C38*$D$1) -> 38
A40: ='Master Price List'!A452 -> VERTEX RADIOS
A41: ='Master Price List'!A453 -> FP-VX2200 | B41: ='Master Price List'!B453 -> 2" VX-2200 Radio | C41: ='Master Price List'!C453 -> 40 | D41: =C41-(C41*$D$1) -> 38
A42: ='Master Price List'!A454 -> FP-VX4600 | B42: ='Master Price List'!B454 -> 3" VX-4600 Radio | C42: ='Master Price List'!C454 -> 40 | D42: =C42-(C42*$D$1) -> 38
A43: ='Master Price List'!A455 -> FP-VX6000 | B43: ='Master Price List'!B455 -> 3" VX-6000 Radio | C43: ='Master Price List'!C455 -> 40 | D43: =C43-(C43*$D$1) -> 38
A45: ='Master Price List'!A448 -> UNIDEN CITIZEN BADN (CB) RADIOS
A46: ='Master Price List'!A449 -> FP-UPRO510XL | B46: ='Master Price List'!B449 -> 2" 510 XL C.B. Radio | C46: ='Master Price List'!C449 -> 40 | D46: =C46-(C46*$D$1) -> 38
A47: ='Master Price List'!A450 -> FP-UNIPRO520 | B47: ='Master Price List'!B450 -> 2" 520 XL C.B. Radio | C47: ='Master Price List'!C450 -> 40 | D47: =C47-(C47*$D$1) -> 38
A49: ='Master Price List'!A457 -> SIGTRONICS
...

Sheet NEW 2020 Ford PI Utility
A1: TOC | B1: NEW! 2020 FORD PI UTILITY HYBRID AND NON-HYBRID PRICE LIST | D1: 0.05
A2: TROY PART # | B2: ITEM DESCRIPTION | C2: MSRP | D2: DISCOUNT %
A4: Console Floor Plates | B4: Always indicate year, make and model on your console purchase orders
A5: ='Master Price List'!A177 -> AC-20-FDUV-MNT | B5: 2020 PI Utility console mount (used with universal consoles). | C5: ='Master Price List'!C177 -> 140 | D5: =C5-(C5*$D$1) -> 133
A7: ='Master Price List'!$A$4 -> PI Utility Consoles - Vehicle-Specific; OEM mounting points must be used (Cannot be transferred to different vehicles)
A8: ='Master Price List'!A10 -> CC-UV20-L-18 | B8: 2020 PI Utility 18" L-Shape Console, 7" Slope, 11" Level (no floor plate needed, mounts directly to floor). | C8: ='Master Price List'!C10 -> 491 | D8: =C8-(C8*$D$1) -> 466.45
A9: ='Master Price List'!A11 -> CC-UV20-L-20 | B9: 2020 PI Utility 20" L-Shape Console, 7" Slope, 13" Level (no floor plate needed, mounts directly to floor). | C9: ='Master Price List'!C11 -> 510 | D9: =C9-(C9*$D$1) -> 484.5
A10: ='Master Price List'!A12 -> CC-20-UV10-L8 | B10: 2020 PI Utility 18" Sloped console, 10" slope, 8" level (no floor plate needed, mounts directly to floor) | C10: ='Master Price List'!C12 -> 491 | D10: =C10-(C10*$D$1) -> 466.45
A11: ='Master Price List'!A13 -> CC-20-UVLP-14 | B11: 2020 PI Utility 14" Low-profile Console, 8" Slope, 6" Level (no floor plate needed, mounts directly to floor). | C11: ='Master Price List'!C13 -> 430 | D11: =C11-(C11*$D$1) -> 408.5
A12: ='Master Price List'!A14 -> CC-20-UVLP-17 | B12: 2020 PI Utility 17" Low-profile Console, 8" Slope, 9" Level (no floor plate needed, mounts directly to floor). | C12: ='Master Price List'!C14 -> 446 | D12: =C12-(C12*$D$1) -> 423.7
A13: ='Master Price List'!A15 -> CC-20FDUV-22 | B13: 2020 PI Utility 22" Level Console. Pre-punched holes for U-mount (no floor plate needed, mounts directly to floor). | C13: ='Master Price List'!C15 -> 440 | D13: =C13-(C13*$D$1) -> 418
B14: *If needed, we will include AC-UV20-HC harness cover for the vehicle-specific consoles*
A16: ='Master Price List'!$A$17 -> PI Utility Consoles - Vehicle-Compatible (Can be transferred to different vehicles)
A17: ='Master Price List'!A107 -> CC-A-S12 | B17: ='Master Price List'!B107 -> Universal 12" 2-pc. ht. adj. sloped console; Flat deck (Top piece can be raised up to 3" higher) | C17: ='Master Price List'!C107 -> 443 | D17: =C17-(C17*$D$1) -> 420.85
A18: ='Master Price List'!A83 -> CC-UV-PCFX14 | B18: ='Master Price List'!B83 -> Universal 14" (3"/11" console w/computer deck; Fits one dash-mount radio. Low profile. | C18: ='Master Price List'!C83 -> 446 | D18: =C18-(C18*$D$1) -> 423.7
A19: ='Master Price List'!A85 -> CC-BPD-15 | B19: ='Master Price List'!B85 -> Universal 15" Low-profile L shaped console; 9" slope/6" level area; Computer deck | C19: ='Master Price List'!C85 -> 470 | D19: =C19-(C19*$D$1) -> 446.5
A20: ='Master Price List'!A103 -> CC-LASD-15 | B20: ='Master Price List'!B103 -> Universal 15" L-shaped console w/computer deck: 7" slope, 8" level. Rocker switch hole pre-punched on deck. | C20: ='Master Price List'!C103 -> 448 | D20: =C20-(C20*$D$1) -> 425.6
A22: Vehicle-Specific Overhead Consoles
A23: ='Master Price List'!$A$30 -> CC-UV20-OH | B23: 2020 PI UV Overhead 4"Console - Mounts siren control and radio remote head | C23: ='Master Price List'!$C$30 -> 320 | D23: =C23-(C23*$D$1) -> 304
A25: COMPUTER MOUNTS
A26: Passenger-Seat Computer Mounts (Passenger space is not compromised)
A28: ='Master Price List'!A604 -> CM-UV20-SA-LED | B28: 2020 PI Utility passenger seat mount w/swing arm dock. | C28: ='Master Price List'!C604 -> 467 | D28: =C28-(C28*$D$1) -> 443.65
A29: ='Master Price List'!A605 -> CM-UV20-SL-LED | B29: 2020 PI Utility passenger seat mount w/slide arm dock. | C29: ='Master Price List'!C605 -> 627 | D29: =C29-(C29*$D$1) -> 595.65
A30: ='Master Price List'!A606 -> CM-UV20-SA-LT17 | B30: 2020 PI Utility passenger seat mount w/swing arm and laptop tray | C30: ='Master Price List'!C606 -> 588 | D30: =C30-(C30*$D$1) -> 558.6
A31: ='Master Price List'!A607 -> CM-UV20-SL-LT17 | B31: 2020 PI Utility passenger seat mount w/slide arm and laptop tray | C31: ='Master Price List'!C607 -> 693 | D31: =C31-(C31*$D$1) -> 658.35
A33: Console-Side Computer Mounts
A34: ='Master Price List'!A681 -> CM-SDMT-SL-LED | B34: ='Master Price List'!B681 -> Console side ht. adj. mount w/slide arm for docking station | C34: ='Master Price List'!C681 -> 480 | D34: =C34-(C34*$D$1) -> 456
A35: ='Master Price List'!A682 -> CM-SDMT-SL-LT17 | B35: ='Master Price List'!B682 -> Console side ht. adj. mount w/slide arm for wide laptop tray | C35: ='Master Price List'!C682 -> 593 | D35: =C35-(C35*$D$1) -> 563.35
A37: U-Bracket Computer Mounts (Use on consoles with computer decks)
A38: ='Master Price List'!A701 -> CM-UMSH-SA-LED | B38: ='Master Price List'!B701 -> Short U bracket mnt w/swing arm for docking station | C38: ='Master Price List'!C701 -> 320 | D38: =C38-(C38*$D$1) -> 304
A39: ='Master Price List'!A703 -> CM-UMSH-SA-LT17 | B39: ='Master Price List'!B703 -> Short U bracket mnt w/swing arm for wide laptop tray | C39: ='Master Price List'!C703 -> 420 | D39: =C39-(C39*$D$1) -> 399
A40: ='Master Price List'!A705 -> CM-UMSH-SL-LED | B40: ='Master Price List'!B705 -> Short U bracket mnt w/slide arm for docking station | C40: ='Master Price List'!C705 -> 467 | D40: =C40-(C40*$D$1) -> 443.65
A41: ='Master Price List'!A707 -> CM-UMSH-SL-LT17 | B41: ='Master Price List'!B707 -> Short U bracket mnt w/slide arm and wide laptop tray | C41: ='Master Price List'!C707 -> 556 | D41: =C41-(C41*$D$1) -> 528.2
A43: Deluxe Universal Laptop Tray (Four-sided security)
A44: ='Master Price List'!A597 -> CM-LT-1600 | B44: Deluxe laptop tray for computer up to 15"W x 11.5H; 3 lbs lighter than CM-LT-1500, use w/computer mount assemblies ending in -LED | C44: ='Master Price List'!C597 -> 350 | D44: =C44-(C44*$D$1) -> 332.5
A46: Laptop Accessories
A47: ='Master Price List'!A599 -> AC-LT-SCR | B47: ='Master Price List'!B599 -> Laptop screen holder; compatible w/ TROY laptop trays | C47: ='Master Price List'!C599 -> 75 | D47: =C47-(C47*$D$1) -> 71.25
A48: ='Master Price List'!A600 -> AC-LT13-CLAMP | B48: ='Master Price List'!B600 -> Laptop tray finger clamp, vinyl cap | C48: ='Master Price List'!C600 -> 9 | D48: =C48-(C48*$D$1) -> 8.55
A50: Weapon Mounts (Locks sold separately)
A51: ='Master Price List'!A710 -> GM-SGL-MNT | B51: ='Master Price List'!B710 -> Single weapon mount with adjustability and no access to weapon lock wires. Weapon locks sold separately. | C51: ='Master Price List'!C710 -> 204 | D51: =C51-(C51*$D$1) -> 193.8
...

Sheet Ford PI Utility
A1: TOC | B1: 2013 - 2019 FORD UTILITY PRICE LIST | D1: 0.05
A2: TROY PART # | B2: ITEM DESCRIPTION | C2: MSRP | D2: DISCOUNT %
A4: Console Floor Plates | B4: Always indicate year, make and model on your console purchase orders
A5: ='Master Price List'!A178 -> AC-FDUV-MNT | B5: ='Master Price List'!B178 -> 2013-19 Ford UV standard floor plate. Replaces OEM floor plate. | C5: ='Master Price List'!C178 -> 131 | D5: =C5-(C5*$D$1) -> 124.45
A6: ='Master Price List'!A179 -> AC-FDUVMNT-25 | B6: ='Master Price List'!B179 -> 2013-19 Ford UV floor plate; 5" shorter than standard model to accommodate weapons | C6: ='Master Price List'!C179 -> 131 | D6: =C6-(C6*$D$1) -> 124.45
A7: ='Master Price List'!A180 -> AC-FDUV-30-HC | B7: ='Master Price List'!B180 -> 2013-19 Ford UV floor mount; 30" long. Added hole to work with optional wire harness cover. | C7: ='Master Price List'!C180 -> 152 | D7: =C7-(C7*$D$1) -> 144.4
A9: ='Master Price List'!$A$4 -> PI Utility Consoles - Vehicle-Specific; OEM mounting points must be used (Cannot be transferred to different vehicles)
A10: ='Master Price List'!A7 -> CC-UV-S10-L8 | B10: ='Master Price List'!B7 -> 2013-19 UV-specific 18" L-shape console; 10" slope/ 8" level; Mix long and short components | C10: ='Master Price List'!C7 -> 450 | D10: =C10-(C10*$D$1) -> 427.5
A11: ='Master Price List'!A5 -> CC-UV-L-18 | B11: ='Master Price List'!B5 -> 2013-19 UV-specific 18" L-shape console; 12" slope/ 6" level; Mix long and short components | C11: ='Master Price List'!C5 -> 472 | D11: =C11-(C11*$D$1) -> 448.4
A12: ='Master Price List'!A6 -> CC-UV-L-20 | B12: ='Master Price List'!B6 -> 2013-19 UV-specific 20" L-shape console; 12" slope/ 8" level; Mix long and short components | C12: ='Master Price List'!C6 -> 493 | D12: =C12-(C12*$D$1) -> 468.35
A13: ='Master Price List'!A8 -> CC-UV-10-11 | B13: ='Master Price List'!B8 -> 2013-19 UV-specific 21" L-shaped console; 10" slope/11" level; Mix of long and short components | C13: ='Master Price List'!C8 -> 519 | D13: =C13-(C13*$D$1) -> 493.05
A15: ='Master Price List'!$A$17 -> PI Utility Consoles - Vehicle-Compatible (Can be transferred to different vehicles)
A16: ='Master Price List'!A19 -> CC-FDUV-14-HC | B16: ='Master Price List'!B19 -> 2013-19 UV compatible 14" console : 7" slope/7" level. Flat deck features computer wire hole. Low profile. | C16: ='Master Price List'!C19 -> 420 | D16: =C16-(C16*$D$1) -> 399
A17: ='Master Price List'!A18 -> CC-UV-PCFX14 | B17: ='Master Price List'!B18 -> 2013-19 UV-compatible 14" (3"/11" console w/computer deck; Fits one dash-mount radio. Low profile. | C17: ='Master Price List'!C18 -> 446 | D17: =C17-(C17*$D$1) -> 423.7
A18: ='Master Price List'!A22 -> CC-C08 | B18: ='Master Price List'!B22 -> 2013-19 UV compatible 18" console. Use remote head equipment for best fit. | C18: ='Master Price List'!C22 -> 481 | D18: =C18-(C18*$D$1) -> 456.95
A20: Vehicle-Specific Overhead Consoles
A21: ='Master Price List'!A28 -> CC-OH-UV-CPD7 | B21: ='Master Price List'!B28 -> 2013-19 PI UV/Taurus Overhead 7" Console. Re-locate UV hatch release button. | C21: ='Master Price List'!C28 -> 300 | D21: =C21-(C21*$D$1) -> 285
A23: COMPUTER MOUNTS
A24: Passenger-Seat Computer Mounts (Passenger space is not compromised)
A25: ='Master Price List'!A614 -> CM-PSUV-SL-LED | B25: ='Master Price List'!B614 -> 2013-19 PI Utility passenger seat mnt w/slide arm and pivot mount for docking station | C25: ='Master Price List'!C614 -> 577 | D25: =C25-(C25*$D$1) -> 548.15
A26: ='Master Price List'!A615 -> CM-PSUV-SL-LT17 | B26: ='Master Price List'!B615 -> 2013-19 PI Utility passenger seat mnt w/slide arm and wide laptop tray | C26: ='Master Price List'!C615 -> 693 | D26: =C26-(C26*$D$1) -> 658.35
A28: Console-Side Computer Mounts
A29: ='Master Price List'!A681 -> CM-SDMT-SL-LED | B29: ='Master Price List'!B681 -> Console side ht. adj. mount w/slide arm for docking station | C29: ='Master Price List'!C681 -> 480 | D29: =C29-(C29*$D$1) -> 456
A30: ='Master Price List'!A682 -> CM-SDMT-SL-LT17 | B30: ='Master Price List'!B682 -> Console side ht. adj. mount w/slide arm for wide laptop tray | C30: ='Master Price List'!C682 -> 593 | D30: =C30-(C30*$D$1) -> 563.35
A32: U-Bracket Computer Mounts (Use on consoles with computer decks)
A33: ='Master Price List'!A701 -> CM-UMSH-SA-LED | B33: ='Master Price List'!B701 -> Short U bracket mnt w/swing arm for docking station | C33: ='Master Price List'!C701 -> 320 | D33: =C33-(C33*$D$1) -> 304
A34: ='Master Price List'!A703 -> CM-UMSH-SA-LT17 | B34: ='Master Price List'!B703 -> Short U bracket mnt w/swing arm for wide laptop tray | C34: ='Master Price List'!C703 -> 420 | D34: =C34-(C34*$D$1) -> 399
A35: ='Master Price List'!A705 -> CM-UMSH-SL-LED | B35: ='Master Price List'!B705 -> Short U bracket mnt w/slide arm for docking station | C35: ='Master Price List'!C705 -> 467 | D35: =C35-(C35*$D$1) -> 443.65
A36: ='Master Price List'!A707 -> CM-UMSH-SL-LT17 | B36: ='Master Price List'!B707 -> Short U bracket mnt w/slide arm and wide laptop tray | C36: ='Master Price List'!C707 -> 556 | D36: =C36-(C36*$D$1) -> 528.2
A38: Deluxe Universal Laptop Tray (Four-sided security)
A39: ='Master Price List'!A596 -> CM-LT-1500 | B39: ='Master Price List'!B596 -> Deluxe laptop tray for computer up to 15"W x 11.5H; use w/computer mount assemblies ending in -LED | C39: ='Master Price List'!C596 -> 420 | D39: =C39-(C39*$D$1) -> 399
A41: Laptop Accessories
A42: ='Master Price List'!A599 -> AC-LT-SCR | B42: ='Master Price List'!B599 -> Laptop screen holder; compatible w/ TROY laptop trays | C42: ='Master Price List'!C599 -> 75 | D42: =C42-(C42*$D$1) -> 71.25
A43: ='Master Price List'!A600 -> AC-LT13-CLAMP | B43: ='Master Price List'!B600 -> Laptop tray finger clamp, vinyl cap | C43: ='Master Price List'!C600 -> 9 | D43: =C43-(C43*$D$1) -> 8.55
A45: Weapon Mounts (Locks sold separately)
A46: ='Master Price List'!A710 -> GM-SGL-MNT | B46: ='Master Price List'!B710 -> Single weapon mount with adjustability and no access to weapon lock wires. Weapon locks sold separately. | C46: ='Master Price List'!C710 -> 204 | D46: =C46-(C46*$D$1) -> 193.8
A47: ='Master Price List'!A711 -> GM-SGRF-MNT | B47: ='Master Price List'!B711 -> Dual weapon mount with adjustability and no access to weapon lock wires. Weapon locks sold separately. | C47: ='Master Price List'!C711 -> 288 | D47: =C47-(C47*$D$1) -> 273.6
A49: Weapon Lock Brackets (Patent-pending theft-deterrent designs)
A50: ='Master Price List'!A713 -> GM-B-SC1-BKT | B50: ='Master Price List'!B713 -> Bracket for shotgun lock (Santa Cruz, Overland, Big Sky) | C50: ='Master Price List'!C713 -> 80 | D50: =C50-(C50*$D$1) -> 76
A51: ='Master Price List'!A714 -> GM-B-SC1AR-BKT | B51: ='Master Price List'!B714 -> Bracket for AR gun lock (Santa Cruz, Overland, Big Sky) | C51: ='Master Price List'!C714 -> 90 | D51: =C51-(C51*$D$1) -> 85.5
...

Sheet Ford Expedition
A1: TOC | B1: 2018-2019 FORD EXPEDITION PRICE LIST | D1: 0.05
A2: TROY PART # | B2: ITEM DESCRIPTION | C2: MSRP | D2: DISCOUNT %
A4: Console Floor Plates | B4: Always indicate year, make and model on your console purchase orders
A5: ='Master Price List'!A182 -> AC-F150-15-MNT | B5: ='Master Price List'!B182 -> 2015-19/F-150/2017 F250-550/ *2018 Expedition floor plate; For bucket seat trucks or factory console removed | C5: ='Master Price List'!C182 -> 173 | D5: =C5-(C5*$D$1) -> 164.35
A7: SUV Expedition Standard-Width Consoles (Can be transferred to other vehicles)
A8: ='Master Price List'!A144 -> CC-MC-14 | B8: ='Master Price List'!B144 -> MC 14" L-shape console: 7" slope/ 7" level | C8: ='Master Price List'!C144 -> 448 | D8: =C8-(C8*$D$1) -> 425.6
A9: ='Master Price List'!A145 -> CC-MC-16 | B9: ='Master Price List'!B145 -> MC 16" L-shape console: 7" slope/ 9" level | C9: ='Master Price List'!C145 -> 470 | D9: =C9-(C9*$D$1) -> 446.5
A10: ='Master Price List'!A146 -> CC-MC-18 | B10: ='Master Price List'!B146 -> MC 18" L-shape console; 7" slope/ 11" level | C10: ='Master Price List'!C146 -> 479 | D10: =C10-(C10*$D$1) -> 455.05
A11: ='Master Price List'!A147 -> CC-MC-22 | B11: ='Master Price List'!B147 -> MC 22" L-shape console; 7" slope/ 15" level | C11: ='Master Price List'!C147 -> 519 | D11: =C11-(C11*$D$1) -> 493.05
A13: ='Master Price List'!A121 -> Universal Wide-Body Consoles for Large SUVs/Trucks
A14: ='Master Price List'!A122 -> CC-HDWB-20 | B14: ='Master Price List'!B122 -> Universal SUV/truck 20" wide-body console; 8" slope/ 12" level. No open storage. Face plates centered. | C14: ='Master Price List'!C122 -> 643 | D14: =C14-(C14*$D$1) -> 610.85
A15: ='Master Price List'!A123 -> CC-HDWB-25 | B15: ='Master Price List'!B123 -> Universal SUV/truck 25" wide-body console; 8" slope/ 17" level. No open storage. Face plates centered. | C15: ='Master Price List'!C123 -> 665 | D15: =C15-(C15*$D$1) -> 631.75
A17: SUV Expedition Wide-Body Consoles (Can be transferred to other trucks)
A18: ='Master Price List'!A127 -> CC-WBOS-16 | B18: ='Master Price List'!B127 -> Universal SUV/truck 16" Wide-body open-storage console; 8" slope 8" level | C18: ='Master Price List'!C127 -> 648 | D18: =C18-(C18*$D$1) -> 615.6
A19: ='Master Price List'!A128 -> CC-WBOS-20 | B19: ='Master Price List'!B128 -> Universal SUV/truck 20" Wide-body open-storage console; 8" slope/ 12" level | C19: ='Master Price List'!C128 -> 665 | D19: =C19-(C19*$D$1) -> 631.75
A20: ='Master Price List'!A129 -> CC-WBOS-25 | B20: ='Master Price List'!B129 -> Universal SUV/truck 25" Wide-body open-storage console; 8" slope/ 17" level | C20: ='Master Price List'!C129 -> 686 | D20: =C20-(C20*$D$1) -> 651.7
A21: Note: CC-WBOS-16 is recommended size if also you want to install aa file box, especially AC-FHDFB, a large-size file box w/pad
A22: to mate the wide-bolde consoles.
A24: ='Master Price List'!A39 -> 2018 Expedition Over-head Consoles, Vehicle-Specific (Cannot be transferred to other vehicles)
A25: ='Master Price List'!A40 -> CC-OH-EXP18-7 | B25: ='Master Price List'!B40 -> 2018-19 Expedition 7” overhead console. Face plates* included in console price. | C25: ='Master Price List'!C40 -> 288 | D25: =C25-(C25*$D$1) -> 273.6
A27: Popular Internal Console Accessories
A28: ='Master Price List'!A220 -> AC-INBHG | B28: ='Master Price List'!B220 -> 4" internal dual beverage holder. Remove top and use it as 4" open storage compartment. | C28: ='Master Price List'!C220 -> 52 | D28: =C28-(C28*$D$1) -> 49.4
A29: ='Master Price List'!A227 -> AC-TICK-2 | B29: ='Master Price List'!B227 -> 3" face plate shallow tray; For items such as keys, wallet, sunglasses, etc. 2" H | C29: ='Master Price List'!C227 -> 42 | D29: =C29-(C29*$D$1) -> 39.9
A30: ='Master Price List'!A228 -> FP-SGTRAY | B30: ='Master Price List'!B228 -> 4" face plate shallow tray w/sloped floor; Store cell phone, keys, wallet, sunglasses, etc. 1.75" H | C30: ='Master Price List'!C228 -> 40 | D30: =C30-(C30*$D$1) -> 38
A31: ='Master Price List'!A232 -> AC-GUNBOX-6 | B31: ='Master Price List'!B232 -> 6" internal lidded lock storage box | C31: ='Master Price List'!C232 -> 141 | D31: =C31-(C31*$D$1) -> 133.95
A32: ='Master Price List'!A233 -> AC-GUNBOX-6-LP | B32: ='Master Price List'!B233 -> 6" internal lidded locking low-profile internal storage box (may not accommodate handgun) 3.6" H | C32: ='Master Price List'!C233 -> 141 | D32: =C32-(C32*$D$1) -> 133.95
A34: Electronics Face Plates
A35: ='Master Price List'!A339 -> FP-EXP18-USB-DC | B35: ='Master Price List'!B339 -> 2" face plate to re-locate OEM USB and DC outlets to console | C35: ='Master Price List'!C339 -> 30 | D35: =C35-(C35*$D$1) -> 28.5
A36: ='Master Price List'!A340 -> FP-USB-2DC | B36: ='Master Price List'!B340 -> 2" face plate pre-punched w/ holes for (2) DC outlets & (1) dual-port USB module | C36: ='Master Price List'!C340 -> 68 | D36: =C36-(C36*$D$1) -> 64.6
A37: ='Master Price List'!A344 -> FP-AP12-3 | B37: ='Master Price List'!B344 -> 2" face plate w/ (3) DC outlet holes | C37: ='Master Price List'!C344 -> 25 | D37: =C37-(C37*$D$1) -> 23.75
A38: ='Master Price List'!A338 -> L3-AP1SET | B38: ='Master Price List'!B338 -> 12 Volt DC power outlet plug w/black captured cap | C38: ='Master Price List'!C338 -> 12 | D38: =C38-(C38*$D$1) -> 11.4
A40: Mic Clip Choices
A41: ='Master Price List'!A325 -> AC-MCM1 | B41: ='Master Price List'!B325 -> Dog-ear type microphone clip plate and clip assembly, no-holes-drilled design | C41: ='Master Price List'!C325 -> 15 | D41: =C41-(C41*$D$1) -> 14.25
A42: ='Master Price List'!A331 -> AC-MAG-MIC | B42: ='Master Price List'!B331 -> Magnetic Mic | C42: ='Master Price List'!C331 -> 55 | D42: =C42-(C42*$D$1) -> 52.25
A43: ='Master Price List'!A327 -> AC-MIC-Z-FPI | B43: ='Master Price List'!B327 -> Height adjustable, no-holes-drilled L-slot microphone clip plate assembly | C43: ='Master Price List'!C327 -> 26 | D43: =C43-(C43*$D$1) -> 24.7
A45: File/Map Boxes
A46: ='Master Price List'!A275 -> AC-FHDFB | B46: ='Master Price List'!B275 -> Long external map book lidded storage box; 13.25" W x 13.8" L x 11" H. Includes leather pad AC-FHDPAD. | C46: ='Master Price List'!C275 -> 350 | D46: =C46-(C46*$D$1) -> 332.5
A47: ='Master Price List'!A263 -> AC-MAPFILE | B47: ='Master Price List'!B263 -> External lidded box for map books. 10.8" W x 13.25" L x 10.6" H. Non-locking. | C47: ='Master Price List'!C263 -> 325 | D47: =C47-(C47*$D$1) -> 308.75
A48: ='Master Price List'!A254 -> AC-FILEBOX | B48: ='Master Price List'!B254 -> External lidded box for letter size Pendaflex hanging folders. 8.86" W x 13.25" L x 10.8" H | C48: ='Master Price List'!C254 -> 288 | D48: =C48-(C48*$D$1) -> 273.6
A50: COMPUTER MOUNTS -- ONE HANDE OPERATION, OFFICER-COMFORTABLE. SHIP FULLY ASSEMBLED
...

Sheet Ford F150
A1: TOC | B1: 2015 - 2020 FORD F150 PRICE LIST | D1: 0.05
A2: TROY PART # | B2: ITEM DESCRIPTION | C2: MSRP | D2: DISCOUNT %
A4: Console Floor Plates | B4: Always indicate year, make and model on your console purchase orders
A5: ='Master Price List'!A181 -> AC-F150-15 | B5: ='Master Price List'!B181 -> 2015-19 Ford F-150/2017 F-250-550; For applications where center seat is removed | C5: ='Master Price List'!C181 -> 162 | D5: =C5-(C5*$D$1) -> 153.9
A6: ='Master Price List'!A182 -> AC-F150-15-MNT | B6: ='Master Price List'!B182 -> 2015-19/F-150/2017 F250-550/ *2018 Expedition floor plate; For bucket seat trucks or factory console removed | C6: ='Master Price List'!C182 -> 173 | D6: =C6-(C6*$D$1) -> 164.35
A8: Standard-Width Consoles (Can be transferred to other vehicles)
A9: ='Master Price List'!A144 -> CC-MC-14 | B9: ='Master Price List'!B144 -> MC 14" L-shape console: 7" slope/ 7" level | C9: ='Master Price List'!C144 -> 448 | D9: =C9-(C9*$D$1) -> 425.6
A10: ='Master Price List'!A146 -> CC-MC-18 | B10: ='Master Price List'!B146 -> MC 18" L-shape console; 7" slope/ 11" level | C10: ='Master Price List'!C146 -> 479 | D10: =C10-(C10*$D$1) -> 455.05
A11: ='Master Price List'!A148 -> CC-MC-25 | B11: ='Master Price List'!B148 -> MC 25" L-shape console; 7" slope/ 18" level | C11: ='Master Price List'!C148 -> 540 | D11: =C11-(C11*$D$1) -> 513
A12: ='Master Price List'!A82 -> CC-PCFX14 | B12: ='Master Price List'!B82 -> Universal 14" low-profile console; 3" slope/ 11" level; Computer deck; Will fit one long radio. | C12: ='Master Price List'!C82 -> 470 | D12: =C12-(C12*$D$1) -> 446.5
A14: Wide-Body Consoles (Can be transferred to other trucks)
A15: ='Master Price List'!A127 -> CC-WBOS-16 | B15: ='Master Price List'!B127 -> Universal SUV/truck 16" Wide-body open-storage console; 8" slope 8" level | C15: ='Master Price List'!C127 -> 648 | D15: =C15-(C15*$D$1) -> 615.6
A16: ='Master Price List'!A128 -> CC-WBOS-20 | B16: ='Master Price List'!B128 -> Universal SUV/truck 20" Wide-body open-storage console; 8" slope/ 12" level | C16: ='Master Price List'!C128 -> 665 | D16: =C16-(C16*$D$1) -> 631.75
A17: ='Master Price List'!A129 -> CC-WBOS-25 | B17: ='Master Price List'!B129 -> Universal SUV/truck 25" Wide-body open-storage console; 8" slope/ 17" level | C17: ='Master Price List'!C129 -> 686 | D17: =C17-(C17*$D$1) -> 651.7
A19: COMPUTER MOUNTS
A20: Passenger-Seat Computer Mounts (Passenger space is not compromised)
A21: ='Master Price List'!A630 -> CM-F15-SL-LED | B21: ='Master Price List'!B630 -> 2015-19 F-150 & 2017 F-250 Ht. adjustable seat mnt w/slide arm & docking station mount | C21: ='Master Price List'!C630 -> 595 | D21: =C21-(C21*$D$1) -> 565.25
A22: ='Master Price List'!A629 -> CM-F15-SL-LT17 | B22: ='Master Price List'!B629 -> 2015-19 F-150 & 2017 F-250 Ht. adjustable seat mnt w/slide arm & wide laptop tray | C22: ='Master Price List'!C629 -> 695 | D22: =C22-(C22*$D$1) -> 660.25
A24: Console-Side Computer Mounts
A25: ='Master Price List'!A681 -> CM-SDMT-SL-LED | B25: ='Master Price List'!B681 -> Console side ht. adj. mount w/slide arm for docking station | C25: ='Master Price List'!C681 -> 480 | D25: =C25-(C25*$D$1) -> 456
A26: ='Master Price List'!A682 -> CM-SDMT-SL-LT17 | B26: ='Master Price List'!B682 -> Console side ht. adj. mount w/slide arm for wide laptop tray | C26: ='Master Price List'!C682 -> 593 | D26: =C26-(C26*$D$1) -> 563.35
A28: U-Bracket Computer Mounts (Use on consoles with computer decks)
A29: ='Master Price List'!A691 -> CM-UMNT-SA-LED | B29: ='Master Price List'!B691 -> U bracket mnt w/swing arm for docking station | C29: ='Master Price List'!C691 -> 320 | D29: =C29-(C29*$D$1) -> 304
A30: ='Master Price List'!A693 -> CM-UMNT-SA-LT17 | B30: ='Master Price List'!B693 -> U bracket mnt w/swing arm for wide laptop tray | C30: ='Master Price List'!C693 -> 420 | D30: =C30-(C30*$D$1) -> 399
A31: ='Master Price List'!A705 -> CM-UMSH-SL-LED | B31: ='Master Price List'!B705 -> Short U bracket mnt w/slide arm for docking station | C31: ='Master Price List'!C705 -> 467 | D31: =C31-(C31*$D$1) -> 443.65
A32: ='Master Price List'!A707 -> CM-UMSH-SL-LT17 | B32: ='Master Price List'!B707 -> Short U bracket mnt w/slide arm and wide laptop tray | C32: ='Master Price List'!C707 -> 556 | D32: =C32-(C32*$D$1) -> 528.2
A34: Deluxe Universal Laptop Tray (Four-sided security)
A35: ='Master Price List'!A596 -> CM-LT-1500 | B35: ='Master Price List'!B596 -> Deluxe laptop tray for computer up to 15"W x 11.5H; use w/computer mount assemblies ending in -LED | C35: ='Master Price List'!C596 -> 420 | D35: =C35-(C35*$D$1) -> 399
A36: ='Master Price List'!A597 -> CM-LT-1600 | B36: ='Master Price List'!B597 -> New! Deluxe laptop tray for computer up to 15"W x 11.5H; 3 lbs lighter than CM-LT-1500, use w/computer mount assemblies ending in -LED | C36: ='Master Price List'!C597 -> 350 | D36: =C36-(C36*$D$1) -> 332.5
A38: Laptop Accessories
A39: ='Master Price List'!A599 -> AC-LT-SCR | B39: ='Master Price List'!B599 -> Laptop screen holder; compatible w/ TROY laptop trays | C39: ='Master Price List'!C599 -> 75 | D39: =C39-(C39*$D$1) -> 71.25
A40: ='Master Price List'!A600 -> AC-LT13-CLAMP | B40: ='Master Price List'!B600 -> Laptop tray finger clamp, vinyl cap | C40: ='Master Price List'!C600 -> 9 | D40: =C40-(C40*$D$1) -> 8.55
A42: Weapon Mounts (Locks sold separately)
A43: ='Master Price List'!A710 -> GM-SGL-MNT | B43: ='Master Price List'!B710 -> Single weapon mount with adjustability and no access to weapon lock wires. Weapon locks sold separately. | C43: ='Master Price List'!C710 -> 204 | D43: =C43-(C43*$D$1) -> 193.8
A44: ='Master Price List'!A711 -> GM-SGRF-MNT | B44: ='Master Price List'!B711 -> Dual weapon mount with adjustability and no access to weapon lock wires. Weapon locks sold separately. | C44: ='Master Price List'!C711 -> 288 | D44: =C44-(C44*$D$1) -> 273.6
A46: Weapon Lock Brackets (Patent-pending theft-deterrent designs)
A47: ='Master Price List'!A713 -> GM-B-SC1-BKT | B47: ='Master Price List'!B713 -> Bracket for shotgun lock (Santa Cruz, Overland, Big Sky) | C47: ='Master Price List'!C713 -> 80 | D47: =C47-(C47*$D$1) -> 76
A48: ='Master Price List'!A714 -> GM-B-SC1AR-BKT | B48: ='Master Price List'!B714 -> Bracket for AR gun lock (Santa Cruz, Overland, Big Sky) | C48: ='Master Price List'!C714 -> 90 | D48: =C48-(C48*$D$1) -> 85.5
A49: ='Master Price List'!A715 -> GM-B-SC5-BKT | B49: ='Master Price List'!B715 -> Bracket for universal gun lock (SC-5-XL, SC-6 by Santa Cruz) | C49: ='Master Price List'!C715 -> 80 | D49: =C49-(C49*$D$1) -> 76
A50: ='Master Price List'!A716 -> GM-B-OP-SC5-BKT | B50: ='Master Price List'!B716 -> Off-set bracket for universal hand-cuff style gun lock (Santa Cruz). More room for optics on rifle. | C50: ='Master Price List'!C716 -> 95 | D50: =C50-(C50*$D$1) -> 90.25
...

Sheet Ford F250
A1: TOC | B1: 2017 - 2019 FORD F250 PRICE LIST | D1: 0.05
A2: TROY PART # | B2: ITEM DESCRIPTION | C2: MSRP | D2: DISCOUNT %
A4: Console Floor Plates | B4: Always indicate year, make and model on your console purchase orders
A5: ='Master Price List'!A181 -> AC-F150-15 | B5: ='Master Price List'!B181 -> 2015-19 Ford F-150/2017 F-250-550; For applications where center seat is removed | C5: ='Master Price List'!C181 -> 162 | D5: =C5-(C5*$D$1) -> 153.9
A6: ='Master Price List'!A182 -> AC-F150-15-MNT | B6: ='Master Price List'!B182 -> 2015-19/F-150/2017 F250-550/ *2018 Expedition floor plate; For bucket seat trucks or factory console removed | C6: ='Master Price List'!C182 -> 173 | D6: =C6-(C6*$D$1) -> 164.35
A8: Standard-Width Consoles (Can be tranferred to other vehicles)
A9: ='Master Price List'!A144 -> CC-MC-14 | B9: ='Master Price List'!B144 -> MC 14" L-shape console: 7" slope/ 7" level | C9: ='Master Price List'!C144 -> 448 | D9: =C9-(C9*$D$1) -> 425.6
A10: ='Master Price List'!A145 -> CC-MC-16 | B10: ='Master Price List'!B145 -> MC 16" L-shape console: 7" slope/ 9" level | C10: ='Master Price List'!C145 -> 470 | D10: =C10-(C10*$D$1) -> 446.5
A11: ='Master Price List'!A146 -> CC-MC-18 | B11: ='Master Price List'!B146 -> MC 18" L-shape console; 7" slope/ 11" level | C11: ='Master Price List'!C146 -> 479 | D11: =C11-(C11*$D$1) -> 455.05
A12: ='Master Price List'!A147 -> CC-MC-22 | B12: ='Master Price List'!B147 -> MC 22" L-shape console; 7" slope/ 15" level | C12: ='Master Price List'!C147 -> 519 | D12: =C12-(C12*$D$1) -> 493.05
A13: ='Master Price List'!A148 -> CC-MC-25 | B13: ='Master Price List'!B148 -> MC 25" L-shape console; 7" slope/ 18" level | C13: ='Master Price List'!C148 -> 540 | D13: =C13-(C13*$D$1) -> 513
A14: ='Master Price List'!A149 -> CC-MC-30 | B14: ='Master Price List'!B149 -> MC 30" L-shape console; 7" slope/ 23" level. Too long for vehicles with front partition/weapon mount. | C14: ='Master Price List'!C149 -> 567 | D14: =C14-(C14*$D$1) -> 538.65
A15: ='Master Price List'!A82 -> CC-PCFX14 | B15: ='Master Price List'!B82 -> Universal 14" low-profile console; 3" slope/ 11" level; Computer deck; Will fit one long radio. | C15: ='Master Price List'!C82 -> 470 | D15: =C15-(C15*$D$1) -> 446.5
A16: ='Master Price List'!A107 -> CC-A-S12 | B16: ='Master Price List'!B107 -> Universal 12" 2-pc. ht. adj. sloped console; Flat deck (Top piece can be raised up to 3" higher) | C16: ='Master Price List'!C107 -> 443 | D16: =C16-(C16*$D$1) -> 420.85
A17: ='Master Price List'!A103 -> CC-LASD-15 | B17: ='Master Price List'!B103 -> Universal 15" L-shaped console w/computer deck: 7" slope, 8" level. Rocker switch hole pre-punched on deck. | C17: ='Master Price List'!C103 -> 448 | D17: =C17-(C17*$D$1) -> 425.6
A19: Wide-Body Consoles (Can be tranferred to other trucks)
A20: ='Master Price List'!A127 -> CC-WBOS-16 | B20: ='Master Price List'!B127 -> Universal SUV/truck 16" Wide-body open-storage console; 8" slope 8" level | C20: ='Master Price List'!C127 -> 648 | D20: =C20-(C20*$D$1) -> 615.6
A21: ='Master Price List'!A128 -> CC-WBOS-20 | B21: ='Master Price List'!B128 -> Universal SUV/truck 20" Wide-body open-storage console; 8" slope/ 12" level | C21: ='Master Price List'!C128 -> 665 | D21: =C21-(C21*$D$1) -> 631.75
A22: ='Master Price List'!A129 -> CC-WBOS-25 | B22: ='Master Price List'!B129 -> Universal SUV/truck 25" Wide-body open-storage console; 8" slope/ 17" level | C22: ='Master Price List'!C129 -> 686 | D22: =C22-(C22*$D$1) -> 651.7
A23: ='Master Price List'!A130 -> CC-WBOS-25-LP | B23: ='Master Price List'!B130 -> Universal SUV/truck 25" Low profile wide-body open-storage console; 8" slope/ 17" level. 2" shorter in ht. | C23: ='Master Price List'!C130 -> 675 | D23: =C23-(C23*$D$1) -> 641.25
A24: ='Master Price List'!A131 -> CC-WBOS-30 | B24: ='Master Price List'!B131 -> Custom SUV/truck 30" Wide-body console; open storage on driver side. 8" slope/ 22" level | C24: ='Master Price List'!C131 -> 713 | D24: =C24-(C24*$D$1) -> 677.35
A25: ='Master Price List'!A133 -> CC-WB25-OS-F | B25: ='Master Price List'!B133 -> 25" Wide-body level console; Open storage along passenger side. Includes custom features. | C25: ='Master Price List'!C133 -> 784 | D25: =C25-(C25*$D$1) -> 744.8
A26: ='Master Price List'!A134 -> CC-WB30-OS-F | B26: ='Master Price List'!B134 -> 30" Wide-body level console; Open storage along passenger side. Includes custom features. | C26: ='Master Price List'!C134 -> 794 | D26: =C26-(C26*$D$1) -> 754.3
A28: COMPUTER MOUNTS (F250-550 Trucks)
A29: Passenger-Seat Computer Mounts (Passenger space is not compromised)
A30: ='Master Price List'!A626 -> CM-F15-SA-LED | B30: ='Master Price List'!B626 -> 2015-19 F-150 & 2017 F-250 Ht. adjustable seat mnt w/swing arm & docking station mount | C30: ='Master Price List'!C626 -> 473 | D30: =C30-(C30*$D$1) -> 449.35
A31: ='Master Price List'!A627 -> CM-F15-SA-LT17 | B31: ='Master Price List'!B627 -> 2015-19 F-150 & 2017 F-250 Ht. adjustable seat mnt w/swing arm & wide laptop tray | C31: ='Master Price List'!C627 -> 588 | D31: =C31-(C31*$D$1) -> 558.6
A32: ='Master Price List'!A630 -> CM-F15-SL-LED | B32: ='Master Price List'!B630 -> 2015-19 F-150 & 2017 F-250 Ht. adjustable seat mnt w/slide arm & docking station mount | C32: ='Master Price List'!C630 -> 595 | D32: =C32-(C32*$D$1) -> 565.25
A33: ='Master Price List'!A629 -> CM-F15-SL-LT17 | B33: ='Master Price List'!B629 -> 2015-19 F-150 & 2017 F-250 Ht. adjustable seat mnt w/slide arm & wide laptop tray | C33: ='Master Price List'!C629 -> 695 | D33: =C33-(C33*$D$1) -> 660.25
A35: Console-Side Computer Mounts
A36: ='Master Price List'!A678 -> CM-SDMT-SA-LED | B36: ='Master Price List'!B678 -> Console side ht. adj. mount w/swing arm for docking station | C36: ='Master Price List'!C678 -> 350 | D36: =C36-(C36*$D$1) -> 332.5
A37: ='Master Price List'!A679 -> CM-SDMT-SA-LT17 | B37: ='Master Price List'!B679 -> Console side ht. adj. mount w/swing arm for wide laptop tray | C37: ='Master Price List'!C679 -> 456 | D37: =C37-(C37*$D$1) -> 433.2
A38: ='Master Price List'!A681 -> CM-SDMT-SL-LED | B38: ='Master Price List'!B681 -> Console side ht. adj. mount w/slide arm for docking station | C38: ='Master Price List'!C681 -> 480 | D38: =C38-(C38*$D$1) -> 456
A39: ='Master Price List'!A682 -> CM-SDMT-SL-LT17 | B39: ='Master Price List'!B682 -> Console side ht. adj. mount w/slide arm for wide laptop tray | C39: ='Master Price List'!C682 -> 593 | D39: =C39-(C39*$D$1) -> 563.35
A41: Console-Side Dual-Arm Computer Mounts
A42: ='Master Price List'!A684 -> CM-SD2M-SL-703 | B42: ='Master Price List'!B684 -> Console side dual-arm mnt w/swing arm for Havis tablet dock & slide arm for iKey keyboard | C42: ='Master Price List'!C684 -> 850 | D42: =C42-(C42*$D$1) -> 807.5
A44: U-Bracket Computer Mounts (Use on consoles with computer decks)
A45: ='Master Price List'!A691 -> CM-UMNT-SA-LED | B45: ='Master Price List'!B691 -> U bracket mnt w/swing arm for docking station | C45: ='Master Price List'!C691 -> 320 | D45: =C45-(C45*$D$1) -> 304
