Workbook

Sheet Sheet1
A3: County and Interstate Yards consists of materials within the warehouse or stored outside, machinery equipment (i.e., tractor, vehicles, office furniture), IT equipment (i.e., cell phone, computer, and printers), and building.
A5: Residency Yard consists of materials, laboratory equipment i.e., (ovens, balances, and air meters), machinery equipment, i.e., (vehicles and office furniture), IT equipment (i.e., cell phone, computer, and printers), and building.
H7: Division | I7: County | J7: Interstate | K7: Residencies | L7: Misc | M7: Total Yards
H8: 1 | I8: =COUNTA('Div 1'!A2:A9) -> 8 | J8: =COUNTA('Div 1'!B12:B13) -> 2 | K8: =COUNTA('Div 1'!B16:B17) -> 2 | L8: =COUNTA('Div 1'!A20:A26) -> 7 | M8: =SUM(I8:L8) -> 19
H9: 2 | I9: =COUNTA('Div 2'!A2:A10) -> 9 | J9: 0 | K9: =COUNTA('Div 2'!A14:A17) -> 4 | L9: 5 | M9: =SUM(I9:L9) -> 18
H10: 3 | I10: =COUNTA('Div 3'!A2:A12) -> 11 | J10: =COUNT('Div 3'!A15:A16) -> 0 | K10: =COUNTA('Div 3'!A19:A21) -> 3 | L10: =COUNTA('Div 3'!A24:A28) -> 5 | M10: =SUM(I10:L10) -> 19
H11: 4 | I11: =COUNTA('Div 4'!A2:A8) -> 7 | J11: =COUNTA('Div 4'!A11:A12) -> 2 | K11: =COUNTA('Div 4'!A15:A20) -> 6 | L11: =COUNTA('Div 4'!A23:A31) -> 9 | M11: =SUM(I11:L11) -> 24
H12: 5 | I12: =COUNTA('Div 5'!A2:A12) -> 11 | J12: =COUNTA('Div 5'!A15:A16) -> 2 | K12: =COUNTA('Div 5'!A19:A20) -> 2 | L12: =COUNTA('Div 5'!A23:A29) -> 7 | M12: =SUM(I12:L12) -> 22
H13: 6 | I13: =COUNTA('Div 6'!A2:A10) -> 9 | J13: 0 | K13: =COUNTA('Div 6'!A13:A14) -> 2 | L13: =COUNTA('Div 6'!A17:A23) -> 7 | M13: =SUM(I13:L13) -> 18
H14: 7 | I14: =COUNTA('Div 7'!A2:A10) -> 9 | J14: =COUNTA('Div 7'!A13) -> 1 | K14: =COUNTA('Div 7'!A16:A18) -> 3 | L14: =COUNTA('Div 7'!A21:A27) -> 7 | M14: =SUM(I14:L14) -> 20
H15: 8 | I15: =COUNTA('Div 8'!A2:A12) -> 11 | J15: 0 | K15: =COUNTA('Div 8'!A15:A17) -> 3 | L15: =COUNTA('Div 8'!A20:A29) -> 10 | M15: =SUM(I15:L15) -> 24
H16: 9 | I16: 0 | J16: 0 | K16: 0 | L16: =COUNTA('Div 9'!A2:A4) -> 3 | M16: =SUM(I16:L16) -> 3
G17: Total | I17: =SUM(I8:I16) -> 75 | J17: =SUM(J8:J16) -> 7 | K17: =SUM(K8:K16) -> 25 | L17: =SUM(L8:L16) -> 60 | M17: =SUM(M8:M16) -> 167
L22: Total Equipment | N22: ='Div 1'!E31+'Div 2'!E30+'Div 3'!E31+'Div 4'!E34+'Div 5'!E31+'Div 6'!E27+'Div 7'!E30+'Div 8'!E32+'Div 9'!G8 -> 14390
L23: Total Materials | N23: ='Div 1'!F31+'Div 2'!F30+'Div 3'!F31+'Div 4'!F34+'Div 5'!F31+'Div 6'!F27+'Div 7'!F30+'Div 8'!F32+'Div 9'!H8 -> 2210717.3

Sheet C & I Equipment Example 
A1: Tag | B1: Descr | C1: Model | D1: Serial Id
A2: 030212 | B2: WELDER | C2: MILLERMATIC 212 | D2: MB420838N
A3: 030221 | B3: WELDING GENERATOR | C3: 250GXT | D3: U1141205421
A4: 040423 | B4: AIR COMPRESSOR | C4: P260 | D4: 426550UEVD82
A5: 040455 | B5: AIR COMPRESSOR | C5: G11HGA-30T | D5: G031115003
A6: 060319 | B6: ASPHALT DISTRIBUTOR | C6: S2000 | D6: S1613
A7: 070295 | B7: ASPHALT KETTLE | C7: SGS180 | D7: SGS275122
A8: 091436 | B8: HEDGE TRIMMER/PRUNER | C8: TPS-2501 | D8: B137540
A9: 091645 | B9: HEDGE TRIMMER/PRUNER | C9: HT101 | D9: 275310395
A10: 091647 | B10: HEDGE TRIMMER/PRUNER | C10: HS45 | D10: 274484988
A11: 092025 | B11: BLOWER/VACUUM | C11: BR600 | D11: 288544226
A12: 092488 | B12: WEED EATER | C12: FS111RX | D12: 511003639
... A14: 120124 | B14: CONCRETE MIXER | C14: WHITMAN | D14: BL751963
A15: 130001 | B15: HEATER - SHOP | C15: MH135TKFA
A16: 151275 | B16: TAILGATE SPREADER | C16: 8610KS4 | D16: 8230
A17: 151276 | B17: TAILGATE SPREADER | C17: 8610KS4 | D17: 8231
A18: 151325 | B18: SPREADER-HEAVY DUTY | C18: YYYY | D18: 8652
A19: 151407 | B19: SPREADER-HEAVY DUTY | C19: 861113S40K
A20: 151674 | B20: SPREADER-HEAVY DUTY | C20: MSV1688256 | D20: 15-02-8208
A21: 240205 | B21: DRILL-HORIZONTAL | C21: J1238 | D21: 5234V063
A22: 250302 | B22: PAVING BREAKER | C22: 4100 | D22: 49101
A23: 250557 | B23: COMPACTOR | C23: S-38A | D23: 2200145
A24: 250599 | B24: TAMPER-PNEUMATIC | C24: PB35A | D24: 04W228
A25: 250676 | B25: TAMPER-PNEUMATIC | D25: G11H23925
A26: 270336 | B26: POWER-WASH | C26: MVP4-3000 | D26: PO1202-41355
A27: 270454 | B27: HERBICIDE SPOT SPRAYER | C27: TR30EX
A28: 270487 | B28: CHEMICAL APPLICATOR | C28: 1600 | D28: 56767
A29: 270488 | B29: POWER WASHER | C29: MS60753 | D29: 0215197049-LT
A30: 270525 | B30: CHEMICAL INDUCTION SYSTEM | C30: 85H22P55 | D30: 23652
A31: 270646 | B31: CHEMICAL APPLICATOR | C31: DU1A045 | D31: 90084141
A32: 270683 | B32: HERBICIDE SPRAYER | C32: Weedwiper | D32: 1015192
A33: 300323 | B33: POWER SWEEPER | C33: DT80CT | D33: 811300
A34: 390452 | B34: TRAFFIC WARNING SYSTEM | C34: 3X2 MARIX | D34: NONE
A35: 390526 | B35: TRAFFIC WARNING SYSTEM | C35: WTSP | D35: 5F115101791001793
A36: 390583 | B36: TRAFFIC WARNING SYSTEM | C36: WTLMB | D36: 5F12S1610C1000022
A37: 390698 | B37: TRAFFIC WARNING SYSTEM | C37: WTSP55-LSA | D37: 5F11S101XJ1000997
A38: 410052 | B38: POWER TROWEL | C38: SSA15
A39: 410055 | B39: POWER SCREED | C39: 020104 | D39: 16100209
A40: 410072 | B40: VIBRATOR | C40: 1.5 | D40: 20591AA2F
A41: 421028 | B41: MOTOR GRADER | C41: 120M2 | D41: CAT0120MJM9C00233
...

Sheet Residency Equipment Example
A1: Tag | B1: Descr | C1: Model
A2: 310253 | B2: GENERATOR | C2: 5500WATT
A3: 821736 | B3: ALL TERRAIN VEHICLE | C3: XUV 620
A4: 821954 | B4: ALL TERRAIN VEHICLE | C4: 6200
A5: 981590 | B5: CHAIN SAW | C5: 450
A6: B0196 | B6: DEFIBRILLATOR | C6: ZOLL PLUS
A7: EC0019 | B7: DATA COLLECTOR | C7: HP 48 GX
A8: EC0031 | B8: DATA COLLECTOR FOR GPS UNIT | C8: MODEL 300 YEAR 2003
A9: EE0221 | B9: G.P.S. SURVEY SYSTEM | C9: GR-3
A10: EE0274 | B10: GPS EQUIP:Global Positioning S
A11: EL0427 | B11: AUTO LEVEL | C11: S03016
A12: EL0456 | B12: AUTO LEVEL | C12: B20
A13: EL0457 | B13: AUTO LEVEL | C13: B20
A14: EL0483 | B14: AUTO LEVEL INSTRUMET | C14: AFL-320 W/ALUM
A15: EL0500 | B15: AUTO LEVEL W/TRIPOD | C15: AT-G2A
A16: EL0501 | B16: AUTO LEVEL W/TRIPOD | C16: AT-G2A
A17: EL0517 | B17: AUTO LEVEL W/TRIPOD | C17: AT-G2A
A18: EL0518 | B18: AUTO LEVEL W/TRIPOD | C18: AT-G2A
A19: EL0519 | B19: AUTO LEVEL W/TRIPOD | C19: AT-G2A
A20: EL0520 | B20: AUTO LEVEL W/TRIPOD | C20: AT-G2A
A21: EL0531 | B21: AUTO LEVEL | C21: AT-G2A
A22: EL0546 | B22: AUTO LEVEL | C22: AT-G1
... A82: LAE0387 | B82: ROLL-A-METER AIR IND | C82: H-2795
A83: LAE0632 | B83: ROLL A METER
A84: LAE0647 | B84: ALUM ROLL-A-METER WITH CASE
A85: LAE0648 | B85: ALUM ROLL-A-METER WITH CASE
A86: LAE0649 | B86: ROLL-A-METER WITH CASE
A87: LAE0650 | B87: ROLL-A-METER WITH CASE
A88: LAE0651 | B88: ROLL-A-METER WITH CASE
A89: LAT0203 | B89: NON NUCLEAR DENSITY MEASURING | C89: 2701B-IR
A90: LAT0208 | B90: CONC. COMPRESSION TEST MACHINE | C90: CM-3000-SDP
A91: LAT0256 | B91: Soil Compactor | C91: HM530
A92: LBT0084 | B92: BALANCE ELECTRONIC | C92: 16 KG CAPACITY
A93: LBT0268 | B93: INDUSTRIAL BALANCE | C93: GP-20K
A94: LBT0346 | B94: BALANCE SCALE | C94: EP22001 C BASIC AM
A95: LO0278 | B95: OVEN | C95: MO406C
A96: LO0286 | B96: FURNACE | C96: YYYY
A97: LO0287 | B97: FURNACE | C97: YYYY
A98: LO0345 | B98: ELECTRIC OVEN | C98: LBB2-12-1
A99: LO0352 | B99: ELECTRIC OVEN | C99: DOL-120A
...

Sheet Div 1
A1: County Yard | B1: Location Code | C1: Address | E1: Equipment Item | F1: Material Item
A2: Muskogee | B2: 0111B | C2: 2800 S. 32nd St. Muskogee, OK 74401 | E2: 117 | F2: 675
A3: Cherokee | B3: 0111C | C3: 5102 S Muskogee Ave Tahlequah, OK 74464 | E3: 87 | F3: 1790.875
A4: Adair | B4: 0111D | C4: 470519 Highway 51 West Stilwell, OK 74960 | E4: 90 | F4: 2112
A5: Sequoyah | B5: 0111E | C5: 2180 W Lenington Rd Sallisaw, OK 74955 | E5: 89 | F5: 1562.14
A6: Haskell | B6: 0111F | C6: 1006 Old Mill Rd Stigler, OK 74462 | E6: 85 | F6: 1385
A7: McIntosh | B7: 0111G | C7: 415197 Highway 9, Eufaula, OK 74432 | E7: 102 | F7: 4399
A8: Okmulgee | B8: 0111H | C8: 3360 South Wood Drive Okmulgee, OK 74447 | E8: 70 | F8: 2045.45
A9: Wagoner | B9: 0111J | C9: 1628 S. Highway 69 Wagoner, Oklahoma 74467 | E9: 94 | F9: 1869
A11: Interstate Yard
A12: Checotah | B12: 0113A | C12: 107595 S 4170 Rd. Checotah, OK 74426 | E12: 103 | F12: 3905.9
A13: Sallisaw | B13: 0113B | C13: 2180 W Lenington Rd Sallisaw, OK 74955 | E13: 119 | F13: 1342.45
A15: Residency
A16: Muskogee | B16: 01510 | C16: 2800 S. 32nd St. Muskogee, OK 74401 | E16: 109 | F16: 5708
A17: Sallisaw | B17: 01520 | C17: 113 S. McGee Drive Sallisaw, OK 74955 | E17: 108 | F17: 0
A19: Miscellaneous Yard
A20: Division HQ | B20: 01000 | C20: 2800 S. 32nd Street Muskogee, OK 74401 | E20: 121 | F20: 72352
A21: Asphalt/Bridge Crew | B21: 0112A | C21: 2801 S. 32nd Street Muskogee, OK 74401 | E21: 48 | F21: 1994.5
A22: Bridge Crew | B22: 0112B | C22: 2802 S. 32nd Street Muskogee, OK 74401 | E22: 34 | F22: 0
A23: Division Wide Maint Crew | B23: 0112C | C23: 2803 S. 32nd Street Muskogee, OK 74401 | E23: 56 | F23: 815
A24: Traffic Crew | B24: 0114A/0114B | C24: 2804 S. 32nd Street Muskogee, OK 74401 | E24: =40+12 -> 52 | F24: =10989.47+9906 -> 20895.47
A25: Equipment Shop | B25: 0115A | C25: 2805 S. 32nd Street Muskogee, OK 74401 | E25: 92 | F25: 15
A26: Division Office Branch | B26: 01010 | C26: 2806 S. 32nd Street Muskogee, OK 74401 | E26: 21 | F26: 68
E31: =SUM(E2:E9,E12:E13,E16:E17,E20:E26) -> 1597 | F31: =SUM(F2:F9,F12:F13,F16:F17,F20:F26) -> 122934.79

Sheet Div 2
A1: County Yard | B1: Location Code | C1: Address | E1: Equipment Item | F1: Material Item
A2: McCurtain | B2: 0211A | C2: 505 NW Lincoln Rd, Idabel, OK 74745 | E2: 96 | F2: 5538
A3: Bryan | B3: 0211B | C3: 3318 N 1st, Durant OK 74701 | E3: 101 | F3: =10609.38-5532.38 -> 5077
A4: Le Flore | B4: 0211C | C4: 2506 S McKenna Poteau, OK 74953 | E4: 109 | F4: 3919
A5: Latimer | B5: 0211D | C5: 1109 Highway 2 N, Wilburton, OK 74578 | E5: 73 | F5: 5367
A6: Pushmataha | B6: 0211E | C6: 194286 US Highway 271, Antlers, OK 74523 | E6: 74 | F6: 1294.5
A7: Marshall | B7: 0211H | C7: 104 E Francis St Madill, OK 73446 | E7: 70 | F7: 6764.5
A8: Pittsburg | B8: 0211J | C8: 7111 Business Route 69, McAlester, OK 74501 | E8: 126 | F8: 11898.5
A9: Atoka | B9: 2011F | C9: 5374 E Bruno Rd Atoka, OK 74525 | E9: 111 | F9: 3284
A10: Choctaw | B10: 2011G | C10: 2622 US 70 Bypass Hugo, OK 74743 | E10: 85 | F10: 3374
A13: Residency
A14: Antlers | B14: 02510 | C14: 194286 US Highway 271, Antlers, OK 74523 | E14: 66 | F14: 0
A15: Heavener | B15: 02520 | C15: 41919 US 59 N Heavener, OK 74937 | E15: 101 | F15: 0
A16: McAlester | B16: 02540 | C16: 7101 US Highway 69 Business McAlester, OK 74501 | E16: 76 | F16: 0
A17: Madill | B17: 02530 | C17: 102 East Francis Street,Madill, OK 73446 | E17: 79 | F17: 0
A19: Miscellaneous Yard
A20: Division HQ | B20: 02000 | C20: 194286 US Highway 271, Antlers, OK 74523 | E20: 171 | F20: 179844.8
A21: Division Wide | B21: 0212B | C21: 194286 US Highway 271, Antlers, OK 74523 | E21: 29 | F21: 4
A22: Tal Maint Crew | B22: 0212A | C22: 194286 US Highway 271, Antlers, OK 74523 | E22: 90 | F22: 3491
A23: Traffic Crew | B23: 0214A | C23: 194286 US Highway 271, Antlers, OK 74523 | E23: 36 | F23: 6737.5
A24: Equipment Shop | B24: 0215A | C24: 194286 US Highway 271, Antlers, OK 74523 | E24: 127 | F24: 4301
A25: Bridge Crew | B25: 0212C | C25: 194286 US Highway 271, Antlers, OK 74523 | E25: 48 | F25: 40
A26: Division Wide Survey | B26: 02550 | C26: 194286 US Highway 271, Antlers, OK 74523 | E26: 12 | F26: 0
E30: =SUM(E2:E29) -> 1680 | F30: =SUM(F2:F29) -> 240934.8

Sheet Div 3
A1: County Yard | B1: Location Code | C1: Address | E1: Equipment Item | F1: Material Item
A2: Seminole | B2: 0311A | C2: 12636 North South 3665, Wewoka, OK 74884 | E2: 82 | F2: 5967
A3: Pontotoc | B3: 0311B | C3: 12844 OK 3 W ADA OK 74820 | E3: 75 | F3: 3533
A4: Garvin | B4: 0311C | C4: 2216 S. Chickasaw St. Pauls Valley, OK 73075-9709 | E4: 78 | F4: 2667
A5: McClain | B5: 0311D | C5: 2614 SH 74 South Purcell, OK 73080 | E5: 74 | F5: 2962
A6: Coal | B6: 0311E | C6: 1402 SH-75 Coalgate, OK 74538 | E6: 81 | F6: 1647
A7: Hughes | B7: 0311F | C7: 328 MCDougal Drive Holdenville, OK 74848 | E7: 76 | F7: 2248
A8: Okfuskee | B8: 0311G | C8: 104 W Coplin St. Okemah, OK 74859 | E8: 74 | F8: 3368
A9: Johnston | B9: 0311H | C9: 9680 S Highway 377 Tishoingo, OK 73460 | E9: 89 | F9: 3305
A10: Cleveland | B10: 0311J | C10: 5003 Banner Rd, Noble, OK73068 | E10: 72 | F10: 5096
A11: Pottawaomie | B11: 0311K | C11: 3204 East Walnut St Tecumseh, OK 74873 | E11: 78 | F11: 3232
A12: Lincoln | B12: 0311M | C12: 346177 E Highway 66 Chandler, OK 74834 | E12: 77 | F12: 3476
A14: Interstate Yard
A15: Purcell | B15: 0313A | C15: 2614 SH 74 Purcell, OK 73080 | E15: 111 | F15: 7697
A16: Shawnee | B16: 0313B | C16: 35565 Frontier Rd Seminole OK 74868 | E16: 117 | F16: 13472
A18: Residency
A19: Ada | B19: 03510 | C19: 12844 OK 3 W ADA OK 74820 | E19: 126 | F19: 229
A20: Purcell | B20: 03520 | C20: 23404 SH 74 N, Purcell, K 73080 | E20: 111 | F20: 472
A21: Wewoka | B21: 03530 | C21: 12636 North South 3665, Wewoka, OK 74884 | E21: 109 | F21: 0
A23: Miscellaneous Yard
A24: Division HQ | B24: 03000 | C24: 12844 OK 3 W ADA OK 74820 | E24: 130 | F24: 117470.9
A25: Div Wide Maint Crew A | B25: 0312A | C25: 12844 OK 3 W ADA OK 74820 | E25: 51 | F25: 74
A26: Bridge Repair Crew | B26: 0312B | C26: 12844 OK 3 W ADA OK 74820 | E26: 67 | F26: 690
A27: Traffic Crew | B27: 0314A | C27: 12844 OK 3 W ADA OK 74820 | E27: 54 | F27: 15898
A28: Equipment Shop | B28: 0315A | C28: 12844 OK 3 W ADA OK 74820 | E28: 128 | F28: 90
E31: =SUM(E2:E30) -> 1860 | F31: =SUM(F2:F30) -> 193593.9

Sheet Div 4
A1: County Yard | B1: Location Code | C1: Address | E1: Equipment Item | F1: Material Item
A2: Noble | B2: 0411A | C2: 2609 W Highway 77, Perry, OK 73077 | E2: 83 | F2: 3628
A3: Garfield | B3: 0411B | C3: 826 W Walnut Enid, OK 73701 | E3: 105 | F3: 3279
A4: Payne | B4: 0411C | C4: 7000 W. Main Cushing ok 74023 | E4: 105 | F4: 3473
A5: Logan | B5: 0411F | C5: 721 Camp Russell Rd, Guthrie OK 73044 | E5: 98 | F5: 684
A6: Kay | B6: 0411H | C6: 10507 W Dollin Ave, Blackwell, OK 74631 | E6: 92 | F6: 2495
A7: Kingfisher | B7: 0411K | C7: 17407 SH 81 Kingfisher OK 73750 | E7: 120 | F7: 1854
A8: Grant | B8: 0411L | C8: 700 S. 4th St., Medford, OK 73759 | E8: 102 | F8: 2399
A10: Interstate
A11: Guthrie | B11: 0413B | C11: 721 Camp Russell Rd, Guthrie OK 73044 | E11: 118 | F11: 24694
A12: Tonkawa | B12: 0413C | C12: 208 N 3RD Street Tonkawa OK 74653 | E12: 111 | F12: 5430
A14: Residency
A15: Perry | B15: 04510 | C15: 2609 W Highway 77, Perry, OK 73077 | E15: 90 | F15: 0
A16: Yukon | B16: 04520 | C16: 15100 NW 36th St, Yukon OK 73099 | E16: 79 | F16: 0
A17: Enid | B17: 04530 | C17: 410 Krenlin St, Enid Oklahoma 73701 | E17: 80 | F17: 0
A18: Edmond | B18: 04540 | C18: 5201 NW 122nd Building 4007 Edmond OK 73013 | E18: 99 | F18: 29
A19: Stillwater | B19: 04550 | C19: 6946 N Husband Stillwater, OK 74075 | E19: 94 | F19: 442
A20: Oklahoma City | B20: 04560 | C20: 701 SE 82nd Oklahoma City, 73149 | E20: 104 | F20: 0
A22: Miscellaneous Yard
A23: Division HQ | B23: 04000 | C23: 2609 W Highway 77, Perry, OK 73077 | E23: 124 | F23: 0
A24: Div Office Branch | B24: 04010 | C24: 2609 W Highway 77, Perry, OK 73077 | E24: 13 | F24: 0
A25: Annex | B25: 04020 | C25: 5201 N.E. 122nd Building 4005 Edmond ok 73013 | E25: 56 | F25: 3763
A26: Maintenance Oversight Crew | B26: 0411E | C26: 5201 N.E. 122nd Building 4005 Edmond ok 73013 | E26: 9 | F26: 100
A27: Div Wide Maint Crew A | B27: 0412A | C27: 5201 N.E. 122nd Building 4005 Edmond ok 73013 | E27: 41 | F27: 175
A28: Bridge Crew | B28: 0412B | C28: 2609 W Highway 77, Perry, OK 73077 | E28: 56 | F28: 320
A29: Traffic Crew | B29: 0414A | C29: 2609 W Highway 77, Perry, OK 73077 | E29: 49 | F29: 66723
A30: Equipment Shop | B30: 0415A | C30: 2609 W Highway 77, Perry, OK 73077 | E30: 148 | F30: 0
A31: Warehouse | C31: 2609 W Highway 77, Perry, OK 73077 | E31: 0 | F31: 117386
E34: =SUM(E2:E33) -> 1976 | F34: =SUM(F2:F33) -> 236874

Sheet Div 5
A1: County Yard | B1: Location Code | C1: Address | E1: Equipment Item | F1: Material Item
A2: Beckham | B2: 0511A | C2: 1904 US 283 Sayre, OK 73662 | E2: 95 | F2: 1606
A3: Custer | B3: 0511B | C3: 9846 US HY 183 Arapaho, OK 73620 | E3: 94 | F3: 3611
A4: Jackson | B4: 0511C | C4: 1905 Industrial Drive Altus, OK 73521 | E4: 100 | F4: 3580
A5: Tillman | B5: 0511D | C5: 17872 US HWY 183 Frederick, OK 73542 | E5: 76 | F5: 3613
A6: Kiowa | B6: 0511E | C6: 13759 US 183 Hobart, OK 73651 | E6: 99 | F6: 2947
A7: Greer | B7: 0511F | C7: 21585 SH 34 Mangum, OK 73554 | E7: 84 | F7: 2874
A8: Washita | B8: 0511G | C8: 1523 HWY 152 Cordell, OK 73632 | E8: 79 | F8: 2552
A9: Roger Mills | B9: 0511H | C9: 9565 US 283 Cheyenne, OK 73628 | E9: 89 | F9: 2599
A10: Blaine | B10: 0511J | C10: 12329 US 270 Watonga, OK 73772 | E10: 87 | F10: 2743
A11: Dewey | B11: 0511K | C11: 66846 US HWY 183 Taloga, OK 73663 | E11: 83 | F11: 4323
A12: Harmon | B12: 0511L | C12: 1200 N. 8th St Hollis, OK 73550 | E12: 80 | F12: 1031
A14: Interstate Yard
A15: Elk City | B15: 0513A | C15: 1210 East Hwy 66 Elk City, OK 73644 | E15: 112 | F15: 8686
A16: Hydro | B16: 0513B | C16: 1398 County Rd 1022 Hydro OK 73408 | E16: 100 | F16: 3148
A18: Residency
A19: Clinton | B19: 05510 | C19: 1745 US 183 Clinton, OK 73601 | E19: 178 | F19: 16
A20: Altus | B20: 05520 | C20: 608 S. Jackson Street Altus, OK 73521 | E20: 153 | F20: 274
A22: Miscellaneous Yard
A23: Div HQ | B23: 05000 | C23: 1745 US 183 Clinton, OK 73601 | E23: 139 | F23: 0
A24: Div 5 Office Branch | B24: 05010 | C24: 1745 US 183 Clinton, OK 73601 | E24: 20 | F24: 98
A25: Spec Maint | B25: 0512A | C25: 1745 US 183 Clinton, OK 73601 | E25: 52 | F25: 161
A26: Bridge Crew | B26: 0512B | C26: 1745 US 183 Clinton, OK 73601 | E26: 46 | F26: 2474
A27: Traffic | B27: 0514A | C27: 1745 US 183 Clinton, OK 73601 | E27: 58 | F27: 13416
A28: Clinton Shop | B28: 0515A | C28: 1745 US 183 Clinton, OK 73601 | E28: 103 | F28: 14
A29: Warehouse | C29: 1745 US 183 Clinton, OK 73601 | E29: 0 | F29: 265274
E31: =SUM(E2:E30) -> 1927 | F31: =SUM(F2:F30) -> 325040

Sheet Div 6
A1: County Yard | B1: Location Code | C1: Address | E1: Equipment Item | F1: Material Item
A2: Texas | B2: 0611A | C2: 621 David Long Rd Guymon, OK 73942 | E2: 95 | F2: 3001
A3: Woodward | B3: 0611B | C3: 14219 US Highway 270 Woodward OK 73801 | E3: 94 | F3: 4836
A4: Woods | B4: 0611C | C4: 2457 College Blvd Alva, OK 73717 | E4: 85 | F4: 3581
A5: Alfalfa | B5: 0611D | C5: 915 N Grand Cherokee, OK 73725 | E5: 82 | F5: 4752
A6: Major | B6: 0611E | C6: 2011 North Main Faireview, OK 73737 | E6: 97 | F6: 4258
A7: Beaver | B7: 0611F | C7: Intersect US 64 and SH 23 from that intersect 6 miles South | E7: 80 | F7: 6051
A8: Cimarron | B8: 0611G | C8: 300 Highway 287 Boise City, OK 73933 | E8: 96 | F8: 5283
A9: Ellis | B9: 0611H | C9: 175160 E County Road 53 Shattuck, OK 73858 | E9: 75 | F9: 2644
A10: Harper | B10: 0611J | C10: 18985 US 64 West Buffalo, OK 73834 | E10: 62 | F10: 299
A12: Residency
A13: Buffalo | B13: 06510 | C13: 18985 US 64 West Buffalo, OK 73834 | E13: 113 | F13: 20
A14: Guymon | B14: 06520 | C14: 504 S. Crumley Guymon, OK 73942 | E14: 104 | F14: 354
A16: Miscellaneous Yard
A17: Div HQ | B17: 06000 | C17: 18985 US 64 West Buffalo, OK 73834 | E17: 131 | F17: 0
A18: Office Branch | B18: 06010 | C18: 18985 US 64 West Buffalo, OK 73834 | E18: 1 | F18: 51.4
A19: Maint Crew A | B19: 0612A | C19: 18985 US 64 West Buffalo, OK 73834 | E19: 79 | F19: 128
A20: Bridge Repair Crew | B20: 0612B | C20: 18985 US 64 West Buffalo, OK 73834 | E20: 78 | F20: 3809
A21: Traffic Crew | B21: 0614A | C21: 18985 US 64 West Buffalo, OK 73834 | E21: 44 | F21: 9444
A22: Equipment Shop | B22: 0615A | C22: 18985 US 64 West Buffalo, OK 73834 | E22: 204 | F22: 0
A23: Warehouse | C23: 18985 US 64 West Buffalo, OK 73834 | E23: 0 | F23: 179605
E27: =SUM(E2:E26) -> 1520 | F27: =SUM(F2:F26) -> 228116.4

Sheet Div 7
A1: County Yard | B1: Location Code | C1: Address | E1: Equipment Item | F1: Material Item
A2: Stephens | B2: 0711A | C2: 2205 US-81 Bypass Duncan, OK 73534 | E2: 82 | F2: 518.375
A3: Carter | B3: 0711B | C3: 511 Interstate Dr. Ardmore, OK 73401 | E3: 108 | F3: 2266.6
A4: Cotton | B4: 0711C | C4: 526 S. 6th Street Walters, OK 73572 | E4: 97 | F4: 7690.4831
A5: Caddo | B5: 0711D | C5: 101 N.E. 7th Street Anadarko, OK 73005 | E5: 108 | F5: 2254.8
A6: Grady | B6: 0711E | C6: 1125 E. Choctaw Chickasha, OK 73018 | E6: 104 | F6: 1487
A7: Comanche | B7: 0711F | C7: 6101 S.W. 11th Street Lawton, OK 73501 | E7: 115 | F7: 5191.15
A8: Jefferson | B8: 0711G | C8: 8594 US 70 Waurika, OK 73573 | E8: 83 | F8: 6031
A9: Love | B9: 0711H | C9: 408 S. US-77 Marietta, OK 73448 | E9: 72 | F9: 1759
A10: Murray | B10: 0711J | C10: 1136 HWY 77 N Davis 73030 | E10: 89 | F10: 3358.5
A12: Interstate Yard
A13: Ardmore | B13: 0713A | C13: 515 Interstate Drive Ardmore, OK 73402 | E13: 103 | F13: 25293
A15: Residency
A16: Duncan | B16: 07510 | C16: 2202 S. US-81 Bypass Duncan, OK 73534 | E16: 119 | F16: 0
A17: Ardmore | B17: 07520 | C17: 525 Interstate Drive Ardmore, OK 73401 | E17: 104 | F17: 0
A18: Anadarko | B18: 07530 | C18: 211 W. Main Street Anadarko, OK 73005 | E18: 102 | F18: 0
A20: Miscellaneous Yard
A21: Division HQ | B21: 07000 | C21: 2205 US-81 Bypass Duncan, OK 73534 | E21: 133 | F21: 0
A22: Office Branch | B22: 07010 | C22: 2205 US-81 Bypass Duncan, OK 73534 | E22: 4 | F22: 41.95
A23: Div Wide Construction Survey | B23: 07540 | C23: 2205 US-81 Bypass Duncan, OK 73534 | E23: 0 | F23: 0
A24: Div Wide Mainte Crew | B24: 0712A | C24: 2205 US-81 Bypass Duncan, OK 73534 | E24: 75 | F24: 86
A25: Traffic | B25: 0714A | C25: 2205 US-81 Bypass Duncan, OK 73534 | E25: 38 | F25: 4061
A26: Equipment | B26: 0715A | C26: 2205 US-81 Bypass Duncan, OK 73534 | E26: 76 | F26: 26
A27: Warehouse | C27: 2205 US-81 Bypass Duncan, OK 73534 | E27: 0 | F27: 90399.6
E30: =SUM(E2:E29) -> 1612 | F30: =SUM(F2:F29) -> 150464.46

Sheet Div 8
A1: County Yard | B1: Location Code | C1: Address | E1: Equipment Item | F1: Material Item
A2: Craig | B2: 0811A | C2: 435677 E. Highway 60 Vinita, OK 74301 | E2: 83 | F2: 6528
A3: Nowata | B3: 0811B | C3: 254 Vinita Road Nowata, OK 74048 | E3: 71 | F3: 2849
A4: Tulsa | B4: 0811C | C4: 4002 N. Mingo Valley Expressway Tulsa, OK 74116 | E4: 16 | F4: 759
A5: Osage | B5: 0811D | C5: 27045 Highway 60 Pawhuska, OK 74056 | E5: 104 | F5: 3724
A6: Ottawa | B6: 0811E | C6: 12560 S. Highway 69 Miami, OK 74354 | E6: 90 | F6: 4778
A7: Washington | B7: 0811F | C7: 3321 Yorman Road Bartlesville, OK 74006 | E7: 96 | F7: 4311
A8: Rogers | B8: 0811G | C8: 12802 E. 470 Road Claremore, OK 74017 | E8: 104 | F8: 4209
A9: Delaware | B9: 0811H | C9: 2410 W. Highway 20 Jay, OK 74346 | E9: 99 | F9: 3885
A10: Pawnee | B10: 0811J | C10: 48701 E. Highway 64 Pawnee, OK 74058 | E10: 98 | F10: 2711
A11: Mayes | B11: 0811K | C11: 2404 N. Highway 69 Pryor, OK 74361 | E11: 96 | F11: 3940
A12: Creek | B12: 0811M | C12: 34380 W. Highway 66 Bristow, OK 74010 | E12: 103 | F12: 6474
A14: Residency
A15: Tulsa | B15: 08510 | C15: 4002 N. Mingo Valley Expressway Tulsa, OK 74116 | E15: 99 | F15: 117
A16: Claremore | B16: 08530 | C16: 25825B South Hwy. 66 Claremore, OK 74017 | E16: 91 | F16: 0
A17: Sand Springs | B17: 08540 | C17: 11302 W. 57th Place South Sand Springs, OK 74063 | E17: 75 | F17: 787
A19: Miscellaneous Yard
A20: Division HQ | B20: 08000 | C20: 4002 N. Mingo Valley Expressway Tulsa, OK 74116 | E20: 173 | F20: 0
A21: Office Branch | B21: 08010 | C21: 4002 N. Mingo Valley Expressway Tulsa, OK 74116 | E21: 18 | F21: 28
A22: Div Wide Constuction Survey | B22: 08550 | C22: 4002 N. Mingo Valley Expressway Tulsa, OK 74116 | E22: 11 | F22: 0
A23: Div Wide Maint Crew A | B23: 0812A | C23: 4002 N. Mingo Valley Expressway Tulsa, OK 74116 | E23: 29 | F23: 51
A24: Bridge Crew | B24: 0812B | C24: 4002 N. Mingo Valley Expressway Tulsa, OK 74116 | E24: 75 | F24: 2377
A25: Tulsa Metro Crew | B25: 0812C | C25: 4002 N. Mingo Valley Expressway Tulsa, OK 74116 | E25: 44 | F25: 4377
A26: Div Wide Maint Crew D | B26: 0812D | C26: 4002 N. Mingo Valley Expressway Tulsa, OK 74116 | E26: 10 | F26: 252
A27: Traffic | B27: 0814A | C27: 4002 N. Mingo Valley Expressway Tulsa, OK 74116 | E27: 33 | F27: 82965
A28: Equipment | B28: 0815A | C28: 4002 N. Mingo Valley Expressway Tulsa, OK 74116 | E28: 123 | F28: 269
A29: Warehouse | C29: 4002 N. Mingo Valley Expressway Tulsa, OK 74116 | E29: 0 | F29: 319876
E32: =SUM(E2:E31) -> 1741 | F32: =SUM(F2:F31) -> 455267

Sheet Div 9
A1: Miscellaneous Yard | G1: Equipment | H1: Material
A2: Central Garage | B2: JC040 | C2: 200 NE 21st ST Oklahoma City, OK 73105 | G2: 89 | H2: 23435
A3: Sign Shop | B3: HF040 | C3: 5201 N.E. 122nd Edmond ok 73013 | G3: 50 | H3: 234057
A4: Materials | B4: JB000 | C4: 5201 N.E. 122nd Building 4005 Edmond ok 73013 / 200 NE 21st St Oklahoma City, OK 73105 | G4: 338 | H4: 0
G8: =SUM(G2:G7) -> 477 | H8: =SUM(H2:H7) -> 257492
