Workbook

Sheet 2020 Price List
A1: Product Code | B1: Product Name | C1: List Price | D1: Note | E1: Category | F1: Band 1 | G1: Band 2 | H1: Band 3
A2: 11507 | B2: MOLLE MOUNT, SINGLE, AXON RAPIDLOCK | C2: 31.3 | E2: NON-CEW | F2: =VLOOKUP(A2,Band1!$A$12:$B$69,1,FALSE) -> 11507 | G2: =VLOOKUP(A2,Band2!$A$13:$B$26,1,FALSE) -> #N/A | H2: =VLOOKUP(A2,Band3!$A$11:$B$69,1,FALSE) -> #N/A
A3: 11508 | B3: MOLLE MOUNT, DOUBLE, AXON RAPIDLOCK | C3: 41.75 | E3: NON-CEW | F3: =VLOOKUP(A3,Band1!$A$12:$B$69,1,FALSE) -> 11508 | G3: =VLOOKUP(A3,Band2!$A$13:$B$26,1,FALSE) -> #N/A | H3: =VLOOKUP(A3,Band3!$A$11:$B$69,1,FALSE) -> #N/A
A4: 11509 | B4: BELT CLIP, RAPIDLOCK | C4: 31.3 | E4: NON-CEW | F4: =VLOOKUP(A4,Band1!$A$12:$B$69,1,FALSE) -> 11509 | G4: =VLOOKUP(A4,Band2!$A$13:$B$26,1,FALSE) -> #N/A | H4: =VLOOKUP(A4,Band3!$A$11:$B$69,1,FALSE) -> #N/A
A5: 11511 | B5: ROUTER ANTENNA, FLEET | C5: 270 | E5: NON-CEW | F5: =VLOOKUP(A5,Band1!$A$12:$B$69,1,FALSE) -> #N/A | G5: =VLOOKUP(A5,Band2!$A$13:$B$26,1,FALSE) -> 11511 | H5: =VLOOKUP(A5,Band3!$A$11:$B$69,1,FALSE) -> #N/A
A6: 11528 | B6: FLEX 2 CAMERA, (ONLINE) | C6: 470 | E6: NON-CEW | F6: =VLOOKUP(A6,Band1!$A$12:$B$69,1,FALSE) -> 11528 | G6: =VLOOKUP(A6,Band2!$A$13:$B$26,1,FALSE) -> #N/A | H6: =VLOOKUP(A6,Band3!$A$11:$B$69,1,FALSE) -> #N/A
A7: 11529 | B7: FLEX 2 CAMERA, (OFFLINE) | C7: 679 | E7: NON-CEW | F7: =VLOOKUP(A7,Band1!$A$12:$B$69,1,FALSE) -> 11529 | G7: =VLOOKUP(A7,Band2!$A$13:$B$26,1,FALSE) -> #N/A | H7: =VLOOKUP(A7,Band3!$A$11:$B$69,1,FALSE) -> #N/A
A8: 11532 | B8: FLEX 2 CONTROLLER | C8: 262 | E8: NON-CEW | F8: =VLOOKUP(A8,Band1!$A$12:$B$69,1,FALSE) -> 11532 | G8: =VLOOKUP(A8,Band2!$A$13:$B$26,1,FALSE) -> #N/A | H8: =VLOOKUP(A8,Band3!$A$11:$B$69,1,FALSE) -> #N/A
A9: 11533 | B9: CABLE, COILED, STRAIGHT TO RIGHT ANGLE, 48 IN, FLEX 2 | C9: 18.3 | E9: NON-CEW | F9: =VLOOKUP(A9,Band1!$A$12:$B$69,1,FALSE) -> 11533 | G9: =VLOOKUP(A9,Band2!$A$13:$B$26,1,FALSE) -> #N/A | H9: =VLOOKUP(A9,Band3!$A$11:$B$69,1,FALSE) -> #N/A
A10: 11534 | B10: USB-C to USB-A CABLE FOR AB3 OR FLEX 2 | C10: 11 | E10: NON-CEW | F10: =VLOOKUP(A10,Band1!$A$12:$B$69,1,FALSE) -> 11534 | G10: =VLOOKUP(A10,Band2!$A$13:$B$26,1,FALSE) -> #N/A | H10: =VLOOKUP(A10,Band3!$A$11:$B$69,1,FALSE) -> #N/A
A11: 11536 | B11: DOCK, FLEX 2, 1-BAY + CORE | C11: 413 | E11: NON-CEW | F11: =VLOOKUP(A11,Band1!$A$12:$B$69,1,FALSE) -> 11536 | G11: =VLOOKUP(A11,Band2!$A$13:$B$26,1,FALSE) -> #N/A | H11: =VLOOKUP(A11,Band3!$A$11:$B$69,1,FALSE) -> #N/A
A12: 11537 | B12: DOCK, FLEX 2, 6-BAY + CORE | C12: 1563 | E12: NON-CEW | F12: =VLOOKUP(A12,Band1!$A$12:$B$69,1,FALSE) -> 11537 | G12: =VLOOKUP(A12,Band2!$A$13:$B$26,1,FALSE) -> #N/A | H12: =VLOOKUP(A12,Band3!$A$11:$B$69,1,FALSE) -> #N/A
A13: 11538 | B13: DOCK, FLEX 2, 1-BAY | C13: 99 | E13: Band 1 | F13: =VLOOKUP(A13,Band1!$A$12:$B$69,1,FALSE) -> #N/A | G13: =VLOOKUP(A13,Band2!$A$13:$B$26,1,FALSE) -> #N/A | H13: =VLOOKUP(A13,Band3!$A$11:$B$69,1,FALSE) -> #N/A
... A25: 11561 | B25: C-CLIP ADAPTOR, FLEX 2 | C25: 12.55 | E25: Band 1 | F25: =VLOOKUP(A25,Band1!$A$12:$B$69,1,FALSE) -> #N/A | G25: =VLOOKUP(A25,Band2!$A$13:$B$26,1,FALSE) -> #N/A | H25: =VLOOKUP(A25,Band3!$A$11:$B$69,1,FALSE) -> #N/A
A26: 11564 | B26: 2 YEAR TAP FLEX 2 REPLACEMENT | C26: 0 | D26: Bundle Component, not for independent sale | E26: Band 1 | F26: =VLOOKUP(A26,Band1!$A$12:$B$69,1,FALSE) -> #N/A | G26: =VLOOKUP(A26,Band2!$A$13:$B$26,1,FALSE) -> #N/A | H26: =VLOOKUP(A26,Band3!$A$11:$B$69,1,FALSE) -> #N/A
A27: 11565 | B27: 2 YEAR TAP DOCK FLEX 2 SINGLE BAY REPLACEMENT | C27: 0 | D27: Bundle Component, not for independent sale | E27: Band 1 | F27: =VLOOKUP(A27,Band1!$A$12:$B$69,1,FALSE) -> #N/A | G27: =VLOOKUP(A27,Band2!$A$13:$B$26,1,FALSE) -> #N/A | H27: =VLOOKUP(A27,Band3!$A$11:$B$69,1,FALSE) -> #N/A
A28: 11566 | B28: 2 YEAR TAP DOCK FLEX 2 SIX BAY REPLACEMENT | C28: 0 | D28: Bundle Component, not for independent sale | E28: Band 1 | F28: =VLOOKUP(A28,Band1!$A$12:$B$69,1,FALSE) -> #N/A | G28: =VLOOKUP(A28,Band2!$A$13:$B$26,1,FALSE) -> #N/A | H28: =VLOOKUP(A28,Band3!$A$11:$B$69,1,FALSE) -> #N/A
A29: 11567 | B29: 2 YEAR TAP DOCK FLEX 2 SIX BAY + CORE REPLACEMENT | C29: 0 | D29: Bundle Component, not for independent sale | E29: Band 1 | F29: =VLOOKUP(A29,Band1!$A$12:$B$69,1,FALSE) -> #N/A | G29: =VLOOKUP(A29,Band2!$A$13:$B$26,1,FALSE) -> #N/A | H29: =VLOOKUP(A29,Band3!$A$11:$B$69,1,FALSE) -> #N/A
A30: 11568 | B30: 2 YEAR TAP DOCK FLEX 2 SINGLE BAY + CORE REPLACEMENT | C30: 0 | D30: Bundle Component, not for independent sale | E30: Band 1 | F30: =VLOOKUP(A30,Band1!$A$12:$B$69,1,FALSE) -> #N/A | G30: =VLOOKUP(A30,Band2!$A$13:$B$26,1,FALSE) -> #N/A | H30: =VLOOKUP(A30,Band3!$A$11:$B$69,1,FALSE) -> #N/A
A31: 11569 | B31: 2.5 YEAR TAP FLEX 2 REPLACEMENT | C31: 0 | D31: Bundle Component, not for independent sale | E31: Band 1 | F31: =VLOOKUP(A31,Band1!$A$12:$B$69,1,FALSE) -> #N/A | G31: =VLOOKUP(A31,Band2!$A$13:$B$26,1,FALSE) -> #N/A | H31: =VLOOKUP(A31,Band3!$A$11:$B$69,1,FALSE) -> #N/A
A32: 11570 | B32: 2.5 YEAR TAP DOCK FLEX 2 SINGLE BAY REPLACEMENT | C32: 0 | D32: Bundle Component, not for independent sale | E32: Band 1 | F32: =VLOOKUP(A32,Band1!$A$12:$B$69,1,FALSE) -> #N/A | G32: =VLOOKUP(A32,Band2!$A$13:$B$26,1,FALSE) -> #N/A | H32: =VLOOKUP(A32,Band3!$A$11:$B$69,1,FALSE) -> #N/A
A33: 11571 | B33: 2.5 YEAR TAP DOCK FLEX 2 SIX BAY REPLACEMENT | C33: 0 | D33: Bundle Component, not for independent sale | E33: Band 1 | F33: =VLOOKUP(A33,Band1!$A$12:$B$69,1,FALSE) -> #N/A | G33: =VLOOKUP(A33,Band2!$A$13:$B$26,1,FALSE) -> #N/A | H33: =VLOOKUP(A33,Band3!$A$11:$B$69,1,FALSE) -> #N/A
A34: 11572 | B34: 2.5 YEAR TAP DOCK FLEX 2 SIX BAY + CORE REPLACEMENT | C34: 0 | D34: Bundle Component, not for independent sale | E34: Band 1 | F34: =VLOOKUP(A34,Band1!$A$12:$B$69,1,FALSE) -> #N/A | G34: =VLOOKUP(A34,Band2!$A$13:$B$26,1,FALSE) -> #N/A | H34: =VLOOKUP(A34,Band3!$A$11:$B$69,1,FALSE) -> #N/A
A35: 11573 | B35: 2.5 YEAR TAP DOCK FLEX 2 SINGLE BAY + CORE REPLACEMENT | C35: 0 | D35: Bundle Component, not for independent sale | E35: Band 1 | F35: =VLOOKUP(A35,Band1!$A$12:$B$69,1,FALSE) -> #N/A | G35: =VLOOKUP(A35,Band2!$A$13:$B$26,1,FALSE) -> #N/A | H35: =VLOOKUP(A35,Band3!$A$11:$B$69,1,FALSE) -> #N/A
A36: 11574 | B36: 3 YEAR TAP FLEX 2 REPLACEMENT | C36: 0 | D36: Bundle Component, not for independent sale | E36: Band 1 | F36: =VLOOKUP(A36,Band1!$A$12:$B$69,1,FALSE) -> #N/A | G36: =VLOOKUP(A36,Band2!$A$13:$B$26,1,FALSE) -> #N/A | H36: =VLOOKUP(A36,Band3!$A$11:$B$69,1,FALSE) -> #N/A
A37: 11575 | B37: 3 YEAR TAP DOCK FLEX 2 SINGLE BAY REPLACEMENT | C37: 0 | D37: Bundle Component, not for independent sale | E37: Band 1 | F37: =VLOOKUP(A37,Band1!$A$12:$B$69,1,FALSE) -> #N/A | G37: =VLOOKUP(A37,Band2!$A$13:$B$26,1,FALSE) -> #N/A | H37: =VLOOKUP(A37,Band3!$A$11:$B$69,1,FALSE) -> #N/A
... A50: 11588 | B50: 4 YEAR TAP DOCK FLEX 2 SINGLE BAY + CORE REPLACEMENT | C50: 0 | D50: Bundle Component, not for independent sale | E50: Band 1 | F50: =VLOOKUP(A50,Band1!$A$12:$B$69,1,FALSE) -> #N/A | G50: =VLOOKUP(A50,Band2!$A$13:$B$26,1,FALSE) -> #N/A | H50: =VLOOKUP(A50,Band3!$A$11:$B$69,1,FALSE) -> #N/A
A51: 11606 | B51: SPRING ARM, REPLACEMENT 10-PACK, RAPIDLOCK | C51: 10.45 | E51: Band 2 | F51: =VLOOKUP(A51,Band1!$A$12:$B$69,1,FALSE) -> #N/A | G51: =VLOOKUP(A51,Band2!$A$13:$B$26,1,FALSE) -> #N/A | H51: =VLOOKUP(A51,Band3!$A$11:$B$69,1,FALSE) -> #N/A
A52: 11613 | B52: MODEM, FIRSTNET/BAND 14 | C52: 550 | E52: Band 2 | F52: =VLOOKUP(A52,Band1!$A$12:$B$69,1,FALSE) -> #N/A | G52: =VLOOKUP(A52,Band2!$A$13:$B$26,1,FALSE) -> #N/A | H52: =VLOOKUP(A52,Band3!$A$11:$B$69,1,FALSE) -> #N/A
A53: 11614 | B53: DOCK, COR EXTENSIBILITY | C53: 180 | E53: Band 2 | F53: =VLOOKUP(A53,Band1!$A$12:$B$69,1,FALSE) -> #N/A | G53: =VLOOKUP(A53,Band2!$A$13:$B$26,1,FALSE) -> #N/A | H53: =VLOOKUP(A53,Band3!$A$11:$B$69,1,FALSE) -> #N/A
A54: 11615 | B54: ARC RAIL MOUNT, FLEX 2 | C54: 26.15 | E54: Band 1 | F54: =VLOOKUP(A54,Band1!$A$12:$B$69,1,FALSE) -> #N/A | G54: =VLOOKUP(A54,Band2!$A$13:$B$26,1,FALSE) -> #N/A | H54: =VLOOKUP(A54,Band3!$A$11:$B$69,1,FALSE) -> #N/A
A55: 11617 | B55: SMALL WALL-MOUNT CABINET WITH CABLE MANAGEMENT | C55: 969 | E55: Band 2 | F55: =VLOOKUP(A55,Band1!$A$12:$B$69,1,FALSE) -> #N/A | G55: =VLOOKUP(A55,Band2!$A$13:$B$26,1,FALSE) -> #N/A | H55: =VLOOKUP(A55,Band3!$A$11:$B$69,1,FALSE) -> #N/A
A56: 11618 | B56: LARGE ROLLING CABINET WITH CABLE MANAGEMENT | C56: 1194 | E56: Band 2 | F56: =VLOOKUP(A56,Band1!$A$12:$B$69,1,FALSE) -> #N/A | G56: =VLOOKUP(A56,Band2!$A$13:$B$26,1,FALSE) -> #N/A | H56: =VLOOKUP(A56,Band3!$A$11:$B$69,1,FALSE) -> #N/A
A57: 11619 | B57: RACK-MOUNT UPS | C57: 229 | E57: Band 2 | F57: =VLOOKUP(A57,Band1!$A$12:$B$69,1,FALSE) -> #N/A | G57: =VLOOKUP(A57,Band2!$A$13:$B$26,1,FALSE) -> #N/A | H57: =VLOOKUP(A57,Band3!$A$11:$B$69,1,FALSE) -> #N/A
A58: 11620 | B58: ADDITIONAL CUSTOM FLEET TRIGGER and INSTALLATION (1 PER) | C58: 99 | E58: Band 2 | F58: =VLOOKUP(A58,Band1!$A$12:$B$69,1,FALSE) -> #N/A | G58: =VLOOKUP(A58,Band2!$A$13:$B$26,1,FALSE) -> #N/A | H58: =VLOOKUP(A58,Band3!$A$11:$B$69,1,FALSE) -> #N/A
A59: 11622 | B59: CRADLEPOINT IBR900-600M-NPS + 5YR NETCLOUD ESSENTIALS (PRIME | C59: 1379 | E59: Band 2 | F59: =VLOOKUP(A59,Band1!$A$12:$B$69,1,FALSE) -> #N/A | G59: =VLOOKUP(A59,Band2!$A$13:$B$26,1,FALSE) -> #N/A | H59: =VLOOKUP(A59,Band3!$A$11:$B$69,1,FALSE) -> #N/A
A60: 11634 | B60: CRADLEPOINT IBR900-1200M-NPS+5 YEAR NETCLOUD ESSENT (PRIME) | C60: 1509 | E60: Band 2 | F60: =VLOOKUP(A60,Band1!$A$12:$B$69,1,FALSE) -> #N/A | G60: =VLOOKUP(A60,Band2!$A$13:$B$26,1,FALSE) -> #N/A | H60: =VLOOKUP(A60,Band3!$A$11:$B$69,1,FALSE) -> #N/A
A61: 11635 | B61: CRADLEPOINT IBR1700-1200M-NPS+5 YEAR NETCLOUD ESSENT (PRIME) | C61: 2159 | E61: Band 2 | F61: =VLOOKUP(A61,Band1!$A$12:$B$69,1,FALSE) -> #N/A | G61: =VLOOKUP(A61,Band2!$A$13:$B$26,1,FALSE) -> #N/A | H61: =VLOOKUP(A61,Band3!$A$11:$B$69,1,FALSE) -> #N/A
A62: 11636 | B62: CRADLEPOINT FIPS IBR1700-1200M-NPS+5 YR NETCLD ESSENT PRIME | C62: 2589 | E62: Band 2 | F62: =VLOOKUP(A62,Band1!$A$12:$B$69,1,FALSE) -> #N/A | G62: =VLOOKUP(A62,Band2!$A$13:$B$26,1,FALSE) -> #N/A | H62: =VLOOKUP(A62,Band3!$A$11:$B$69,1,FALSE) -> #N/A
... A75: 11707 | B75: OAKLEY FLAK 2.0 MOUNT, AXON FLEX 2 | C75: 29.95 | E75: Band 1 | F75: =VLOOKUP(A75,Band1!$A$12:$B$69,1,FALSE) -> #N/A | G75: =VLOOKUP(A75,Band2!$A$13:$B$26,1,FALSE) -> #N/A | H75: =VLOOKUP(A75,Band3!$A$11:$B$69,1,FALSE) -> #N/A
...

Sheet Band1
A2: Public Safety/Law Enforcement Video and Vehicle Mounted Equipment
A3: Attachment D Band 1 - Pricing Workbook
A5: OK- MA - 145 Band 1 - Body Worn Video Cameras and Recording Devices
A9: List proposed equipment with brand, model numbers)
A10: Equipment:
A11: SKU | B11: Product Description | C11: Price | D11: 2020 Price | E11: Notes
A12: 11507 | B12: MOLLE MOUNT, SINGLE, AXON RAPIDLOCK | C12: 29.95 | D12: =VLOOKUP(A12,'2020 Price List'!A:C,3,FALSE) -> 31.3 | E12: Increase Price
A13: 11508 | B13: MOLLE MOUNT, DOUBLE, AXON RAPIDLOCK | C13: 39.95 | D13: =VLOOKUP(A13,'2020 Price List'!A:C,3,FALSE) -> 41.75 | E13: Increase Price
A14: 11509 | B14: BELT CLIP, RAPIDLOCK | C14: 29.95 | D14: =VLOOKUP(A14,'2020 Price List'!A:C,3,FALSE) -> 31.3 | E14: Increase Price
A15: 11528 | B15: FLEX 2 CAMERA, (ONLINE) | C15: 449 | D15: =VLOOKUP(A15,'2020 Price List'!A:C,3,FALSE) -> 470 | E15: Increase Price
A16: 11529 | B16: FLEX 2 CAMERA, (OFFLINE) | C16: 649 | D16: =VLOOKUP(A16,'2020 Price List'!A:C,3,FALSE) -> 679 | E16: Increase Price
A17: 11532 | B17: FLEX 2 CONTROLLER | C17: 250 | D17: =VLOOKUP(A17,'2020 Price List'!A:C,3,FALSE) -> 262 | E17: Increase Price
A18: 11533 | B18: CABLE, COILED, STRAIGHT TO RIGHT ANGLE, 48", FLEX 2 | C18: 17.5 | D18: =VLOOKUP(A18,'2020 Price List'!A:C,3,FALSE) -> 18.3 | E18: Increase Price
A19: 11534 | B19: USB SYNC CABLE, FLEX 2 | C19: 10.5 | D19: =VLOOKUP(A19,'2020 Price List'!A:C,3,FALSE) -> 11 | E19: Increase Price
A20: 11535 | B20: USB SYNC CABLE W/ WALL CHARGER, FLEX 2 | C20: 15 | D20: =VLOOKUP(A20,'2020 Price List'!A:C,3,FALSE) -> #N/A | E20: Deleted
A21: 11536 | B21: DOCK, FLEX 2, 1-BAY + CORE | C21: 375 | D21: =VLOOKUP(A21,'2020 Price List'!A:C,3,FALSE) -> 413 | E21: Increase Price
A22: 11537 | B22: DOCK, FLEX 2, 6-BAY + CORE | C22: 1495 | D22: =VLOOKUP(A22,'2020 Price List'!A:C,3,FALSE) -> 1563 | E22: Increase Price
A23: 11543 | B23: MULTI-MOUNT KIT, FLEX 2 | C23: 199 | D23: =VLOOKUP(A23,'2020 Price List'!A:C,3,FALSE) -> #N/A | E23: Deleted
... A52: 80145 | B52: OFFICER SAFETY PLAN, TRAIN-THE-TRAINER REFRESH | C52: 2000 | D52: =VLOOKUP(A52,'2020 Price List'!A:C,3,FALSE) -> #N/A | E52: Deleted
A53: 80146 | B53: VIRTUAL BODYCAM STARTER | C53: 1000 | D53: =VLOOKUP(A53,'2020 Price List'!A:C,3,FALSE) -> 1000
A54: 80147 | B54: VIRTUAL BODYCAM ADD-ON, USER CLASS | C54: 500 | D54: =VLOOKUP(A54,'2020 Price List'!A:C,3,FALSE) -> #N/A | E54: Deleted
A55: 80148 | B55: VIRTUAL BODYCAM ADD-ON, SUPERVISION/SUPPORT CLASS | C55: 500 | D55: =VLOOKUP(A55,'2020 Price List'!A:C,3,FALSE) -> #N/A | E55: Deleted
A56: 85055 | B56: AXON FULL SERVICE | C56: 15000 | D56: =VLOOKUP(A56,'2020 Price List'!A:C,3,FALSE) -> 17000 | E56: Increase Price
A57: 85144 | B57: AXON STARTER | C57: 2500 | D57: =VLOOKUP(A57,'2020 Price List'!A:C,3,FALSE) -> 2750 | E57: Increase Price
A58: 85146 | B58: AXON 1-DAY SERVICE | C58: 2000 | D58: =VLOOKUP(A58,'2020 Price List'!A:C,3,FALSE) -> #N/A | E58: Deleted
A59: 87029 | B59: 2 YEAR EXTENDED WARRANTY BODY 2 | C59: 199.95 | D59: =VLOOKUP(A59,'2020 Price List'!A:C,3,FALSE) -> 209 | E59: Increase Price
A60: 87030 | B60: 2 YEAR EXTENDED WARRANTY DOCK 2 SINGLE BAY + CORE | C60: 129.9 | D60: =VLOOKUP(A60,'2020 Price List'!A:C,3,FALSE) -> 135.75 | E60: Increase Price
A61: 87031 | B61: 2 YEAR EXTENDED WARRANTY DOCK 2 SIX BAY + CORE | C61: 499.9 | D61: =VLOOKUP(A61,'2020 Price List'!A:C,3,FALSE) -> 523 | E61: Increase Price
A62: 73200 | B62: AXON BODY 3 - NA01 | C62: 699 | D62: =VLOOKUP(A62,'2020 Price List'!A:C,3,FALSE) -> #N/A | E62: Deleted
A63: 73201 | B63: AXON BODY 3 - NA03 | C63: 699 | D63: =VLOOKUP(A63,'2020 Price List'!A:C,3,FALSE) -> #N/A | E63: Deleted
A64: 73202 | B64: AXON BODY 3 - NA10 | C64: 699 | D64: =VLOOKUP(A64,'2020 Price List'!A:C,3,FALSE) -> 699
A65: 73250 | B65: AXON BODY 3 - 2 YEAR WARRANTY | C65: 279.95 | D65: =VLOOKUP(A65,'2020 Price List'!A:C,3,FALSE) -> 280 | E65: Increase Price
A66: 73251 | B66: AXON BODY 3 - 8 BAY DOCK 2 YEAR WARRANTY | C66: 499.9 | D66: =VLOOKUP(A66,'2020 Price List'!A:C,3,FALSE) -> 500 | E66: Increase Price
A67: 73252 | B67: AXON BODY 3 - 1 BAY DOCK 2 YEAR WARRANTY | C67: 129.9 | D67: =VLOOKUP(A67,'2020 Price List'!A:C,3,FALSE) -> 130 | E67: Increase Price
A68: 74210 | B68: AXON BODY 3 - 8 BAY DOCK | C68: 1495 | D68: =VLOOKUP(A68,'2020 Price List'!A:C,3,FALSE) -> 1495
A69: 74211 | B69: AXON BODY 3 - 1 BAY DOCK | C69: 200 | D69: =VLOOKUP(A69,'2020 Price List'!A:C,3,FALSE) -> 200
A71: NEW SKUs / OFFERINGS
A72: List proposed equipment with brand, model numbers)
A73: Equipment:
A74: SKU | B74: Product Description | C74: 2020 Price | D74: Notes
...

Sheet Band2
A2: Public Safety/Law Enforcement Video and Vehicle Mounted Equipment
A3: Attachment D Band 2 - Pricing Workbook
A5: OK- MA - 145 Band 2 - Vehicle Mounted and Recording Devices- Pricing Template
A8: *Third party hardware. Discounting does not apply.
A10: List proposed equipment with brand, model numbers)
A11: Equipment:
A12: SKU | B12: Product Description | C12: Price | D12: 2020 Price | E12: Notes
A13: 11511 | B13: ROUTER ANTENNA, FLEET | C13: 270 | D13: =VLOOKUP(A13,'2020 Price List'!A:C,3,FALSE) -> 270
A14: 70112 | B14: AXON SIGNAL UNIT | C14: 279 | D14: =VLOOKUP(A14,'2020 Price List'!A:C,3,FALSE) -> 279
A15: 71039 | B15: Wi-Fi software license (Per Server) | C15: 600 | D15: =VLOOKUP(A15,'2020 Price List'!A:C,3,FALSE) -> #N/A | E15: Deleted
A16: 74063 | B16: Standard Fleet Installation (Per Vehicle) | C16: 1200 | D16: =VLOOKUP(A16,'2020 Price List'!A:C,3,FALSE) -> 1200
A17: 74064 | B17: Wi-Fi access point (5 concurrent upload) per location | C17: 18745 | D17: =VLOOKUP(A17,'2020 Price List'!A:C,3,FALSE) -> 18745
A18: 74065 | B18: Wi-Fi access point (25 concurrent upload) per location | C18: 32980 | D18: =VLOOKUP(A18,'2020 Price List'!A:C,3,FALSE) -> 32980
A19: 74066 | B19: WI-FI OFFLOAD NETWORK PROFESSIONAL SERVICES | C19: 1000 | D19: =VLOOKUP(A19,'2020 Price List'!A:C,3,FALSE) -> 1000
A20: 74110 | B20: Cable, CAT6 Ethernet 25Ft | C20: 15 | D20: =VLOOKUP(A20,'2020 Price List'!A:C,3,FALSE) -> 15
A21: 80129 | B21: SIGNAL ONLY OR ROUTER ONLY INSTALLATION PER VEHICLE | C21: 250 | D21: =VLOOKUP(A21,'2020 Price List'!A:C,3,FALSE) -> 250
A22: 80131 | B22: Fleet Installation Training | C22: 2500 | D22: =VLOOKUP(A22,'2020 Price List'!A:C,3,FALSE) -> 6000 | E22: Increase Price
A23: 11521* | B23: Cradlepoint - Enterprise Cloud Manager + CradleCare, 5 yr | C23: 550 | D23: =VLOOKUP(A23,'2020 Price List'!A:C,3,FALSE) -> #N/A | E23: Deleted
A24: 11605* | B24: CRADLEPOINT ROUTER - IBR900LP6 | C24: 880 | D24: =VLOOKUP(A24,'2020 Price List'!A:C,3,FALSE) -> #N/A | E24: Deleted
A25: 74074* | B25: Wi-Fi server (10 concurrent upload) (Cost per server) | C25: 3500 | D25: =VLOOKUP(A25,'2020 Price List'!A:C,3,FALSE) -> 3500
A26: 80200 | B26: FLEET WIRELESS MICROPHONE Annual Payment (5 years required) | C26: 72 | D26: =VLOOKUP(A26,'2020 Price List'!A:C,3,FALSE) -> #N/A | E26: Deleted
A28: NEW SKUs / OFFERINGS
A29: List proposed equipment with brand, model numbers)
A30: Equipment:
A31: SKU | B31: Product Description | C31: 2020 Price | D31: Notes
A32: 11606 | B32: SPRING ARM, REPLACEMENT 10-PACK, RAPIDLOCK | C32: 10.45
A33: 11613 | B33: MODEM, FIRSTNET/BAND 14 | C33: 550
A34: 11614 | B34: DOCK, COR EXTENSIBILITY | C34: 180
A35: 11617 | B35: SMALL WALL-MOUNT CABINET WITH CABLE MANAGEMENT | C35: 969
A36: 11618 | B36: LARGE ROLLING CABINET WITH CABLE MANAGEMENT | C36: 1194
A37: 11619 | B37: RACK-MOUNT UPS | C37: 229
A38: 11620 | B38: ADDITIONAL CUSTOM FLEET TRIGGER and INSTALLATION (1 PER) | C38: 99
A39: 11622 | B39: CRADLEPOINT IBR900-600M-NPS + 5YR NETCLOUD ESSENTIALS (PRIME | C39: 1379
A40: 11634 | B40: CRADLEPOINT IBR900-1200M-NPS+5 YEAR NETCLOUD ESSENT (PRIME) | C40: 1509
A41: 11635 | B41: CRADLEPOINT IBR1700-1200M-NPS+5 YEAR NETCLOUD ESSENT (PRIME) | C41: 2159
A42: 11636 | B42: CRADLEPOINT FIPS IBR1700-1200M-NPS+5 YR NETCLD ESSENT PRIME | C42: 2589
A43: 11637 | B43: CRADLEPOINT FIPS IBR900-600M-NPS+5 YEAR NETCLD ESSENT PRIME | C43: 1929
... A96: 72037 | B96: FLEET 3 INTERIOR CAMERA | C96: 500
A97: 72040 | B97: FLEET REFRESH, 2 CAMERA KIT | C97: 0 | D97: Bundle Component, not for independent sale
A98: 72041 | B98: FLEET DUAL-VIEW CAMERA REFRESH | C98: 0 | D98: Bundle Component, not for independent sale
...

Sheet Band3
A2: Public Safety/Law Enforcement Video and Vehicle Mounted Equipment
A3: Attachment D Band 3 - Pricing Workbook
A5: OK - MA - 145 - BAND 3 - Video Storage, Data Security, Software, and Peripherals
A8: List proposed equipment with brand, model numbers)
A9: Equipment:
A10: SKU | B10: Product Description | C10: Price
A11: 50068 | B11: BROADBERRY STORAGE SERVER EXTENDED WARRANTY 5 YEAR | C11: 1248.19 | D11: =VLOOKUP(A11,'2020 Price List'!A:C,3,FALSE) -> #N/A | E11: Deleted
A12: 50089 | B12: COMMANDER EVIDENCE MANAGER SOFTWARE LICENSE | C12: 25000 | D12: =VLOOKUP(A12,'2020 Price List'!A:C,3,FALSE) -> #N/A | E12: Deleted
A13: 50091 | B13: AXON COMMANDER PRO LICENSE | C13: 1000 | D13: =VLOOKUP(A13,'2020 Price List'!A:C,3,FALSE) -> #N/A | E13: Deleted
A14: 50092 | B14: AXON COMMANDER PRO SUPPORT AND MAINTENANCE | C14: 200 | D14: =VLOOKUP(A14,'2020 Price List'!A:C,3,FALSE) -> #N/A | E14: Deleted
A15: 50103 | B15: BROADBERRY STORAGE SERVER - 72TB USABLE | C15: 17831.32 | D15: =VLOOKUP(A15,'2020 Price List'!A:C,3,FALSE) -> #N/A | E15: Deleted
A16: 50155 | B16: COMMANDER SERVER 24TB | C16: 8847.91 | D16: =VLOOKUP(A16,'2020 Price List'!A:C,3,FALSE) -> #N/A | E16: Deleted
A17: 50156 | B17: COMMANDER SERVER 36TB | C17: 9508.86 | D17: =VLOOKUP(A17,'2020 Price List'!A:C,3,FALSE) -> #N/A | E17: Deleted
A18: 50157 | B18: COMMANDER SERVER 54TB | C18: 10796.87 | D18: =VLOOKUP(A18,'2020 Price List'!A:C,3,FALSE) -> #N/A | E18: Deleted
A19: 50158 | B19: COMMANDER SERVER 72TB | C19: 12562.7 | D19: =VLOOKUP(A19,'2020 Price List'!A:C,3,FALSE) -> #N/A | E19: Deleted
A20: 50159 | B20: COMMANDER SERVER 90TB | C20: 16250 | D20: =VLOOKUP(A20,'2020 Price List'!A:C,3,FALSE) -> #N/A | E20: Deleted
A21: 50160 | B21: JBOD - 144TB | C21: 11144.16 | D21: =VLOOKUP(A21,'2020 Price List'!A:C,3,FALSE) -> #N/A | E21: Deleted
A22: 50166 | B22: 5 YEAR HMA - COMMANDER SERVER 24TB | C22: 13271.87 | D22: =VLOOKUP(A22,'2020 Price List'!A:C,3,FALSE) -> #N/A | E22: Deleted
... A36: 80167 | B36: FLEET 2 VIEW XL VEHICLE LICENSE: YEAR 1 PAYMENT | C36: 348 | D36: =VLOOKUP(A36,'2020 Price List'!A:C,3,FALSE) -> #N/A | E36: Deleted
A37: 85035 | B37: Evidence.com storage (GB): 1 year | C37: 0.75 | D37: =VLOOKUP(A37,'2020 Price List'!A:C,3,FALSE) -> 0.75
A38: 85054 | B38: TASER Assurance Plan Axon Flex 2 annual payment | C38: 348 | D38: =VLOOKUP(A38,'2020 Price List'!A:C,3,FALSE) -> #N/A | E38: Deleted
A39: 73260 | B39: Technology Assurance Plan AB3 Annual Payment (60 month term required) | C39: 336 | D39: =VLOOKUP(A39,'2020 Price List'!A:C,3,FALSE) -> #N/A | E39: Deleted
A40: 85070 | B40: TASER Assurance Plan Axon Body 2 annual payment | C40: 240 | D40: =VLOOKUP(A40,'2020 Price List'!A:C,3,FALSE) -> #N/A | E40: Deleted
A41: 85079 | B41: TASER ASSURANCE PLAN DOCK ANNUAL PAYMENT | C41: 36 | D41: =VLOOKUP(A41,'2020 Price List'!A:C,3,FALSE) -> #N/A | E41: Deleted
A42: 85123 | B42: Evidence.com Unlimited Plan annual payment (requires 3 or 5 year term) | C42: 948 | D42: =VLOOKUP(A42,'2020 Price List'!A:C,3,FALSE) -> #N/A | E42: Deleted
A43: 85130 | B43: Officer Safety Plan Standard annual payment (only available for 5-year term) | C43: 1188 | D43: =VLOOKUP(A43,'2020 Price List'!A:C,3,FALSE) -> 1320 | E43: Increase Price
A44: 87001 | B44: Basic Evidence.com license: 1 year | C44: 180 | D44: =VLOOKUP(A44,'2020 Price List'!A:C,3,FALSE) -> #N/A | E44: Deleted
A45: 87026 | B45: TASER ASSURANCE PLAN DOCK 2 ANNUAL PAYMENT | C45: 336 | D45: =VLOOKUP(A45,'2020 Price List'!A:C,3,FALSE) -> #N/A | E45: Deleted
A46: 89001 | B46: Pro Evidence.com license: 1 year | C46: 468 | D46: =VLOOKUP(A46,'2020 Price List'!A:C,3,FALSE) -> #N/A | E46: Deleted
A47: 73452 | B47: OFFICER SAFETY PLAN 7 ANNUAL PAYMENT (60 month term required) | C47: 1788 | D47: =VLOOKUP(A47,'2020 Price List'!A:C,3,FALSE) -> #N/A | E47: Deleted
A48: 73455 | B48: OFFICER SAFETY PLAN 7 PLUS ANNUAL PAYMENT (60 month term required) | C48: 2388 | D48: =VLOOKUP(A48,'2020 Price List'!A:C,3,FALSE) -> #N/A | E48: Deleted
A49: 73422 | B49: AXON RECORDS ANNUAL PAYMENT | C49: 348 | D49: =VLOOKUP(A49,'2020 Price List'!A:C,3,FALSE) -> #N/A | E49: Deleted
... A69: 73413 | B69: AXON AWARE PLUS ANNUAL PAYMENT | C69: 300 | D69: =VLOOKUP(A69,'2020 Price List'!A:C,3,FALSE) -> #N/A | E69: Deleted
A71: NEW SKUs / OFFERINGS
A72: List proposed equipment with brand, model numbers)
A73: Equipment:
A74: SKU | B74: Product Description | C74: 2020 Price | D74: Notes
A75: 20105 | B75: TASER 7 TRADE-IN OSP | C75: 0 | D75: Bundle Component, not for independent sale
A76: 20133 | B76: IN-HOUSE INSTRUCTOR COURSE ONLINE MATERIAL | C76: 30
A77: 20134 | B77: VR EMPATHY DEVELOPMENT STARTER CONTENT PAYMENT | C77: 2.5
...
