Workbook

Sheet 2020 Price List
A1: Product Code | B1: Product Name | C1: List Price | D1: Note | E1: Category | F1: Band 1 | G1: Band 2 | H1: Band 3
A2: 11507 | B2: MOLLE MOUNT, SINGLE, AXON RAPIDLOCK | C2: 31.3 | E2: NON-CEW | F2: =VLOOKUP(A2,Band1!$A$12:$B$69,1,FALSE) -> 11507 | G2: =VLOOKUP(A2,Band2!$A$13:$B$26,1,FALSE) -> #N/A | H2: =VLOOKUP(A2,Band3!$A$11:$B$69,1,FALSE) -> #N/A
A3: 11508 | B3: MOLLE MOUNT, DOUBLE, AXON RAPIDLOCK | C3: 41.75 | E3: NON-CEW | F3: =VLOOKUP(A3,Band1!$A$12:$B$69,1,FALSE) -> 11508 | G3: =VLOOKUP(A3,Band2!$A$13:$B$26,1,FALSE) -> #N/A | H3: =VLOOKUP(A3,Band3!$A$11:$B$69,1,FALSE) -> #N/A
A4: 11509 | B4: BELT CLIP, RAPIDLOCK | C4: 31.3 | E4: NON-CEW | F4: =VLOOKUP(A4,Band1!$A$12:$B$69,1,FALSE) -> 11509 | G4: =VLOOKUP(A4,Band2!$A$13:$B$26,1,FALSE) -> #N/A | H4: =VLOOKUP(A4,Band3!$A$11:$B$69,1,FALSE) -> #N/A
A5: 11511 | B5: ROUTER ANTENNA, FLEET | C5: 270 | E5: NON-CEW | F5: =VLOOKUP(A5,Band1!$A$12:$B$69,1,FALSE) -> #N/A | G5: =VLOOKUP(A5,Band2!$A$13:$B$26,1,FALSE) -> 11511 | H5: =VLOOKUP(A5,Band3!$A$11:$B$69,1,FALSE) -> #N/A
A6: 11528 | B6: FLEX 2 CAMERA, (ONLINE) | C6: 470 | E6: NON-CEW | F6: =VLOOKUP(A6,Band1!$A$12:$B$69,1,FALSE) -> 11528 | G6: =VLOOKUP(A6,Band2!$A$13:$B$26,1,FALSE) -> #N/A | H6: =VLOOKUP(A6,Band3!$A$11:$B$69,1,FALSE) -> #N/A
A7: 11529 | B7: FLEX 2 CAMERA, (OFFLINE) | C7: 679 | E7: NON-CEW | F7: =VLOOKUP(A7,Band1!$A$12:$B$69,1,FALSE) -> 11529 | G7: =VLOOKUP(A7,Band2!$A$13:$B$26,1,FALSE) -> #N/A | H7: =VLOOKUP(A7,Band3!$A$11:$B$69,1,FALSE) -> #N/A
A8: 11532 | B8: FLEX 2 CONTROLLER | C8: 262 | E8: NON-CEW | F8: =VLOOKUP(A8,Band1!$A$12:$B$69,1,FALSE) -> 11532 | G8: =VLOOKUP(A8,Band2!$A$13:$B$26,1,FALSE) -> #N/A | H8: =VLOOKUP(A8,Band3!$A$11:$B$69,1,FALSE) -> #N/A
A9: 11533 | B9: CABLE, COILED, STRAIGHT TO RIGHT ANGLE, 48 IN, FLEX 2 | C9: 18.3 | E9: NON-CEW | F9: =VLOOKUP(A9,Band1!$A$12:$B$69,1,FALSE) -> 11533 | G9: =VLOOKUP(A9,Band2!$A$13:$B$26,1,FALSE) -> #N/A | H9: =VLOOKUP(A9,Band3!$A$11:$B$69,1,FALSE) -> #N/A
A10: 11534 | B10: USB-C to USB-A CABLE FOR AB3 OR FLEX 2 | C10: 11 | E10: NON-CEW | F10: =VLOOKUP(A10,Band1!$A$12:$B$69,1,FALSE) -> 11534 | G10: =VLOOKUP(A10,Band2!$A$13:$B$26,1,FALSE) -> #N/A | H10: =VLOOKUP(A10,Band3!$A$11:$B$69,1,FALSE) -> #N/A
A11: 11536 | B11: DOCK, FLEX 2, 1-BAY + CORE | C11: 413 | E11: NON-CEW | F11: =VLOOKUP(A11,Band1!$A$12:$B$69,1,FALSE) -> 11536 | G11: =VLOOKUP(A11,Band2!$A$13:$B$26,1,FALSE) -> #N/A | H11: =VLOOKUP(A11,Band3!$A$11:$B$69,1,FALSE) -> #N/A
A12: 11537 | B12: DOCK, FLEX 2, 6-BAY + CORE | C12: 1563 | E12: NON-CEW | F12: =VLOOKUP(A12,Band1!$A$12:$B$69,1,FALSE) -> 11537 | G12: =VLOOKUP(A12,Band2!$A$13:$B$26,1,FALSE) -> #N/A | H12: =VLOOKUP(A12,Band3!$A$11:$B$69,1,FALSE) -> #N/A
A13: 11538 | B13: DOCK, FLEX 2, 1-BAY | C13: 99 | E13: Band 1 | F13: =VLOOKUP(A13,Band1!$A$12:$B$69,1,FALSE) -> #N/A | G13: =VLOOKUP(A13,Band2!$A$13:$B$26,1,FALSE) -> #N/A | H13: =VLOOKUP(A13,Band3!$A$11:$B$69,1,FALSE) -> #N/A
... A25: 11561 | B25: C-CLIP ADAPTOR, FLEX 2 | C25: 12.55 | E25: Band 1 | F25: =VLOOKUP(A25,Band1!$A$12:$B$69,1,FALSE) -> #N/A | G25: =VLOOKUP(A25,Band2!$A$13:$B$26,1,FALSE) -> #N/A | H25: =VLOOKUP(A25,Band3!$A$11:$B$69,1,FALSE) -> #N/A
A26: 11564 | B26: 2 YEAR TAP FLEX 2 REPLACEMENT | C26: 0 | D26: Bundle Component, not for independent sale | E26: Band 1 | F26: =VLOOKUP(A26,Band1!$A$12:$B$69,1,FALSE) -> #N/A | G26: =VLOOKUP(A26,Band2!$A$13:$B$26,1,FALSE) -> #N/A | H26: =VLOOKUP(A26,Band3!$A$11:$B$69,1,FALSE) -> #N/A
A27: 11565 | B27: 2 YEAR TAP DOCK FLEX 2 SINGLE BAY REPLACEMENT | C27: 0 | D27: Bundle Component, not for independent sale | E27: Band 1 | F27: =VLOOKUP(A27,Band1!$A$12:$B$69,1,FALSE) -> #N/A | G27: =VLOOKUP(A27,Band2!$A$13:$B$26,1,FALSE) -> #N/A | H27: =VLOOKUP(A27,Band3!$A$11:$B$69,1,FALSE) -> #N/A
A28: 11566 | B28: 2 YEAR TAP DOCK FLEX 2 SIX BAY REPLACEMENT | C28: 0 | D28: Bundle Component, not for independent sale | E28: Band 1 | F28: =VLOOKUP(A28,Band1!$A$12:$B$69,1,FALSE) -> #N/A | G28: =VLOOKUP(A28,Band2!$A$13:$B$26,1,FALSE) -> #N/A | H28: =VLOOKUP(A28,Band3!$A$11:$B$69,1,FALSE) -> #N/A
A29: 11567 | B29: 2 YEAR TAP DOCK FLEX 2 SIX BAY + CORE REPLACEMENT | C29: 0 | D29: Bundle Component, not for independent sale | E29: Band 1 | F29: =VLOOKUP(A29,Band1!$A$12:$B$69,1,FALSE) -> #N/A | G29: =VLOOKUP(A29,Band2!$A$13:$B$26,1,FALSE) -> #N/A | H29: =VLOOKUP(A29,Band3!$A$11:$B$69,1,FALSE) -> #N/A
A30: 11568 | B30: 2 YEAR TAP DOCK FLEX 2 SINGLE BAY + CORE REPLACEMENT | C30: 0 | D30: Bundle Component, not for independent sale | E30: Band 1 | F30: =VLOOKUP(A30,Band1!$A$12:$B$69,1,FALSE) -> #N/A | G30: =VLOOKUP(A30,Band2!$A$13:$B$26,1,FALSE) -> #N/A | H30: =VLOOKUP(A30,Band3!$A$11:$B$69,1,FALSE) -> #N/A
A31: 11569 | B31: 2.5 YEAR TAP FLEX 2 REPLACEMENT | C31: 0 | D31: Bundle Component, not for independent sale | E31: Band 1 | F31: =VLOOKUP(A31,Band1!$A$12:$B$69,1,FALSE) -> #N/A | G31: =VLOOKUP(A31,Band2!$A$13:$B$26,1,FALSE) -> #N/A | H31: =VLOOKUP(A31,Band3!$A$11:$B$69,1,FALSE) -> #N/A
A32: 11570 | B32: 2.5 YEAR TAP DOCK FLEX 2 SINGLE BAY REPLACEMENT | C32: 0 | D32: Bundle Component, not for independent sale | E32: Band 1 | F32: =VLOOKUP(A32,Band1!$A$12:$B$69,1,FALSE) -> #N/A | G32: =VLOOKUP(A32,Band2!$A$13:$B$26,1,FALSE) -> #N/A | H32: =VLOOKUP(A32,Band3!$A$11:$B$69,1,FALSE) -> #N/A
A33: 11571 | B33: 2.5 YEAR TAP DOCK FLEX 2 SIX BAY REPLACEMENT | C33: 0 | D33: Bundle Component, not for independent sale | E33: Band 1 | F33: =VLOOKUP(A33,Band1!$A$12:$B$69,1,FALSE) -> #N/A | G33: =VLOOKUP(A33,Band2!$A$13:$B$26,1,FALSE) -> #N/A | H33: =VLOOKUP(A33,Band3!$A$11:$B$69,1,FALSE) -> #N/A
A34: 11572 | B34: 2.5 YEAR TAP DOCK FLEX 2 SIX BAY + CORE REPLACEMENT | C34: 0 | D34: Bundle Component, not for independent sale | E34: Band 1 | F34: =VLOOKUP(A34,Band1!$A$12:$B$69,1,FALSE) -> #N/A | G34: =VLOOKUP(A34,Band2!$A$13:$B$26,1,FALSE) -> #N/A | H34: =VLOOKUP(A34,Band3!$A$11:$B$69,1,FALSE) -> #N/A
A35: 11573 | B35: 2.5 YEAR TAP DOCK FLEX 2 SINGLE BAY + CORE REPLACEMENT | C35: 0 | D35: Bundle Component, not for independent sale | E35: Band 1 | F35: =VLOOKUP(A35,Band1!$A$12:$B$69,1,FALSE) -> #N/A | G35: =VLOOKUP(A35,Band2!$A$13:$B$26,1,FALSE) -> #N/A | H35: =VLOOKUP(A35,Band3!$A$11:$B$69,1,FALSE) -> #N/A
A36: 11574 | B36: 3 YEAR TAP FLEX 2 REPLACEMENT | C36: 0 | D36: Bundle Component, not for independent sale | E36: Band 1 | F36: =VLOOKUP(A36,Band1!$A$12:$B$69,1,FALSE) -> #N/A | G36: =VLOOKUP(A36,Band2!$A$13:$B$26,1,FALSE) -> #N/A | H36: =VLOOKUP(A36,Band3!$A$11:$B$69,1,FALSE) -> #N/A
A37: 11575 | B37: 3 YEAR TAP DOCK FLEX 2 SINGLE BAY REPLACEMENT | C37: 0 | D37: Bundle Component, not for independent sale | E37: Band 1 | F37: =VLOOKUP(A37,Band1!$A$12:$B$69,1,FALSE) -> #N/A | G37: =VLOOKUP(A37,Band2!$A$13:$B$26,1,FALSE) -> #N/A | H37: =VLOOKUP(A37,Band3!$A$11:$B$69,1,FALSE) -> #N/A
... A50: 11588 | B50: 4 YEAR TAP DOCK FLEX 2 SINGLE BAY + CORE REPLACEMENT | C50: 0 | D50: Bundle Component, not for independent sale | E50: Band 1 | F50: =VLOOKUP(A50,Band1!$A$12:$B$69,1,FALSE) -> #N/A | G50: =VLOOKUP(A50,Band2!$A$13:$B$26,1,FALSE) -> #N/A | H50: =VLOOKUP(A50,Band3!$A$11:$B$69,1,FALSE) -> #N/A
A51: 11606 | B51: SPRING ARM, REPLACEMENT 10-PACK, RAPIDLOCK | C51: 10.45 | E51: Band 2 | F51: =VLOOKUP(A51,Band1!$A$12:$B$69,1,FALSE) -> #N/A | G51: =VLOOKUP(A51,Band2!$A$13:$B$26,1,FALSE) -> #N/A | H51: =VLOOKUP(A51,Band3!$A$11:$B$69,1,FALSE) -> #N/A
A52: 11613 | B52: MODEM, FIRSTNET/BAND 14 | C52: 550 | E52: Band 2 | F52: =VLOOKUP(A52,Band1!$A$12:$B$69,1,FALSE) -> #N/A | G52: =VLOOKUP(A52,Band2!$A$13:$B$26,1,FALSE) -> #N/A | H52: =VLOOKUP(A52,Band3!$A$11:$B$69,1,FALSE) -> #N/A
A53: 11614 | B53: DOCK, COR EXTENSIBILITY | C53: 180 | E53: Band 2 | F53: =VLOOKUP(A53,Band1!$A$12:$B$69,1,FALSE) -> #N/A | G53: =VLOOKUP(A53,Band2!$A$13:$B$26,1,FALSE) -> #N/A | H53: =VLOOKUP(A53,Band3!$A$11:$B$69,1,FALSE) -> #N/A
A54: 11615 | B54: ARC RAIL MOUNT, FLEX 2 | C54: 26.15 | E54: Band 1 | F54: =VLOOKUP(A54,Band1!$A$12:$B$69,1,FALSE) -> #N/A | G54: =VLOOKUP(A54,Band2!$A$13:$B$26,1,FALSE) -> #N/A | H54: =VLOOKUP(A54,Band3!$A$11:$B$69,1,FALSE) -> #N/A
A55: 11617 | B55: SMALL WALL-MOUNT CABINET WITH CABLE MANAGEMENT | C55: 969 | E55: Band 2 | F55: =VLOOKUP(A55,Band1!$A$12:$B$69,1,FALSE) -> #N/A | G55: =VLOOKUP(A55,Band2!$A$13:$B$26,1,FALSE) -> #N/A | H55: =VLOOKUP(A55,Band3!$A$11:$B$69,1,FALSE) -> #N/A
A56: 11618 | B56: LARGE ROLLING CABINET WITH CABLE MANAGEMENT | C56: 1194 | E56: Band 2 | F56: =VLOOKUP(A56,Band1!$A$12:$B$69,1,FALSE) -> #N/A | G56: =VLOOKUP(A56,Band2!$A$13:$B$26,1,FALSE) -> #N/A | H56: =VLOOKUP(A56,Band3!$A$11:$B$69,1,FALSE) -> #N/A
A57: 11619 | B57: RACK-MOUNT UPS | C57: 229 | E57: Band 2 | F57: =VLOOKUP(A57,Band1!$A$12:$B$69,1,FALSE) -> #N/A | G57: =VLOOKUP(A57,Band2!$A$13:$B$26,1,FALSE) -> #N/A | H57: =VLOOKUP(A57,Band3!$A$11:$B$69,1,FALSE) -> #N/A
A58: 11620 | B58: ADDITIONAL CUSTOM FLEET TRIGGER and INSTALLATION (1 PER) | C58: 99 | E58: Band 2 | F58: =VLOOKUP(A58,Band1!$A$12:$B$69,1,FALSE) -> #N/A | G58: =VLOOKUP(A58,Band2!$A$13:$B$26,1,FALSE) -> #N/A | H58: =VLOOKUP(A58,Band3!$A$11:$B$69,1,FALSE) -> #N/A
A59: 11622 | B59: CRADLEPOINT IBR900-600M-NPS + 5YR NETCLOUD ESSENTIALS (PRIME | C59: 1379 | E59: Band 2 | F59: =VLOOKUP(A59,Band1!$A$12:$B$69,1,FALSE) -> #N/A | G59: =VLOOKUP(A59,Band2!$A$13:$B$26,1,FALSE) -> #N/A | H59: =VLOOKUP(A59,Band3!$A$11:$B$69,1,FALSE) -> #N/A
A60: 11634 | B60: CRADLEPOINT IBR900-1200M-NPS+5 YEAR NETCLOUD ESSENT (PRIME) | C60: 1509 | E60: Band 2 | F60: =VLOOKUP(A60,Band1!$A$12:$B$69,1,FALSE) -> #N/A | G60: =VLOOKUP(A60,Band2!$A$13:$B$26,1,FALSE) -> #N/A | H60: =VLOOKUP(A60,Band3!$A$11:$B$69,1,FALSE) -> #N/A
A61: 11635 | B61: CRADLEPOINT IBR1700-1200M-NPS+5 YEAR NETCLOUD ESSENT (PRIME) | C61: 2159 | E61: Band 2 | F61: =VLOOKUP(A61,Band1!$A$12:$B$69,1,FALSE) -> #N/A | G61: =VLOOKUP(A61,Band2!$A$13:$B$26,1,FALSE) -> #N/A | H61: =VLOOKUP(A61,Band3!$A$11:$B$69,1,FALSE) -> #N/A
A62: 11636 | B62: CRADLEPOINT FIPS IBR1700-1200M-NPS+5 YR NETCLD ESSENT PRIME | C62: 2589 | E62: Band 2 | F62: =VLOOKUP(A62,Band1!$A$12:$B$69,1,FALSE) -> #N/A | G62: =VLOOKUP(A62,Band2!$A$13:$B$26,1,FALSE) -> #N/A | H62: =VLOOKUP(A62,Band3!$A$11:$B$69,1,FALSE) -> #N/A
... A75: 11707 | B75: OAKLEY FLAK 2.0 MOUNT, AXON FLEX 2 | C75: 29.95 | E75: Band 1 | F75: =VLOOKUP(A75,Band1!$A$12:$B$69,1,FALSE) -> #N/A | G75: =VLOOKUP(A75,Band2!$A$13:$B$26,1,FALSE) -> #N/A | H75: =VLOOKUP(A75,Band3!$A$11:$B$69,1,FALSE) -> #N/A
A76: 20105 | B76: TASER 7 TRADE-IN OSP | C76: 0 | D76: Bundle Component, not for independent sale | E76: Band 3 | F76: =VLOOKUP(A76,Band1!$A$12:$B$69,1,FALSE) -> #N/A | G76: =VLOOKUP(A76,Band2!$A$13:$B$26,1,FALSE) -> #N/A | H76: =VLOOKUP(A76,Band3!$A$11:$B$69,1,FALSE) -> #N/A
A77: 20133 | B77: IN-HOUSE INSTRUCTOR COURSE ONLINE MATERIAL | C77: 30 | E77: Band 3 | F77: =VLOOKUP(A77,Band1!$A$12:$B$69,1,FALSE) -> #N/A | G77: =VLOOKUP(A77,Band2!$A$13:$B$26,1,FALSE) -> #N/A | H77: =VLOOKUP(A77,Band3!$A$11:$B$69,1,FALSE) -> #N/A
A78: 20134 | B78: VR EMPATHY DEVELOPMENT STARTER CONTENT PAYMENT | C78: 2.5 | E78: Band 3 | F78: =VLOOKUP(A78,Band1!$A$12:$B$69,1,FALSE) -> #N/A | G78: =VLOOKUP(A78,Band2!$A$13:$B$26,1,FALSE) -> #N/A | H78: =VLOOKUP(A78,Band3!$A$11:$B$69,1,FALSE) -> #N/A
A79: 20135 | B79: OCULUS GO STANDALONE VIRTUAL REALITY HEADSET | C79: 300 | E79: Band 3 | F79: =VLOOKUP(A79,Band1!$A$12:$B$69,1,FALSE) -> #N/A | G79: =VLOOKUP(A79,Band2!$A$13:$B$26,1,FALSE) -> #N/A | H79: =VLOOKUP(A79,Band3!$A$11:$B$69,1,FALSE) -> #N/A
A80: 20136 | B80: IN-HOUSE INSTRUCTOR COURSE ONLINE MATERIAL TWO YEAR ACCESS | C80: 30 | E80: Band 3 | F80: =VLOOKUP(A80,Band1!$A$12:$B$69,1,FALSE) -> #N/A | G80: =VLOOKUP(A80,Band2!$A$13:$B$26,1,FALSE) -> #N/A | H80: =VLOOKUP(A80,Band3!$A$11:$B$69,1,FALSE) -> #N/A
A81: 20242 | B81: TASER CERTIFICATION PROGRAM YEAR 6-10 ACCESS | C81: - | D81: Bundle Component, not for independent sale | E81: Band 3 | F81: =VLOOKUP(A81,Band1!$A$12:$B$69,1,FALSE) -> #N/A | G81: =VLOOKUP(A81,Band2!$A$13:$B$26,1,FALSE) -> #N/A | H81: =VLOOKUP(A81,Band3!$A$11:$B$69,1,FALSE) -> #N/A
A82: 20249 | B82: VR EMPATHY DEVELOPMENT STARTER CONTENT ACCESS | C82: 0 | D82: Bundle Component, not for independent sale | E82: Band 3 | F82: =VLOOKUP(A82,Band1!$A$12:$B$69,1,FALSE) -> #N/A | G82: =VLOOKUP(A82,Band2!$A$13:$B$26,1,FALSE) -> #N/A | H82: =VLOOKUP(A82,Band3!$A$11:$B$69,1,FALSE) -> #N/A
A83: 20259 | B83: VR EMPATHY DEVELOPMENT USER UNLIMITED ACCESS PAYMENT | C83: 5 | E83: Band 3 | F83: =VLOOKUP(A83,Band1!$A$12:$B$69,1,FALSE) -> #N/A | G83: =VLOOKUP(A83,Band2!$A$13:$B$26,1,FALSE) -> #N/A | H83: =VLOOKUP(A83,Band3!$A$11:$B$69,1,FALSE) -> #N/A
A84: 20261 | B84: ADD-ON VR EMPATHY DEVELOPMENT USER UNLIMITED ACCESS PAYMENT | C84: 2.5 | E84: Band 3 | F84: =VLOOKUP(A84,Band1!$A$12:$B$69,1,FALSE) -> #N/A | G84: =VLOOKUP(A84,Band2!$A$13:$B$26,1,FALSE) -> #N/A | H84: =VLOOKUP(A84,Band3!$A$11:$B$69,1,FALSE) -> #N/A
A85: 20270 | B85: 6DOF VR HEADSET | C85: 600 | E85: Band 3 | F85: =VLOOKUP(A85,Band1!$A$12:$B$69,1,FALSE) -> #N/A | G85: =VLOOKUP(A85,Band2!$A$13:$B$26,1,FALSE) -> #N/A | H85: =VLOOKUP(A85,Band3!$A$11:$B$69,1,FALSE) -> #N/A
A86: 20272 | B86: ENTERPRISE UNLIMITED VR CONTENT ACCESS | C86: 0 | D86: Bundle Component, not for independent sale | E86: Band 3 | F86: =VLOOKUP(A86,Band1!$A$12:$B$69,1,FALSE) -> #N/A | G86: =VLOOKUP(A86,Band2!$A$13:$B$26,1,FALSE) -> #N/A | H86: =VLOOKUP(A86,Band3!$A$11:$B$69,1,FALSE) -> #N/A
A87: 20273 | B87: VR EMPATHY DEVELOPMENT ENTERPRISE UNLIMITED ACCESS | C87: 0 | D87: Bundle Component, not for independent sale | E87: Band 3 | F87: =VLOOKUP(A87,Band1!$A$12:$B$69,1,FALSE) -> #N/A | G87: =VLOOKUP(A87,Band2!$A$13:$B$26,1,FALSE) -> #N/A | H87: =VLOOKUP(A87,Band3!$A$11:$B$69,1,FALSE) -> #N/A
A88: 20274 | B88: VR 3 DOF ENTERPRISE BUNDLE PAYMENT | C88: 12500 | E88: Band 3 | F88: =VLOOKUP(A88,Band1!$A$12:$B$69,1,FALSE) -> #N/A | G88: =VLOOKUP(A88,Band2!$A$13:$B$26,1,FALSE) -> #N/A | H88: =VLOOKUP(A88,Band3!$A$11:$B$69,1,FALSE) -> #N/A
A89: 20275 | B89: VR 6 DOF ENTERPRISE BUNDLE PAYMENT | C89: 25000 | E89: Band 3 | F89: =VLOOKUP(A89,Band1!$A$12:$B$69,1,FALSE) -> #N/A | G89: =VLOOKUP(A89,Band2!$A$13:$B$26,1,FALSE) -> #N/A | H89: =VLOOKUP(A89,Band3!$A$11:$B$69,1,FALSE) -> #N/A
A90: 50030 | B90: INTERVIEW MOBILE KIT - PSO REMOTE INSTALLATION | C90: 500 | E90: Band 3 | F90: =VLOOKUP(A90,Band1!$A$12:$B$69,1,FALSE) -> #N/A | G90: =VLOOKUP(A90,Band2!$A$13:$B$26,1,FALSE) -> #N/A | H90: =VLOOKUP(A90,Band3!$A$11:$B$69,1,FALSE) -> #N/A
A91: 50050 | B91: INTERVIEW ROOM STANDARD EVIDENCE.COM LICENSE YEAR 1 PAYMENT | C91: 828 | E91: Band 3 | F91: =VLOOKUP(A91,Band1!$A$12:$B$69,1,FALSE) -> #N/A | G91: =VLOOKUP(A91,Band2!$A$13:$B$26,1,FALSE) -> #N/A | H91: =VLOOKUP(A91,Band3!$A$11:$B$69,1,FALSE) -> #N/A
A92: 50051 | B92: INTERVIEW ROOM STANDARD EVIDENCE.COM LICENSE YEAR 2 PAYMENT | C92: 828 | E92: Band 3 | F92: =VLOOKUP(A92,Band1!$A$12:$B$69,1,FALSE) -> #N/A | G92: =VLOOKUP(A92,Band2!$A$13:$B$26,1,FALSE) -> #N/A | H92: =VLOOKUP(A92,Band3!$A$11:$B$69,1,FALSE) -> #N/A
A93: 50052 | B93: INTERVIEW ROOM STANDARD EVIDENCE.COM LICENSE YEAR 3 PAYMENT | C93: 828 | E93: Band 3 | F93: =VLOOKUP(A93,Band1!$A$12:$B$69,1,FALSE) -> #N/A | G93: =VLOOKUP(A93,Band2!$A$13:$B$26,1,FALSE) -> #N/A | H93: =VLOOKUP(A93,Band3!$A$11:$B$69,1,FALSE) -> #N/A
A94: 50053 | B94: INTERVIEW ROOM STANDARD EVIDENCE.COM LICENSE YEAR 4 PAYMENT | C94: 828 | E94: Band 3 | F94: =VLOOKUP(A94,Band1!$A$12:$B$69,1,FALSE) -> #N/A | G94: =VLOOKUP(A94,Band2!$A$13:$B$26,1,FALSE) -> #N/A | H94: =VLOOKUP(A94,Band3!$A$11:$B$69,1,FALSE) -> #N/A
A95: 50054 | B95: INTERVIEW ROOM STANDARD EVIDENCE.COM LICENSE YEAR 5 PAYMENT | C95: 828 | E95: Band 3 | F95: =VLOOKUP(A95,Band1!$A$12:$B$69,1,FALSE) -> #N/A | G95: =VLOOKUP(A95,Band2!$A$13:$B$26,1,FALSE) -> #N/A | H95: =VLOOKUP(A95,Band3!$A$11:$B$69,1,FALSE) -> #N/A
A96: 50055 | B96: INTERVIEW ROOM UNLIMITED EVIDENCE.COM LICENSE YEAR 1 PAYMENT | C96: 1188 | E96: Band 3 | F96: =VLOOKUP(A96,Band1!$A$12:$B$69,1,FALSE) -> #N/A | G96: =VLOOKUP(A96,Band2!$A$13:$B$26,1,FALSE) -> #N/A | H96: =VLOOKUP(A96,Band3!$A$11:$B$69,1,FALSE) -> #N/A
A97: 50056 | B97: INTERVIEW ROOM UNLIMITED EVIDENCE.COM LICENSE YEAR 2 PAYMENT | C97: 1188 | E97: Band 3 | F97: =VLOOKUP(A97,Band1!$A$12:$B$69,1,FALSE) -> #N/A | G97: =VLOOKUP(A97,Band2!$A$13:$B$26,1,FALSE) -> #N/A | H97: =VLOOKUP(A97,Band3!$A$11:$B$69,1,FALSE) -> #N/A
A98: 50057 | B98: INTERVIEW ROOM UNLIMITED EVIDENCE.COM LICENSE YEAR 3 PAYMENT | C98: 1188 | E98: Band 3 | F98: =VLOOKUP(A98,Band1!$A$12:$B$69,1,FALSE) -> #N/A | G98: =VLOOKUP(A98,Band2!$A$13:$B$26,1,FALSE) -> #N/A | H98: =VLOOKUP(A98,Band3!$A$11:$B$69,1,FALSE) -> #N/A
A99: 50058 | B99: INTERVIEW ROOM UNLIMITED EVIDENCE.COM LICENSE YEAR 4 PAYMENT | C99: 1188 | E99: Band 3 | F99: =VLOOKUP(A99,Band1!$A$12:$B$69,1,FALSE) -> #N/A | G99: =VLOOKUP(A99,Band2!$A$13:$B$26,1,FALSE) -> #N/A | H99: =VLOOKUP(A99,Band3!$A$11:$B$69,1,FALSE) -> #N/A
... A167: 50298 | B167: AXIS P3245-LV NETWORK CAMERA | C167: 796 | E167: Band 3 | F167: =VLOOKUP(A167,Band1!$A$12:$B$69,1,FALSE) -> #N/A | G167: =VLOOKUP(A167,Band2!$A$13:$B$26,1,FALSE) -> #N/A | H167: =VLOOKUP(A167,Band3!$A$11:$B$69,1,FALSE) -> #N/A
A168: 50300 | B168: AXON DISPATCH LICENSE | C168: 0 | D168: Bundle Component, not for independent sale | E168: Band 3 | F168: =VLOOKUP(A168,Band1!$A$12:$B$69,1,FALSE) -> #N/A | G168: =VLOOKUP(A168,Band2!$A$13:$B$26,1,FALSE) -> #N/A | H168: =VLOOKUP(A168,Band3!$A$11:$B$69,1,FALSE) -> #N/A
A169: 50302 | B169: AXON DISPATCH LICENSE PAYMENT | C169: 50 | E169: Band 3 | F169: =VLOOKUP(A169,Band1!$A$12:$B$69,1,FALSE) -> #N/A | G169: =VLOOKUP(A169,Band2!$A$13:$B$26,1,FALSE) -> #N/A | H169: =VLOOKUP(A169,Band3!$A$11:$B$69,1,FALSE) -> #N/A
A170: 70027 | B170: EVIDENCE.COM DOCK, CORE | C170: 314 | E170: Band 3 | F170: =VLOOKUP(A170,Band1!$A$12:$B$69,1,FALSE) -> #N/A | G170: =VLOOKUP(A170,Band2!$A$13:$B$26,1,FALSE) -> #N/A | H170: =VLOOKUP(A170,Band3!$A$11:$B$69,1,FALSE) -> #N/A
A171: 70030 | B171: EXTENDED WARRANTY, 2 YEAR,EVIDENCE.COM DOCK, CORE | C171: 82.75 | E171: Band 3 | F171: =VLOOKUP(A171,Band1!$A$12:$B$69,1,FALSE) -> #N/A | G171: =VLOOKUP(A171,Band2!$A$13:$B$26,1,FALSE) -> #N/A | H171: =VLOOKUP(A171,Band3!$A$11:$B$69,1,FALSE) -> #N/A
A172: 70031 | B172: EXTENDED WARRANTY, 2 YEAR, EVIDENCE.COM AB2 DOCK, 1-BAY | C172: 51.75 | E172: Band 3 | F172: =VLOOKUP(A172,Band1!$A$12:$B$69,1,FALSE) -> #N/A | G172: =VLOOKUP(A172,Band2!$A$13:$B$26,1,FALSE) -> #N/A | H172: =VLOOKUP(A172,Band3!$A$11:$B$69,1,FALSE) -> #N/A
A173: 70032 | B173: EXTENDED WARRANTY, 2 YEAR, EVIDENCE.COM AB2 DOCK, 6-BAY | C173: 434 | E173: Band 3 | F173: =VLOOKUP(A173,Band1!$A$12:$B$69,1,FALSE) -> #N/A | G173: =VLOOKUP(A173,Band2!$A$13:$B$26,1,FALSE) -> #N/A | H173: =VLOOKUP(A173,Band3!$A$11:$B$69,1,FALSE) -> #N/A
A174: 70033 | B174: WALL MOUNT BRACKET, ASSY, EVIDENCE.COM DOCK | C174: 43.9 | E174: NON-CEW | F174: =VLOOKUP(A174,Band1!$A$12:$B$69,1,FALSE) -> 70033 | G174: =VLOOKUP(A174,Band2!$A$13:$B$26,1,FALSE) -> #N/A | H174: =VLOOKUP(A174,Band3!$A$11:$B$69,1,FALSE) -> #N/A
A175: 70112 | B175: AXON SIGNAL UNIT | C175: 279 | E175: NON-CEW | F175: =VLOOKUP(A175,Band1!$A$12:$B$69,1,FALSE) -> #N/A | G175: =VLOOKUP(A175,Band2!$A$13:$B$26,1,FALSE) -> 70112 | H175: =VLOOKUP(A175,Band3!$A$11:$B$69,1,FALSE) -> #N/A
A176: 71010 | B176: AXON BODY 3 - 1-BAY DOCK POWER SUPPLY, NORTH AMERICA | C176: 10 | E176: Band 1 | F176: =VLOOKUP(A176,Band1!$A$12:$B$69,1,FALSE) -> #N/A | G176: =VLOOKUP(A176,Band2!$A$13:$B$26,1,FALSE) -> #N/A | H176: =VLOOKUP(A176,Band3!$A$11:$B$69,1,FALSE) -> #N/A
A177: 71015 | B177: AXON BODY 3 - 1-BAY DOCK POWER SUPPLY, INTERNATIONAL | C177: 10 | E177: Band 1 | F177: =VLOOKUP(A177,Band1!$A$12:$B$69,1,FALSE) -> #N/A | G177: =VLOOKUP(A177,Band2!$A$13:$B$26,1,FALSE) -> #N/A | H177: =VLOOKUP(A177,Band3!$A$11:$B$69,1,FALSE) -> #N/A
A178: 71016 | B178: UK POWERCORD, 2M | C178: 10.45 | E178: Band 1 | F178: =VLOOKUP(A178,Band1!$A$12:$B$69,1,FALSE) -> #N/A | G178: =VLOOKUP(A178,Band2!$A$13:$B$26,1,FALSE) -> #N/A | H178: =VLOOKUP(A178,Band3!$A$11:$B$69,1,FALSE) -> #N/A
A179: 71017 | B179: EU POWERCORD, 2M | C179: 10.45 | E179: Band 1 | F179: =VLOOKUP(A179,Band1!$A$12:$B$69,1,FALSE) -> #N/A | G179: =VLOOKUP(A179,Band2!$A$13:$B$26,1,FALSE) -> #N/A | H179: =VLOOKUP(A179,Band3!$A$11:$B$69,1,FALSE) -> #N/A
A180: 71018 | B180: AUS POWERCORD, 2M | C180: 10.45 | E180: Band 1 | F180: =VLOOKUP(A180,Band1!$A$12:$B$69,1,FALSE) -> #N/A | G180: =VLOOKUP(A180,Band2!$A$13:$B$26,1,FALSE) -> #N/A | H180: =VLOOKUP(A180,Band3!$A$11:$B$69,1,FALSE) -> #N/A
... A232: 72037 | B232: FLEET 3 INTERIOR CAMERA | C232: 500 | E232: Band 2 | F232: =VLOOKUP(A232,Band1!$A$12:$B$69,1,FALSE) -> #N/A | G232: =VLOOKUP(A232,Band2!$A$13:$B$26,1,FALSE) -> #N/A | H232: =VLOOKUP(A232,Band3!$A$11:$B$69,1,FALSE) -> #N/A
A233: 72040 | B233: FLEET REFRESH, 2 CAMERA KIT | C233: 0 | D233: Bundle Component, not for independent sale | E233: Band 2 | F233: =VLOOKUP(A233,Band1!$A$12:$B$69,1,FALSE) -> #N/A | G233: =VLOOKUP(A233,Band2!$A$13:$B$26,1,FALSE) -> #N/A | H233: =VLOOKUP(A233,Band3!$A$11:$B$69,1,FALSE) -> #N/A
A234: 72041 | B234: FLEET DUAL-VIEW CAMERA REFRESH | C234: 0 | D234: Bundle Component, not for independent sale | E234: Band 2 | F234: =VLOOKUP(A234,Band1!$A$12:$B$69,1,FALSE) -> #N/A | G234: =VLOOKUP(A234,Band2!$A$13:$B$26,1,FALSE) -> #N/A | H234: =VLOOKUP(A234,Band3!$A$11:$B$69,1,FALSE) -> #N/A
A235: 72042 | B235: FLEET INTERIOR CAMERA REFRESH | C235: 0 | D235: Bundle Component, not for independent sale | E235: Band 2 | F235: =VLOOKUP(A235,Band1!$A$12:$B$69,1,FALSE) -> #N/A | G235: =VLOOKUP(A235,Band2!$A$13:$B$26,1,FALSE) -> #N/A | H235: =VLOOKUP(A235,Band3!$A$11:$B$69,1,FALSE) -> #N/A
A236: 72043 | B236: FLEET HUB REFRESH | C236: 0 | D236: Bundle Component, not for independent sale | E236: Band 2 | F236: =VLOOKUP(A236,Band1!$A$12:$B$69,1,FALSE) -> #N/A | G236: =VLOOKUP(A236,Band2!$A$13:$B$26,1,FALSE) -> #N/A | H236: =VLOOKUP(A236,Band3!$A$11:$B$69,1,FALSE) -> #N/A
A237: 72044 | B237: FLEET WIRELESS MIC REFRESH | C237: 0 | D237: Bundle Component, not for independent sale | E237: Band 2 | F237: =VLOOKUP(A237,Band1!$A$12:$B$69,1,FALSE) -> #N/A | G237: =VLOOKUP(A237,Band2!$A$13:$B$26,1,FALSE) -> #N/A | H237: =VLOOKUP(A237,Band3!$A$11:$B$69,1,FALSE) -> #N/A
A238: 72045 | B238: FLEET CHARGING BASE REFRESH | C238: 0 | D238: Bundle Component, not for independent sale | E238: Band 2 | F238: =VLOOKUP(A238,Band1!$A$12:$B$69,1,FALSE) -> #N/A | G238: =VLOOKUP(A238,Band2!$A$13:$B$26,1,FALSE) -> #N/A | H238: =VLOOKUP(A238,Band3!$A$11:$B$69,1,FALSE) -> #N/A
A239: 72046 | B239: FLEET WIRELESS MIC KIT REFRESH | C239: 0 | D239: Bundle Component, not for independent sale | E239: Band 2 | F239: =VLOOKUP(A239,Band1!$A$12:$B$69,1,FALSE) -> #N/A | G239: =VLOOKUP(A239,Band2!$A$13:$B$26,1,FALSE) -> #N/A | H239: =VLOOKUP(A239,Band3!$A$11:$B$69,1,FALSE) -> #N/A
A240: 73031 | B240: VIEWER, IOS | C240: 277 | E240: Band 3 | F240: =VLOOKUP(A240,Band1!$A$12:$B$69,1,FALSE) -> #N/A | G240: =VLOOKUP(A240,Band2!$A$13:$B$26,1,FALSE) -> #N/A | H240: =VLOOKUP(A240,Band3!$A$11:$B$69,1,FALSE) -> #N/A
A241: 73092 | B241: VIEWER, ANDROID TABLET | C241: 261 | E241: Band 3 | F241: =VLOOKUP(A241,Band1!$A$12:$B$69,1,FALSE) -> #N/A | G241: =VLOOKUP(A241,Band2!$A$13:$B$26,1,FALSE) -> #N/A | H241: =VLOOKUP(A241,Band3!$A$11:$B$69,1,FALSE) -> #N/A
A242: 73104 | B242: VIEWER, STANDARD ANDROID | C242: 282 | E242: Band 3 | F242: =VLOOKUP(A242,Band1!$A$12:$B$69,1,FALSE) -> #N/A | G242: =VLOOKUP(A242,Band2!$A$13:$B$26,1,FALSE) -> #N/A | H242: =VLOOKUP(A242,Band3!$A$11:$B$69,1,FALSE) -> #N/A
A243: 73202 | B243: AXON BODY 3 - NA10 | C243: 699 | E243: NON-CEW | F243: =VLOOKUP(A243,Band1!$A$12:$B$69,1,FALSE) -> 73202 | G243: =VLOOKUP(A243,Band2!$A$13:$B$26,1,FALSE) -> #N/A | H243: =VLOOKUP(A243,Band3!$A$11:$B$69,1,FALSE) -> #N/A
A244: 73203 | B244: AXON BODY 3 - EU07 - RAPIDLOCK | C244: 699 | E244: Band 1 | F244: =VLOOKUP(A244,Band1!$A$12:$B$69,1,FALSE) -> #N/A | G244: =VLOOKUP(A244,Band2!$A$13:$B$26,1,FALSE) -> #N/A | H244: =VLOOKUP(A244,Band3!$A$11:$B$69,1,FALSE) -> #N/A
A245: 73204 | B245: AXON BODY 3 - AP09 | C245: 699 | E245: Band 1 | F245: =VLOOKUP(A245,Band1!$A$12:$B$69,1,FALSE) -> #N/A | G245: =VLOOKUP(A245,Band2!$A$13:$B$26,1,FALSE) -> #N/A | H245: =VLOOKUP(A245,Band3!$A$11:$B$69,1,FALSE) -> #N/A
A246: 73205 | B246: AXON BODY 3 - BATTERY | C246: 39 | E246: Band 1 | F246: =VLOOKUP(A246,Band1!$A$12:$B$69,1,FALSE) -> #N/A | G246: =VLOOKUP(A246,Band2!$A$13:$B$26,1,FALSE) -> #N/A | H246: =VLOOKUP(A246,Band3!$A$11:$B$69,1,FALSE) -> #N/A
A247: 73215 | B247: AXON BODY 3 - TRAINING CAMERA | C247: 50 | E247: Band 1 | F247: =VLOOKUP(A247,Band1!$A$12:$B$69,1,FALSE) -> #N/A | G247: =VLOOKUP(A247,Band2!$A$13:$B$26,1,FALSE) -> #N/A | H247: =VLOOKUP(A247,Band3!$A$11:$B$69,1,FALSE) -> #N/A
A248: 73250 | B248: AXON BODY 3 - 2 YEAR WARRANTY | C248: 280 | E248: NON-CEW | F248: =VLOOKUP(A248,Band1!$A$12:$B$69,1,FALSE) -> 73250 | G248: =VLOOKUP(A248,Band2!$A$13:$B$26,1,FALSE) -> #N/A | H248: =VLOOKUP(A248,Band3!$A$11:$B$69,1,FALSE) -> #N/A
A249: 73251 | B249: AXON BODY 3 - 8 BAY DOCK 2 YEAR WARRANTY | C249: 500 | E249: NON-CEW | F249: =VLOOKUP(A249,Band1!$A$12:$B$69,1,FALSE) -> 73251 | G249: =VLOOKUP(A249,Band2!$A$13:$B$26,1,FALSE) -> #N/A | H249: =VLOOKUP(A249,Band3!$A$11:$B$69,1,FALSE) -> #N/A
A250: 73252 | B250: AXON BODY 3 - 1 BAY DOCK 2 YEAR WARRANTY | C250: 130 | E250: NON-CEW | F250: =VLOOKUP(A250,Band1!$A$12:$B$69,1,FALSE) -> 73252 | G250: =VLOOKUP(A250,Band2!$A$13:$B$26,1,FALSE) -> #N/A | H250: =VLOOKUP(A250,Band3!$A$11:$B$69,1,FALSE) -> #N/A
A251: 73265 | B251: TRANSFERRED AB3 CAMERA TAP WARRANTY | C251: 0 | D251: Bundle Component, not for independent sale | E251: Band 3 | F251: =VLOOKUP(A251,Band1!$A$12:$B$69,1,FALSE) -> #N/A | G251: =VLOOKUP(A251,Band2!$A$13:$B$26,1,FALSE) -> #N/A | H251: =VLOOKUP(A251,Band3!$A$11:$B$69,1,FALSE) -> #N/A
A252: 73266 | B252: TRANSFERRED AB3 MULTI-BAY DOCK TAP WARRANTY | C252: 0 | D252: Bundle Component, not for independent sale | E252: Band 3 | F252: =VLOOKUP(A252,Band1!$A$12:$B$69,1,FALSE) -> #N/A | G252: =VLOOKUP(A252,Band2!$A$13:$B$26,1,FALSE) -> #N/A | H252: =VLOOKUP(A252,Band3!$A$11:$B$69,1,FALSE) -> #N/A
A253: 73270 | B253: 2 YEAR AB3 CAMERA TAP REPLACEMENT WARRANTY | C253: 0 | D253: Bundle Component, not for independent sale | E253: Band 3 | F253: =VLOOKUP(A253,Band1!$A$12:$B$69,1,FALSE) -> #N/A | G253: =VLOOKUP(A253,Band2!$A$13:$B$26,1,FALSE) -> #N/A | H253: =VLOOKUP(A253,Band3!$A$11:$B$69,1,FALSE) -> #N/A
...

Sheet Band1
A2: Public Safety/Law Enforcement Video and Vehicle Mounted Equipment
A3: Attachment D Band 1 - Pricing Workbook
A5: OK- MA - 145 Band 1 - Body Worn Video Cameras and Recording Devices
A9: List proposed equipment with brand, model numbers)
A10: Equipment:
A11: SKU | B11: Product Description | C11: Price | D11: 2020 Price | E11: Notes
A12: 11507 | B12: MOLLE MOUNT, SINGLE, AXON RAPIDLOCK | C12: 29.95 | D12: =VLOOKUP(A12,'2020 Price List'!A:C,3,FALSE) -> 31.3 | E12: Increase Price
A13: 11508 | B13: MOLLE MOUNT, DOUBLE, AXON RAPIDLOCK | C13: 39.95 | D13: =VLOOKUP(A13,'2020 Price List'!A:C,3,FALSE) -> 41.75 | E13: Increase Price
A14: 11509 | B14: BELT CLIP, RAPIDLOCK | C14: 29.95 | D14: =VLOOKUP(A14,'2020 Price List'!A:C,3,FALSE) -> 31.3 | E14: Increase Price
A15: 11528 | B15: FLEX 2 CAMERA, (ONLINE) | C15: 449 | D15: =VLOOKUP(A15,'2020 Price List'!A:C,3,FALSE) -> 470 | E15: Increase Price
A16: 11529 | B16: FLEX 2 CAMERA, (OFFLINE) | C16: 649 | D16: =VLOOKUP(A16,'2020 Price List'!A:C,3,FALSE) -> 679 | E16: Increase Price
A17: 11532 | B17: FLEX 2 CONTROLLER | C17: 250 | D17: =VLOOKUP(A17,'2020 Price List'!A:C,3,FALSE) -> 262 | E17: Increase Price
A18: 11533 | B18: CABLE, COILED, STRAIGHT TO RIGHT ANGLE, 48", FLEX 2 | C18: 17.5 | D18: =VLOOKUP(A18,'2020 Price List'!A:C,3,FALSE) -> 18.3 | E18: Increase Price
A19: 11534 | B19: USB SYNC CABLE, FLEX 2 | C19: 10.5 | D19: =VLOOKUP(A19,'2020 Price List'!A:C,3,FALSE) -> 11 | E19: Increase Price
A20: 11535 | B20: USB SYNC CABLE W/ WALL CHARGER, FLEX 2 | C20: 15 | D20: =VLOOKUP(A20,'2020 Price List'!A:C,3,FALSE) -> #N/A | E20: Deleted
A21: 11536 | B21: DOCK, FLEX 2, 1-BAY + CORE | C21: 375 | D21: =VLOOKUP(A21,'2020 Price List'!A:C,3,FALSE) -> 413 | E21: Increase Price
A22: 11537 | B22: DOCK, FLEX 2, 6-BAY + CORE | C22: 1495 | D22: =VLOOKUP(A22,'2020 Price List'!A:C,3,FALSE) -> 1563 | E22: Increase Price
A23: 11543 | B23: MULTI-MOUNT KIT, FLEX 2 | C23: 199 | D23: =VLOOKUP(A23,'2020 Price List'!A:C,3,FALSE) -> #N/A | E23: Deleted
... A52: 80145 | B52: OFFICER SAFETY PLAN, TRAIN-THE-TRAINER REFRESH | C52: 2000 | D52: =VLOOKUP(A52,'2020 Price List'!A:C,3,FALSE) -> #N/A | E52: Deleted
A53: 80146 | B53: VIRTUAL BODYCAM STARTER | C53: 1000 | D53: =VLOOKUP(A53,'2020 Price List'!A:C,3,FALSE) -> 1000
A54: 80147 | B54: VIRTUAL BODYCAM ADD-ON, USER CLASS | C54: 500 | D54: =VLOOKUP(A54,'2020 Price List'!A:C,3,FALSE) -> #N/A | E54: Deleted
A55: 80148 | B55: VIRTUAL BODYCAM ADD-ON, SUPERVISION/SUPPORT CLASS | C55: 500 | D55: =VLOOKUP(A55,'2020 Price List'!A:C,3,FALSE) -> #N/A | E55: Deleted
A56: 85055 | B56: AXON FULL SERVICE | C56: 15000 | D56: =VLOOKUP(A56,'2020 Price List'!A:C,3,FALSE) -> 17000 | E56: Increase Price
A57: 85144 | B57: AXON STARTER | C57: 2500 | D57: =VLOOKUP(A57,'2020 Price List'!A:C,3,FALSE) -> 2750 | E57: Increase Price
A58: 85146 | B58: AXON 1-DAY SERVICE | C58: 2000 | D58: =VLOOKUP(A58,'2020 Price List'!A:C,3,FALSE) -> #N/A | E58: Deleted
A59: 87029 | B59: 2 YEAR EXTENDED WARRANTY BODY 2 | C59: 199.95 | D59: =VLOOKUP(A59,'2020 Price List'!A:C,3,FALSE) -> 209 | E59: Increase Price
A60: 87030 | B60: 2 YEAR EXTENDED WARRANTY DOCK 2 SINGLE BAY + CORE | C60: 129.9 | D60: =VLOOKUP(A60,'2020 Price List'!A:C,3,FALSE) -> 135.75 | E60: Increase Price
A61: 87031 | B61: 2 YEAR EXTENDED WARRANTY DOCK 2 SIX BAY + CORE | C61: 499.9 | D61: =VLOOKUP(A61,'2020 Price List'!A:C,3,FALSE) -> 523 | E61: Increase Price
A62: 73200 | B62: AXON BODY 3 - NA01 | C62: 699 | D62: =VLOOKUP(A62,'2020 Price List'!A:C,3,FALSE) -> #N/A | E62: Deleted
A63: 73201 | B63: AXON BODY 3 - NA03 | C63: 699 | D63: =VLOOKUP(A63,'2020 Price List'!A:C,3,FALSE) -> #N/A | E63: Deleted
A64: 73202 | B64: AXON BODY 3 - NA10 | C64: 699 | D64: =VLOOKUP(A64,'2020 Price List'!A:C,3,FALSE) -> 699
A65: 73250 | B65: AXON BODY 3 - 2 YEAR WARRANTY | C65: 279.95 | D65: =VLOOKUP(A65,'2020 Price List'!A:C,3,FALSE) -> 280 | E65: Increase Price
A66: 73251 | B66: AXON BODY 3 - 8 BAY DOCK 2 YEAR WARRANTY | C66: 499.9 | D66: =VLOOKUP(A66,'2020 Price List'!A:C,3,FALSE) -> 500 | E66: Increase Price
A67: 73252 | B67: AXON BODY 3 - 1 BAY DOCK 2 YEAR WARRANTY | C67: 129.9 | D67: =VLOOKUP(A67,'2020 Price List'!A:C,3,FALSE) -> 130 | E67: Increase Price
A68: 74210 | B68: AXON BODY 3 - 8 BAY DOCK | C68: 1495 | D68: =VLOOKUP(A68,'2020 Price List'!A:C,3,FALSE) -> 1495
A69: 74211 | B69: AXON BODY 3 - 1 BAY DOCK | C69: 200 | D69: =VLOOKUP(A69,'2020 Price List'!A:C,3,FALSE) -> 200
A71: NEW SKUs / OFFERINGS
A72: List proposed equipment with brand, model numbers)
A73: Equipment:
A74: SKU | B74: Product Description | C74: 2020 Price | D74: Notes
A75: 11538 | B75: DOCK, FLEX 2, 1-BAY | C75: 99
A76: 11539 | B76: DOCK, FLEX 2, 6-BAY | C76: 1249
A77: 11557 | B77: TACTICAL HOLSTER PLATFORM, Y-HARNESS, WITH HARDWARE | C77: 55.5
A78: 11561 | B78: C-CLIP ADAPTOR, FLEX 2 | C78: 12.55
A79: 11564 | B79: 2 YEAR TAP FLEX 2 REPLACEMENT | C79: 0 | D79: Bundle Component, not for independent sale
A80: 11565 | B80: 2 YEAR TAP DOCK FLEX 2 SINGLE BAY REPLACEMENT | C80: 0 | D80: Bundle Component, not for independent sale
A81: 11566 | B81: 2 YEAR TAP DOCK FLEX 2 SIX BAY REPLACEMENT | C81: 0 | D81: Bundle Component, not for independent sale
A82: 11567 | B82: 2 YEAR TAP DOCK FLEX 2 SIX BAY + CORE REPLACEMENT | C82: 0 | D82: Bundle Component, not for independent sale
A83: 11568 | B83: 2 YEAR TAP DOCK FLEX 2 SINGLE BAY + CORE REPLACEMENT | C83: 0 | D83: Bundle Component, not for independent sale
A84: 11569 | B84: 2.5 YEAR TAP FLEX 2 REPLACEMENT | C84: 0 | D84: Bundle Component, not for independent sale
A85: 11570 | B85: 2.5 YEAR TAP DOCK FLEX 2 SINGLE BAY REPLACEMENT | C85: 0 | D85: Bundle Component, not for independent sale
A86: 11571 | B86: 2.5 YEAR TAP DOCK FLEX 2 SIX BAY REPLACEMENT | C86: 0 | D86: Bundle Component, not for independent sale
A87: 11572 | B87: 2.5 YEAR TAP DOCK FLEX 2 SIX BAY + CORE REPLACEMENT | C87: 0 | D87: Bundle Component, not for independent sale
A88: 11573 | B88: 2.5 YEAR TAP DOCK FLEX 2 SINGLE BAY + CORE REPLACEMENT | C88: 0 | D88: Bundle Component, not for independent sale
A89: 11574 | B89: 3 YEAR TAP FLEX 2 REPLACEMENT | C89: 0 | D89: Bundle Component, not for independent sale
A90: 11575 | B90: 3 YEAR TAP DOCK FLEX 2 SINGLE BAY REPLACEMENT | C90: 0 | D90: Bundle Component, not for independent sale
... A103: 11588 | B103: 4 YEAR TAP DOCK FLEX 2 SINGLE BAY + CORE REPLACEMENT | C103: 0 | D103: Bundle Component, not for independent sale
A104: 11615 | B104: ARC RAIL MOUNT, FLEX 2 | C104: 26.15
A105: 11700 | B105: MINI MOLLE MOUNT, AXON RAPIDLOCK | C105: 31.3
A106: 11701 | B106: SEW-ON NYLON LOOP FOR CAMERA MOLLE MOUNT | C106: 3.99
A107: 11702 | B107: ACTION CAMERA MOUNT, AXON RAPIDLOCK | C107: 29.95
A108: 11703 | B108: MINI MOLLE MOUNT, AXON RAPIDLOCK | C108: 29.95
A109: 11704 | B109: JACKET MOUNT, AXON RAPIDLOCK | C109: 29.95
A110: 11705 | B110: SLIM MOUNT, AXON RAPIDLOCK | C110: 29.95
A111: 11706 | B111: LOOP LOCK MOUNT, AXON RAPIDLOCK | C111: 29.95
A112: 11707 | B112: OAKLEY FLAK 2.0 MOUNT, AXON FLEX 2 | C112: 29.95
A113: 71010 | B113: AXON BODY 3 - 1-BAY DOCK POWER SUPPLY, NORTH AMERICA | C113: 10
A114: 71015 | B114: AXON BODY 3 - 1-BAY DOCK POWER SUPPLY, INTERNATIONAL | C114: 10
A115: 71016 | B115: UK POWERCORD, 2M | C115: 10.45
... A134: 74036 | B134: ANCHOR MOUNT, HORIZONTAL, AXON RAPIDLOCK | C134: 31.35
A135: 74048 | B135: 2.5 YEAR TAP FLEX 2 CONTROLLER REPLACEMENT | C135: 0 | D135: Bundle Component, not for independent sale
A136: 74052 | B136: WEARABLE CABLE ASSEMBLY, 6 IN, BLACK, FLEX 2 | C136: 14.3
A137: 74053 | B137: ADAPTER, FLEX 1 TO FLEX 2 DVR MOUNT | C137: 13.6
A138: 74054 | B138: VELCRO MOUNT, RAPID LOCK | C138: 19.9
A139: 74055 | B139: FIRE STROBE - RED | C139: 222
A140: 74056 | B140: TOUCH PANEL WALL MOUNT | C140: 64
A141: 74214 | B141: AXON BODY 3 - 8 BAY DOCK W/O POWER SUPPLY | C141: 1495

Sheet Band2
A2: Public Safety/Law Enforcement Video and Vehicle Mounted Equipment
A3: Attachment D Band 2 - Pricing Workbook
A5: OK- MA - 145 Band 2 - Vehicle Mounted and Recording Devices- Pricing Template
A8: *Third party hardware. Discounting does not apply.
A10: List proposed equipment with brand, model numbers)
A11: Equipment:
A12: SKU | B12: Product Description | C12: Price | D12: 2020 Price | E12: Notes
A13: 11511 | B13: ROUTER ANTENNA, FLEET | C13: 270 | D13: =VLOOKUP(A13,'2020 Price List'!A:C,3,FALSE) -> 270
A14: 70112 | B14: AXON SIGNAL UNIT | C14: 279 | D14: =VLOOKUP(A14,'2020 Price List'!A:C,3,FALSE) -> 279
A15: 71039 | B15: Wi-Fi software license (Per Server) | C15: 600 | D15: =VLOOKUP(A15,'2020 Price List'!A:C,3,FALSE) -> #N/A | E15: Deleted
A16: 74063 | B16: Standard Fleet Installation (Per Vehicle) | C16: 1200 | D16: =VLOOKUP(A16,'2020 Price List'!A:C,3,FALSE) -> 1200
A17: 74064 | B17: Wi-Fi access point (5 concurrent upload) per location | C17: 18745 | D17: =VLOOKUP(A17,'2020 Price List'!A:C,3,FALSE) -> 18745
A18: 74065 | B18: Wi-Fi access point (25 concurrent upload) per location | C18: 32980 | D18: =VLOOKUP(A18,'2020 Price List'!A:C,3,FALSE) -> 32980
A19: 74066 | B19: WI-FI OFFLOAD NETWORK PROFESSIONAL SERVICES | C19: 1000 | D19: =VLOOKUP(A19,'2020 Price List'!A:C,3,FALSE) -> 1000
A20: 74110 | B20: Cable, CAT6 Ethernet 25Ft | C20: 15 | D20: =VLOOKUP(A20,'2020 Price List'!A:C,3,FALSE) -> 15
A21: 80129 | B21: SIGNAL ONLY OR ROUTER ONLY INSTALLATION PER VEHICLE | C21: 250 | D21: =VLOOKUP(A21,'2020 Price List'!A:C,3,FALSE) -> 250
A22: 80131 | B22: Fleet Installation Training | C22: 2500 | D22: =VLOOKUP(A22,'2020 Price List'!A:C,3,FALSE) -> 6000 | E22: Increase Price
A23: 11521* | B23: Cradlepoint - Enterprise Cloud Manager + CradleCare, 5 yr | C23: 550 | D23: =VLOOKUP(A23,'2020 Price List'!A:C,3,FALSE) -> #N/A | E23: Deleted
A24: 11605* | B24: CRADLEPOINT ROUTER - IBR900LP6 | C24: 880 | D24: =VLOOKUP(A24,'2020 Price List'!A:C,3,FALSE) -> #N/A | E24: Deleted
A25: 74074* | B25: Wi-Fi server (10 concurrent upload) (Cost per server) | C25: 3500 | D25: =VLOOKUP(A25,'2020 Price List'!A:C,3,FALSE) -> 3500
A26: 80200 | B26: FLEET WIRELESS MICROPHONE Annual Payment (5 years required) | C26: 72 | D26: =VLOOKUP(A26,'2020 Price List'!A:C,3,FALSE) -> #N/A | E26: Deleted
A28: NEW SKUs / OFFERINGS
A29: List proposed equipment with brand, model numbers)
A30: Equipment:
A31: SKU | B31: Product Description | C31: 2020 Price | D31: Notes
A32: 11606 | B32: SPRING ARM, REPLACEMENT 10-PACK, RAPIDLOCK | C32: 10.45
A33: 11613 | B33: MODEM, FIRSTNET/BAND 14 | C33: 550
A34: 11614 | B34: DOCK, COR EXTENSIBILITY | C34: 180
A35: 11617 | B35: SMALL WALL-MOUNT CABINET WITH CABLE MANAGEMENT | C35: 969
A36: 11618 | B36: LARGE ROLLING CABINET WITH CABLE MANAGEMENT | C36: 1194
A37: 11619 | B37: RACK-MOUNT UPS | C37: 229
A38: 11620 | B38: ADDITIONAL CUSTOM FLEET TRIGGER and INSTALLATION (1 PER) | C38: 99
A39: 11622 | B39: CRADLEPOINT IBR900-600M-NPS + 5YR NETCLOUD ESSENTIALS (PRIME | C39: 1379
A40: 11634 | B40: CRADLEPOINT IBR900-1200M-NPS+5 YEAR NETCLOUD ESSENT (PRIME) | C40: 1509
A41: 11635 | B41: CRADLEPOINT IBR1700-1200M-NPS+5 YEAR NETCLOUD ESSENT (PRIME) | C41: 2159
A42: 11636 | B42: CRADLEPOINT FIPS IBR1700-1200M-NPS+5 YR NETCLD ESSENT PRIME | C42: 2589
A43: 11637 | B43: CRADLEPOINT FIPS IBR900-600M-NPS+5 YEAR NETCLD ESSENT PRIME | C43: 1929
... A96: 72037 | B96: FLEET 3 INTERIOR CAMERA | C96: 500
A97: 72040 | B97: FLEET REFRESH, 2 CAMERA KIT | C97: 0 | D97: Bundle Component, not for independent sale
A98: 72041 | B98: FLEET DUAL-VIEW CAMERA REFRESH | C98: 0 | D98: Bundle Component, not for independent sale
A99: 72042 | B99: FLEET INTERIOR CAMERA REFRESH | C99: 0 | D99: Bundle Component, not for independent sale
A100: 72043 | B100: FLEET HUB REFRESH | C100: 0 | D100: Bundle Component, not for independent sale
A101: 72044 | B101: FLEET WIRELESS MIC REFRESH | C101: 0 | D101: Bundle Component, not for independent sale
A102: 72045 | B102: FLEET CHARGING BASE REFRESH | C102: 0 | D102: Bundle Component, not for independent sale
A103: 72046 | B103: FLEET WIRELESS MIC KIT REFRESH | C103: 0 | D103: Bundle Component, not for independent sale
A104: 74003 | B104: CAMERA SYSTEM, AXON FLEET | C104: 399
A105: 74024 | B105: BATTERY SYSTEM, AXON FLEET | C105: 100
A106: 74025 | B106: MOUNT ASSEMBLY, AXON FLEET | C106: 83.75
A107: 74220 | B107: FLEET 3 2-CAMERA PLACEHOLDER | C107: 1379
A108: 75000 | B108: SIGNAL SIDEARM ADHESIVE MOUNT | C108: 249
A109: 75002 | B109: SIGNAL SIDEARM ADHESIVE MOUNT INSTALLATION KIT (SPARE) | C109: 5
A110: 80206 | B110: FLEET WIRELESS MICROPHONE - 4 YEAR EXTENDED WARRANTY | C110: 41.8
A111: 80213 | B111: FLEET WIRELESS MICROPHONE BUNDLE PAYMENT | C111: 6

Sheet Band3
A2: Public Safety/Law Enforcement Video and Vehicle Mounted Equipment
A3: Attachment D Band 3 - Pricing Workbook
A5: OK - MA - 145 - BAND 3 - Video Storage, Data Security, Software, and Peripherals
A8: List proposed equipment with brand, model numbers)
A9: Equipment:
A10: SKU | B10: Product Description | C10: Price
A11: 50068 | B11: BROADBERRY STORAGE SERVER EXTENDED WARRANTY 5 YEAR | C11: 1248.19 | D11: =VLOOKUP(A11,'2020 Price List'!A:C,3,FALSE) -> #N/A | E11: Deleted
A12: 50089 | B12: COMMANDER EVIDENCE MANAGER SOFTWARE LICENSE | C12: 25000 | D12: =VLOOKUP(A12,'2020 Price List'!A:C,3,FALSE) -> #N/A | E12: Deleted
A13: 50091 | B13: AXON COMMANDER PRO LICENSE | C13: 1000 | D13: =VLOOKUP(A13,'2020 Price List'!A:C,3,FALSE) -> #N/A | E13: Deleted
A14: 50092 | B14: AXON COMMANDER PRO SUPPORT AND MAINTENANCE | C14: 200 | D14: =VLOOKUP(A14,'2020 Price List'!A:C,3,FALSE) -> #N/A | E14: Deleted
A15: 50103 | B15: BROADBERRY STORAGE SERVER - 72TB USABLE | C15: 17831.32 | D15: =VLOOKUP(A15,'2020 Price List'!A:C,3,FALSE) -> #N/A | E15: Deleted
A16: 50155 | B16: COMMANDER SERVER 24TB | C16: 8847.91 | D16: =VLOOKUP(A16,'2020 Price List'!A:C,3,FALSE) -> #N/A | E16: Deleted
A17: 50156 | B17: COMMANDER SERVER 36TB | C17: 9508.86 | D17: =VLOOKUP(A17,'2020 Price List'!A:C,3,FALSE) -> #N/A | E17: Deleted
A18: 50157 | B18: COMMANDER SERVER 54TB | C18: 10796.87 | D18: =VLOOKUP(A18,'2020 Price List'!A:C,3,FALSE) -> #N/A | E18: Deleted
A19: 50158 | B19: COMMANDER SERVER 72TB | C19: 12562.7 | D19: =VLOOKUP(A19,'2020 Price List'!A:C,3,FALSE) -> #N/A | E19: Deleted
A20: 50159 | B20: COMMANDER SERVER 90TB | C20: 16250 | D20: =VLOOKUP(A20,'2020 Price List'!A:C,3,FALSE) -> #N/A | E20: Deleted
A21: 50160 | B21: JBOD - 144TB | C21: 11144.16 | D21: =VLOOKUP(A21,'2020 Price List'!A:C,3,FALSE) -> #N/A | E21: Deleted
A22: 50166 | B22: 5 YEAR HMA - COMMANDER SERVER 24TB | C22: 13271.87 | D22: =VLOOKUP(A22,'2020 Price List'!A:C,3,FALSE) -> #N/A | E22: Deleted
... A36: 80167 | B36: FLEET 2 VIEW XL VEHICLE LICENSE: YEAR 1 PAYMENT | C36: 348 | D36: =VLOOKUP(A36,'2020 Price List'!A:C,3,FALSE) -> #N/A | E36: Deleted
A37: 85035 | B37: Evidence.com storage (GB): 1 year | C37: 0.75 | D37: =VLOOKUP(A37,'2020 Price List'!A:C,3,FALSE) -> 0.75
A38: 85054 | B38: TASER Assurance Plan Axon Flex 2 annual payment | C38: 348 | D38: =VLOOKUP(A38,'2020 Price List'!A:C,3,FALSE) -> #N/A | E38: Deleted
A39: 73260 | B39: Technology Assurance Plan AB3 Annual Payment (60 month term required) | C39: 336 | D39: =VLOOKUP(A39,'2020 Price List'!A:C,3,FALSE) -> #N/A | E39: Deleted
A40: 85070 | B40: TASER Assurance Plan Axon Body 2 annual payment | C40: 240 | D40: =VLOOKUP(A40,'2020 Price List'!A:C,3,FALSE) -> #N/A | E40: Deleted
A41: 85079 | B41: TASER ASSURANCE PLAN DOCK ANNUAL PAYMENT | C41: 36 | D41: =VLOOKUP(A41,'2020 Price List'!A:C,3,FALSE) -> #N/A | E41: Deleted
A42: 85123 | B42: Evidence.com Unlimited Plan annual payment (requires 3 or 5 year term) | C42: 948 | D42: =VLOOKUP(A42,'2020 Price List'!A:C,3,FALSE) -> #N/A | E42: Deleted
A43: 85130 | B43: Officer Safety Plan Standard annual payment (only available for 5-year term) | C43: 1188 | D43: =VLOOKUP(A43,'2020 Price List'!A:C,3,FALSE) -> 1320 | E43: Increase Price
A44: 87001 | B44: Basic Evidence.com license: 1 year | C44: 180 | D44: =VLOOKUP(A44,'2020 Price List'!A:C,3,FALSE) -> #N/A | E44: Deleted
A45: 87026 | B45: TASER ASSURANCE PLAN DOCK 2 ANNUAL PAYMENT | C45: 336 | D45: =VLOOKUP(A45,'2020 Price List'!A:C,3,FALSE) -> #N/A | E45: Deleted
A46: 89001 | B46: Pro Evidence.com license: 1 year | C46: 468 | D46: =VLOOKUP(A46,'2020 Price List'!A:C,3,FALSE) -> #N/A | E46: Deleted
A47: 73452 | B47: OFFICER SAFETY PLAN 7 ANNUAL PAYMENT (60 month term required) | C47: 1788 | D47: =VLOOKUP(A47,'2020 Price List'!A:C,3,FALSE) -> #N/A | E47: Deleted
A48: 73455 | B48: OFFICER SAFETY PLAN 7 PLUS ANNUAL PAYMENT (60 month term required) | C48: 2388 | D48: =VLOOKUP(A48,'2020 Price List'!A:C,3,FALSE) -> #N/A | E48: Deleted
A49: 73422 | B49: AXON RECORDS ANNUAL PAYMENT | C49: 348 | D49: =VLOOKUP(A49,'2020 Price List'!A:C,3,FALSE) -> #N/A | E49: Deleted
... A69: 73413 | B69: AXON AWARE PLUS ANNUAL PAYMENT | C69: 300 | D69: =VLOOKUP(A69,'2020 Price List'!A:C,3,FALSE) -> #N/A | E69: Deleted
A71: NEW SKUs / OFFERINGS
A72: List proposed equipment with brand, model numbers)
A73: Equipment:
A74: SKU | B74: Product Description | C74: 2020 Price | D74: Notes
A75: 20105 | B75: TASER 7 TRADE-IN OSP | C75: 0 | D75: Bundle Component, not for independent sale
A76: 20133 | B76: IN-HOUSE INSTRUCTOR COURSE ONLINE MATERIAL | C76: 30
A77: 20134 | B77: VR EMPATHY DEVELOPMENT STARTER CONTENT PAYMENT | C77: 2.5
A78: 20135 | B78: OCULUS GO STANDALONE VIRTUAL REALITY HEADSET | C78: 300
A79: 20136 | B79: IN-HOUSE INSTRUCTOR COURSE ONLINE MATERIAL TWO YEAR ACCESS | C79: 30
A80: 20242 | B80: TASER CERTIFICATION PROGRAM YEAR 6-10 ACCESS | C80: - | D80: Bundle Component, not for independent sale
A81: 20249 | B81: VR EMPATHY DEVELOPMENT STARTER CONTENT ACCESS | C81: 0 | D81: Bundle Component, not for independent sale
A82: 20259 | B82: VR EMPATHY DEVELOPMENT USER UNLIMITED ACCESS PAYMENT | C82: 5
A83: 20261 | B83: ADD-ON VR EMPATHY DEVELOPMENT USER UNLIMITED ACCESS PAYMENT | C83: 2.5
A84: 20270 | B84: 6DOF VR HEADSET | C84: 600
A85: 20272 | B85: ENTERPRISE UNLIMITED VR CONTENT ACCESS | C85: 0 | D85: Bundle Component, not for independent sale
A86: 20273 | B86: VR EMPATHY DEVELOPMENT ENTERPRISE UNLIMITED ACCESS | C86: 0 | D86: Bundle Component, not for independent sale
A87: 20274 | B87: VR 3 DOF ENTERPRISE BUNDLE PAYMENT | C87: 12500
A88: 20275 | B88: VR 6 DOF ENTERPRISE BUNDLE PAYMENT | C88: 25000
A89: 50070 | B89: AXON CLIENT SOFTWARE (EACH CLIENT AND TOUCH PANEL) | C89: 1500
A90: 50071 | B90: AXON STREAMING SERVER LICENSE (PER SERVER) | C90: 1750
A91: 50072 | B91: AXON STREAMING SERVER SOFTWARE MAINTENANCE ANNUAL PAYMENT | C91: 350
A92: 50074 | B92: AXON CLIENT SOFTWARE MAINTENANCE ANNUAL PAYMENT | C92: 300
A93: 50085 | B93: AXON STREAMING SERVER SOFTWARE MAINTENANCE 5 YEAR UPFRONT | C93: 1750
A94: 50086 | B94: AXON CLIENT SOFTWARE MAINTENANCE 5 YEAR UPFRONT | C94: 1500
A95: 50113 | B95: AXIS F41 COVERT MAIN UNIT | C95: 594.75
A96: 50114 | B96: AXIS F1025 SENSOR UNIT | C96: 370
A97: 50116 | B97: AXIS T8311 PTZ JOYSTICK | C97: 515
A98: 50118 | B98: LOUROE DV-ML MICROPHONE | C98: 196.5
... A148: 50298 | B148: AXIS P3245-LV NETWORK CAMERA | C148: 796
A149: 50300 | B149: AXON DISPATCH LICENSE | C149: 0 | D149: Bundle Component, not for independent sale
A150: 50302 | B150: AXON DISPATCH LICENSE PAYMENT | C150: 50
A151: 70027 | B151: EVIDENCE.COM DOCK, CORE | C151: 314
A152: 70030 | B152: EXTENDED WARRANTY, 2 YEAR,EVIDENCE.COM DOCK, CORE | C152: 82.75
A153: 70031 | B153: EXTENDED WARRANTY, 2 YEAR, EVIDENCE.COM AB2 DOCK, 1-BAY | C153: 51.75
A154: 70032 | B154: EXTENDED WARRANTY, 2 YEAR, EVIDENCE.COM AB2 DOCK, 6-BAY | C154: 434
A155: 73031 | B155: VIEWER, IOS | C155: 277
A156: 73092 | B156: VIEWER, ANDROID TABLET | C156: 261
A157: 73104 | B157: VIEWER, STANDARD ANDROID | C157: 282
A158: 73265 | B158: TRANSFERRED AB3 CAMERA TAP WARRANTY | C158: 0 | D158: Bundle Component, not for independent sale
A159: 73266 | B159: TRANSFERRED AB3 MULTI-BAY DOCK TAP WARRANTY | C159: 0 | D159: Bundle Component, not for independent sale
A160: 73270 | B160: 2 YEAR AB3 CAMERA TAP REPLACEMENT WARRANTY | C160: 0 | D160: Bundle Component, not for independent sale
A161: 73271 | B161: 2 YEAR AB3 1-BAY DOCK TAP REPLACEMENT WARRANTY | C161: 0 | D161: Bundle Component, not for independent sale
A162: 73272 | B162: 2 YEAR AB3 8-BAY DOCK TAP REPLACEMENT WARRANTY | C162: 0 | D162: Bundle Component, not for independent sale
A163: 73273 | B163: 2.5 YEAR AB3 CAMERA TAP REPLACEMENT WARRANTY | C163: 0 | D163: Bundle Component, not for independent sale
A164: 73274 | B164: 2.5 YEAR AB3 1-BAY DOCK TAP REPLACEMENT WARRANTY | C164: 0 | D164: Bundle Component, not for independent sale
A165: 73275 | B165: 2.5 YEAR AB3 8-BAY DOCK TAP REPLACEMENT WARRANTY | C165: 0 | D165: Bundle Component, not for independent sale
A166: 73276 | B166: 3 YEAR AB3 CAMERA TAP REPLACEMENT WARRANTY | C166: 0 | D166: Bundle Component, not for independent sale
A167: 73277 | B167: 3 YEAR AB3 1-BAY DOCK TAP REPLACEMENT WARRANTY | C167: 0 | D167: Bundle Component, not for independent sale
A168: 73278 | B168: 3 YEAR AB3 8-BAY DOCK TAP REPLACEMENT WARRANTY | C168: 0 | D168: Bundle Component, not for independent sale
A169: 73279 | B169: 3.5 YEAR AB3 CAMERA TAP REPLACEMENT WARRANTY | C169: 0 | D169: Bundle Component, not for independent sale
... A184: 73342 | B184: AXON FLEX CONTROLLER REFRESH TWO | C184: 0 | D184: Bundle Component, not for independent sale
A185: 73345 | B185: AXON BODY CAMERA REFRESH THREE | C185: - | D185: Bundle Component, not for independent sale
A186: 73346 | B186: AXON BODY CAMERA REFRESH FOUR | C186: - | D186: Bundle Component, not for independent sale
A187: 73347 | B187: MULTI-BAY BWC DOCK 3RD REFRESH | C187: - | D187: Bundle Component, not for independent sale
A188: 73348 | B188: MULTI-BAY BWC DOCK 4TH REFRESH | C188: - | D188: Bundle Component, not for independent sale
A189: 73419 | B189: AWARE PLUS LICENSE UPGRADE PAYMENT | C189: 16
A190: 73431 | B190: CITIZEN FOR COMMUNITIES 1-10 SWORN PAYMENT | C190: 175
A191: 73441 | B191: REDACTION ASSISTANT 1-10 SWORN PAYMENT | C191: 175
A192: 73447 | B192: AWARE TO AWARE PLUS UPGRADE LICENSE | C192: 0 | D192: Bundle Component, not for independent sale
A193: 73448 | B193: AWARE TO AWARE PLUS UPGRADE LICENSE PAYMENT | C193: 16
A194: 73449 | B194: AWARE LICENSE | C194: 0 | D194: Bundle Component, not for independent sale
A195: 73474 | B195: REDACTION ASSISTANT 11-30 SWORN PAYMENT | C195: 325
A196: 73477 | B196: REDACTION ASSISTANT ACCESS UPGRADE TO 11-30 | C196: 0 | D196: Bundle Component, not for independent sale
A197: 73484 | B197: REDACTION ASSISTANT 31-50 SWORN PAYMENT | C197: 625
A198: 73487 | B198: REDACTION ASSISTANT ACCESS UPGRADE TO 31-50 | C198: 0 | D198: Bundle Component, not for independent sale
A199: 73497 | B199: REDACTION ASSISTANT 51-150 SWORN PAYMENT | C199: 1200
A200: 73498 | B200: REDACTION ASSISTANT ACCESS UPGRADE TO 51-150 | C200: 0 | D200: Bundle Component, not for independent sale
...
